Workbook

Sheet PLAT
A1: A. Data Bahan Struktur
A2: Kuat Tekan Beton | C2: Fc | D2: 25 | E2: Mpa
A3: Tegangan leleh baja untuk tegangan lentur | C3: Fy | D3: 240 | E3: Mpa
A4: koefisien momen plat untuk, (β) | C4: β₁ | D4: 0.85 | E4: fc ≤ 30 Mpa | O4: Plat lantai minimal 12 cm atau 0,12 m
O5: Plat atap minimal 8 cm atau 0,08 m
A6: B. Data Plat Lantai | I6: Tabel Tebal Plat Lantai
I7: Type plat | J7: Ly | K7: Lx | L7: Ln | M7: β | N7: h min | O7: h max | P7: h dipakai
J8: (m) | K8: (m) | L8: (m) | M8: Ly/Lx | N8: (m) | O8: (m) | P8: (m)
A9: Panjang bentang plat arah x, (Lx) | I9: a | J9: 3 | K9: 1.5 | L9: =MAX(J9:K9) -> 3 | M9: =J9/K9 -> 2 | N9: =((0.8+(D$3/1500))/(36+(9*D$4)))*L9 -> 0.065979381 | O9: =((0.8+(D$3/1500))/(36))*L9 -> 0.08 | P9: 0.12
A10: panjang bentang plat arah y, (Ly) | I10: b | J10: 3.5 | K10: 3 | L10: =MAX(J10:K10) -> 3.5 | M10: =J10/K10 -> 1.1666667 | N10: =((0.8+(D$3/1500))/(36+(9*D$4)))*L10 -> 0.076975945 | O10: =((0.8+(D$3/1500))/(36))*L10 -> 0.093333333 | P10: 0.12
A11: tebal plat lantai, (h) | C11: β1 | D11: = 0,85 | E11: ,untuk fc’ ≤ 30 MPa | I11: c | J11: 3.5 | K11: 3.5 | L11: =MAX(J11:K11) -> 3.5 | M11: =J11/K11 -> 1 | N11: =((0.8+(D$3/1500))/(36+(9*D$4)))*L11 -> 0.076975945 | O11: =((0.8+(D$3/1500))/(36))*L11 -> 0.093333333 | P11: 0.12
A12: koefisien momen plat untuk, (β) | C12: β1 | D12: = 0.85 – ((fc’ – 30)/7)0.05 | F12: ,untuk fc’ >30 MPa | I12: d | J12: 4 | K12: 1.725 | L12: =MAX(J12:K12) -> 4 | M12: =J12/K12 -> 2.3188406 | N12: =((0.8+(D$3/1500))/(36+(9*D$4)))*L12 -> 0.087972509 | O12: =((0.8+(D$3/1500))/(36))*L12 -> 0.10666667 | P12: 0.12
C13: β1 | D13: = 0.65 (minimum) | I13: e | J13: 3.5 | K13: 2 | L13: =MAX(J13:K13) -> 3.5 | M13: =J13/K13 -> 1.75 | N13: =((0.8+(D$3/1500))/(36+(9*D$4)))*L13 -> 0.076975945 | O13: =((0.8+(D$3/1500))/(36))*L13 -> 0.093333333 | P13: 0.12
I14: f | J14: 3.5 | K14: 1 | L14: =MAX(J14:K14) -> 3.5 | M14: =J14/K14 -> 3.5 | N14: =((0.8+(D$3/1500))/(36+(9*D$4)))*L14 -> 0.076975945 | O14: =((0.8+(D$3/1500))/(36))*L14 -> 0.093333333 | P14: 0.12
A15: C. Beban Plat Lantai | I15: g | J15: 2.5 | K15: 2 | L15: =MAX(J15:K15) -> 2.5 | M15: =J15/K15 -> 1.25 | N15: =((0.8+(D$3/1500))/(36+(9*D$4)))*L15 -> 0.054982818 | O15: =((0.8+(D$3/1500))/(36))*L15 -> 0.066666667 | P15: 0.12
A16: 1. Beban Mati (Dead Load)
A17: No | B17: Jenis Beban Mati | C17: Berat Satuan | D17: Tebal (m) | E17: q(KN/m²)
A18: 1 | B18: Berat sendiri plat lantai (KN/m³) | C18: 24 | D18: 0.12 | E18: =C18*D18 -> 2.88
A19: 2 | B19: Berat spasi lantai (KN/m³) | C19: 21 | D19: 0.03 | E19: =C19*D19 -> 0.63
A20: 3 | B20: Berat Keramik | C20: 0.24 | D20: - | E20: =C20 -> 0.24
A21: 4 | B21: Urugan Pasir | C21: 14 | D21: 0.03 | E21: =D21*C21 -> 0.42
A22: 5 | B22: Berat plafon dan rangka (KN/m³) | C22: =0.11+0.08 -> 0.19 | D22: - | E22: =C22 -> 0.19
A23: Total beban mati | C23: qD | E23: =SUM(E18:E22) -> 4.36
A25: 2. Beban Hidup (Live Load)
A26: Beban hidup pada lantai bangunan | C26: 200 | D26: kg/m²
B27: qL | C27: =C26/100 -> 2 | D27: KN/m²
A29: 3. Beban Rencana Terfaktor
A30: Beban rencana terfaktor
B31: qu | C31: 1,2*qD + 1,6*qL | D31: KN/m²
B32: qu | C32: =(1.2*E23)+(1.6*C27) -> 8.432 | D32: KN/m²
A34: 4. Momen Plat Akibat Beban Terfaktor
A36: Momen lapangan arah x, | C36: Mulx | D36: Clx*0.001*qu*Lx²
A37: Momen lapangan arah y, | C37: Muly | D37: Cly*0.001*qu*Lx² | I37: Tabel momen plat lantai
A38: Momen tumpuan arah x, | C38: Mutx | D38: Ctx*0.001*qu*Lx² | I38: Type plat | J38: Ly | K38: Lx | L38: Perb. Ly/Lx | M38: Clx | N38: Cly | O38: Ctx | P38: Cty | Q38: Mulx | R38: Muly | S38: Mutx | T38: Muty | U38: Mu Max | V38: Mu Max pakai
A39: Momen tumpuan arah y, | C39: Muty | D39: Cty*0.001*qu*Lx² | J39: (m) | K39: (m) | U39: (KNm/m) | V39: (KNm/m)
A40: Momen rencana (Maks) plat, | I40: a | J40: =J9 -> 3 | K40: =K9 -> 1.5 | L40: =J40/K40 -> 2 | M40: 41 | N40: 12 | O40: 83 | P40: 57 | Q40: =M40*0.001*C$32*K40*K40 -> 0.777852 | R40: =N40*0.001*C$32*K40*K40 -> 0.227664 | S40: =O40*0.001*C$32*K40*K40 -> 1.574676 | T40: =P40*0.001*C$32*K40*K40 -> 1.081404 | U40: =S40 -> 1.574676 | V40: =MAX(U40:U46) -> 5.371184
I41: b | J41: =J10 -> 3.5 | K41: =K10 -> 3 | L41: =J41/K41 -> 1.1666667 | M41: 28 | N41: 20 | O41: 64 | P41: 56 | Q41: =M41*0.001*C$32*K41*K41 -> 2.124864 | R41: =N41*0.001*C$32*K41*K41 -> 1.51776 | S41: =O41*0.001*C$32*K41*K41 -> 4.856832 | T41: =P41*0.001*C$32*K41*K41 -> 4.249728 | U41: =S41 -> 4.856832
A42: D. Penulangan Plat | I42: c | J42: =J11 -> 3.5 | K42: =K11 -> 3.5 | L42: =J42/K42 -> 1 | M42: 21 | N42: 21 | O42: 52 | P42: 52 | Q42: =M42*0.001*C$32*K42*K42 -> 2.169132 | R42: =N42*0.001*C$32*K42*K42 -> 2.169132 | S42: =O42*0.001*C$32*K42*K42 -> 5.371184 | T42: =P42*0.001*C$32*K42*K42 -> 5.371184 | U42: =S42 -> 5.371184
A43: Untuk : fc' ≤ 30 Mpa | I43: d | J43: =J12 -> 4 | K43: =K12 -> 1.725 | L43: =J43/K43 -> 2.3188406 | M43: 42 | N43: 11 | O43: 83 | P43: 57 | Q43: =M43*0.001*C$32*K43*K43 -> 1.0537997 | R43: =N43*0.001*C$32*K43*K43 -> 0.27599517 | S43: =O43*0.001*C$32*K43*K43 -> 2.082509 | T43: =P43*0.001*C$32*K43*K43 -> 1.4301568 | U43: =S43 -> 2.082509
A44: Diameter besi | C44: Ø | D44: 10 | I44: e | J44: =J13 -> 3.5 | K44: =K13 -> 2 | L44: =J44/K44 -> 1.75 | M44: 40 | N44: 13 | O44: 82 | P44: 57 | Q44: =M44*0.001*C$32*K44*K44 -> 1.34912 | R44: =N44*0.001*C$32*K44*K44 -> 0.438464 | S44: =O44*0.001*C$32*K44*K44 -> 2.765696 | T44: =P44*0.001*C$32*K44*K44 -> 1.922496 | U44: =S44 -> 2.765696
A45: Faktor bentuk distribusi tegangan beton, | C45: β₁ | D45: =D4 -> 0.85 | I45: f | J45: =J14 -> 3.5 | K45: =K14 -> 1 | L45: =J45/K45 -> 3.5 | M45: 42 | N45: 8 | O45: 83 | P45: 57 | Q45: =M45*0.001*C$32*K45*K45 -> 0.354144 | R45: =N45*0.001*C$32*K45*K45 -> 0.067456 | S45: =O45*0.001*C$32*K45*K45 -> 0.699856 | T45: =P45*0.001*C$32*K45*K45 -> 0.480624 | U45: =S45 -> 0.699856
A46: Rasio tulangan pada kondisi balance, | C46: ρb | D46: (0.85*fc'/fy)*β₁*(600/(600+fy)) | I46: g | J46: =J15 -> 2.5 | K46: =K15 -> 2 | L46: =J46/K46 -> 1.25 | M46: 31 | N46: 19 | O46: 69 | P46: 57 | Q46: =M46*0.001*C$32*K46*K46 -> 1.045568 | R46: =N46*0.001*C$32*K46*K46 -> 0.640832 | S46: =O46*0.001*C$32*K46*K46 -> 2.327232 | T46: =P46*0.001*C$32*K46*K46 -> 1.922496 | U46: =S46 -> 2.327232
A47: Faktor Reduksi Kekuatan lentur, | C47: ᶲ | D47: 0.8
A48: Jarak tulangan Terhadap sisi luar beton, | C48: ds=d' | D48: ts+Ø/2 | G48: mm | I48: Tabel Penulangan Plat Lantai
A49: Tebal efektif plat lantai, | C49: d | D49: h-ds | G49: mm | I49: Type Plat | J49: h | K49: Ø | L49: ts | M49: β₁ | N49: ρb | O49: ᶲ | P49: ds = d' | Q49: d | R49: b | S49: Mu | T49: Mn = Mu/ᶲ | U49: Rn | V49: ρ | W49: ρmin | X49: ρmax | Y49: ρ (dipakai) | Z49: As | AA49: s | AB49: spakai | AC49: Smax | AD49: At
A50: Ditinjau plat lantai selebar 1 m, | C50: b | D50: 1000 | G50: mm | J50: (mm) | K50: (mm) | L50: (mm) | P50: (mm) | Q50: (mm) | R50: (mm) | S50: =U39 -> (KNm/m) | T50: (kN.m/m) | U50: (mm) | Z50: (mm²) | AA50: (mm) | AB50: (mm) | AC50: (mm) | AD50: (mm²)
A51: Tebal Selimut | C51: ts | D51: 25 | G51: mm | I51: a | J51: =P$9*1000 -> 120 | K51: =D$44 -> 10 | L51: =D$51 -> 25 | M51: =D$4 -> 0.85 | N51: =(0.85*D$2/D$3)*D$4*(600/(600+D$3)) -> 0.05375744 | O51: 0.8 | P51: =L51+(K51/2) -> 30 | Q51: =J51-P51 -> 90 | R51: 1000 | S51: =V$40 -> 5.371184 | T51: =S51/O51 -> 6.71398 | U51: =T51*1000000/(R51*Q51*Q51) -> 0.82888642 | V51: =0.85*(D$2/D$3)*(1-(SQRT(1-2*U51/(0.85*D$2)))) -> 0.0035238145 | W51: =1.4/D$3 -> 0.0058333333 | X51: =0.75*N51 -> 0.04031808 | Y51: =MAX(V51:W51) -> 0.0058333333 | Z51: =Y51*R51*Q51 -> 525 | AA51: =0.25*3.14*K51*K51*R51/Z51 -> 149.52381 | AB51: =125 -> 125 | AC51: 200 | AD51: =0.25*3.14*K51*K51*R51/AB51 -> 628
A52: Momen ultimit | C52: Mu | D52: =V40 -> 5.371184 | I52: b | J52: =P$9*1000 -> 120 | K52: =D$44 -> 10 | L52: =D$51 -> 25 | M52: =D$4 -> 0.85 | N52: =(0.85*D$2/D$3)*D$4*(600/(600+D$3)) -> 0.05375744 | O52: 0.8 | P52: =L52+(K52/2) -> 30 | Q52: =J52-P52 -> 90 | R52: 1000 | S52: =V$40 -> 5.371184 | T52: =S52/O52 -> 6.71398 | U52: =T52*1000000/(R52*Q52*Q52) -> 0.82888642 | V52: =0.85*(D$2/D$3)*(1-(SQRT(1-2*U52/(0.85*D$2)))) -> 0.0035238145 | W52: =1.4/D$3 -> 0.0058333333 | X52: =0.75*N52 -> 0.04031808 | Y52: =MAX(V52:W52) -> 0.0058333333 | Z52: =Y52*R52*Q52 -> 525 | AA52: =0.25*3.14*K52*K52*R52/Z52 -> 149.52381 | AB52: =125 -> 125 | AC52: 200 | AD52: =0.25*3.14*K52*K52*R52/AB52 -> 628
A53: Momen nominal rencana, | C53: Mn | D53: Mu/Ø | G53: kNm | I53: c | J53: =P$9*1000 -> 120 | K53: =D$44 -> 10 | L53: =D$51 -> 25 | M53: =D$4 -> 0.85 | N53: =(0.85*D$2/D$3)*D$4*(600/(600+D$3)) -> 0.05375744 | O53: 0.8 | P53: =L53+(K53/2) -> 30 | Q53: =J53-P53 -> 90 | R53: 1000 | S53: =V$40 -> 5.371184 | T53: =S53/O53 -> 6.71398 | U53: =T53*1000000/(R53*Q53*Q53) -> 0.82888642 | V53: =0.85*(D$2/D$3)*(1-(SQRT(1-2*U53/(0.85*D$2)))) -> 0.0035238145 | W53: =1.4/D$3 -> 0.0058333333 | X53: =0.75*N53 -> 0.04031808 | Y53: =MAX(V53:W53) -> 0.0058333333 | Z53: =Y53*R53*Q53 -> 525 | AA53: =0.25*3.14*K53*K53*R53/Z53 -> 149.52381 | AB53: =125 -> 125 | AC53: 200 | AD53: =0.25*3.14*K53*K53*R53/AB53 -> 628
A54: Faktor Tahanan momen, | C54: Rn | D54: Mn*10^-6/ (b*d²) | I54: d | J54: =P$9*1000 -> 120 | K54: =D$44 -> 10 | L54: =D$51 -> 25 | M54: =D$4 -> 0.85 | N54: =(0.85*D$2/D$3)*D$4*(600/(600+D$3)) -> 0.05375744 | O54: 0.8 | P54: =L54+(K54/2) -> 30 | Q54: =J54-P54 -> 90 | R54: 1000 | S54: =V$40 -> 5.371184 | T54: =S54/O54 -> 6.71398 | U54: =T54*1000000/(R54*Q54*Q54) -> 0.82888642 | V54: =0.85*(D$2/D$3)*(1-(SQRT(1-2*U54/(0.85*D$2)))) -> 0.0035238145 | W54: =1.4/D$3 -> 0.0058333333 | X54: =0.75*N54 -> 0.04031808 | Y54: =MAX(V54:W54) -> 0.0058333333 | Z54: =Y54*R54*Q54 -> 525 | AA54: =0.25*3.14*K54*K54*R54/Z54 -> 149.52381 | AB54: =125 -> 125 | AC54: 200 | AD54: =0.25*3.14*K54*K54*R54/AB54 -> 628
A55: Rasio Tulangan yang diperlukan, | C55: ρ | D55: 0.85*fc'/fy*[1-√[1-(2*Rn/(0.85*fc'))] | I55: e | J55: =P$9*1000 -> 120 | K55: =D$44 -> 10 | L55: =D$51 -> 25 | M55: =D$4 -> 0.85 | N55: =(0.85*D$2/D$3)*D$4*(600/(600+D$3)) -> 0.05375744 | O55: 0.8 | P55: =L55+(K55/2) -> 30 | Q55: =J55-P55 -> 90 | R55: 1000 | S55: =V$40 -> 5.371184 | T55: =S55/O55 -> 6.71398 | U55: =T55*1000000/(R55*Q55*Q55) -> 0.82888642 | V55: =0.85*(D$2/D$3)*(1-(SQRT(1-2*U55/(0.85*D$2)))) -> 0.0035238145 | W55: =1.4/D$3 -> 0.0058333333 | X55: =0.75*N55 -> 0.04031808 | Y55: =MAX(V55:W55) -> 0.0058333333 | Z55: =Y55*R55*Q55 -> 525 | AA55: =0.25*3.14*K55*K55*R55/Z55 -> 149.52381 | AB55: =125 -> 125 | AC55: 200 | AD55: =0.25*3.14*K55*K55*R55/AB55 -> 628
A56: Rasio Tulangan minimum, | C56: ρmin | D56: → | I56: f | J56: =P$9*1000 -> 120 | K56: =D$44 -> 10 | L56: =D$51 -> 25 | M56: =D$4 -> 0.85 | N56: =(0.85*D$2/D$3)*D$4*(600/(600+D$3)) -> 0.05375744 | O56: 0.8 | P56: =L56+(K56/2) -> 30 | Q56: =J56-P56 -> 90 | R56: 1000 | S56: =V$40 -> 5.371184 | T56: =S56/O56 -> 6.71398 | U56: =T56*1000000/(R56*Q56*Q56) -> 0.82888642 | V56: =0.85*(D$2/D$3)*(1-(SQRT(1-2*U56/(0.85*D$2)))) -> 0.0035238145 | W56: =1.4/D$3 -> 0.0058333333 | X56: =0.75*N56 -> 0.04031808 | Y56: =MAX(V56:W56) -> 0.0058333333 | Z56: =Y56*R56*Q56 -> 525 | AA56: =0.25*3.14*K56*K56*R56/Z56 -> 149.52381 | AB56: =125 -> 125 | AC56: 200 | AD56: =0.25*3.14*K56*K56*R56/AB56 -> 628
A57: Rasio tulangan yang digunakan, | C57: ρ | D57: → | I57: g | J57: =P$9*1000 -> 120 | K57: =D$44 -> 10 | L57: =D$51 -> 25 | M57: =D$4 -> 0.85 | N57: =(0.85*D$2/D$3)*D$4*(600/(600+D$3)) -> 0.05375744 | O57: 0.8 | P57: =L57+(K57/2) -> 30 | Q57: =J57-P57 -> 90 | R57: 1000 | S57: =V$40 -> 5.371184 | T57: =S57/O57 -> 6.71398 | U57: =T57*1000000/(R57*Q57*Q57) -> 0.82888642 | V57: =0.85*(D$2/D$3)*(1-(SQRT(1-2*U57/(0.85*D$2)))) -> 0.0035238145 | W57: =1.4/D$3 -> 0.0058333333 | X57: =0.75*N57 -> 0.04031808 | Y57: =MAX(V57:W57) -> 0.0058333333 | Z57: =Y57*R57*Q57 -> 525 | AA57: =0.25*3.14*K57*K57*R57/Z57 -> 149.52381 | AB57: =125 -> 125 | AC57: 200 | AD57: =0.25*3.14*K57*K57*R57/AB57 -> 628
A58: Luas tulangan yang diperlukan, | C58: As | D58: → | G58: mm²
A59: Jarak tulangan yang diperlukan, | C59: s | D59: ∏/4*Ø²*b/As | G59: mm
A60: Jarak tulangan Maksimum, | C60: Smax | D60: 2*h | G60: mm
A61: Jarak tulangan Maksimum, | C61: Smax | D61: → | G61: mm
A62: Jarak Sengkang yang harus digunakan | C62: s | D62: → | G62: mm
A63: Diambil jarak sengkang: | C63: s | D63: → | G63: mm
A64: Digunakan tulangan, | C64: Ø | D64: =D44 -> 10 | E64: - | F64: =AB51 -> 125
A65: luas tulangan terpakai, | C65: At | D65: ∏/4*Ø²*b/s | G65: mm²

Sheet Sheet1

Sheet QE & MOMEN
W1: balok As A (3-4)
Y2: v AS 6
B3: A. Perhitungan q equivalen plat | X3: q1 | Y3: q2
H4: Tabel q eqivalen plat lantai | V4: 4
B5: qe = | C5: 0,25 * q * Lx | H5: Nama | I5: Ly | J5: Lx | K5: qu Plat | L5: qe | M5: qe | Z5: 7
H6: Plat | I6: (m) | J6: (m) | K6: kN/m2 | L6: kN/m' | M6: kN/m' | W6: M4 | Y6: M7
H7: a | I7: =PLAT!J9 -> 3 | J7: =PLAT!K9 -> 1.5 | K7: =C$11 -> 8.432 | L7: =0.25*K7*J7 -> 3.162 | M7: =(0.5*((I7/J7)-0.5)*K7*J7*J7)/I7 -> 4.743 | V7: V4 | W7: L1= 3,00M | Y7: L2=1M
B8: qe = | C8: 0,5 * ((Ly / Lx) - 0,5 )* q * Lx² | H8: b | I8: =PLAT!J10 -> 3.5 | J8: =PLAT!K10 -> 3 | K8: =C$11 -> 8.432 | L8: =0.25*K8*J8 -> 6.324 | M8: =(0.5*((I8/J8)-0.5)*K8*J8*J8)/I8 -> 7.2274286 | Z8: V7
C9: Ly | H9: c | I9: =PLAT!J11 -> 3.5 | J9: =PLAT!K11 -> 3.5 | K9: =C$11 -> 8.432 | L9: =0.25*K9*J9 -> 7.378 | M9: - | W9: Mu = 1/12 x qu x L^2 | AT9: jarak m maks | AU9: =BE22-AW22 -> -22.671804 | AV9: =BE22*AS22/(BE22-AU9) -> 2.0206753
H10: d | I10: =PLAT!J12 -> 4 | J10: =PLAT!K12 -> 1.725 | K10: =C$11 -> 8.432 | L10: =0.25*K10*J10 -> 3.6363 | M10: =(0.5*((I10/J10)-0.5)*K10*J10*J10)/I10 -> 5.7044456 | W10: baik tumpuan atau lapangan
B11: qu Plat : | C11: =PLAT!C32 -> 8.432 | D11: kN/m² | H11: e | I11: =PLAT!J13 -> 3.5 | J11: =PLAT!K13 -> 2 | K11: =C$11 -> 8.432 | L11: =0.25*K11*J11 -> 4.216 | M11: =(0.5*((I11/J11)-0.5)*K11*J11*J11)/I11 -> 6.0228571 | W11: V3=V4 = 0,5 x qu total x L | AU11: =BE24-AW24 -> -15.600339 | AV11: =BE24*AS24/(BE24-AU11) -> 2.1238718
B12: (ambil dari perhitungan beban plat) | H12: f | I12: =PLAT!J14 -> 3.5 | J12: =PLAT!K14 -> 1 | K12: =C$11 -> 8.432 | L12: =0.25*K12*J12 -> 2.108 | M12: =(0.5*((I12/J12)-0.5)*K12*J12*J12)/I12 -> 3.6137143
H13: g | I13: =PLAT!J15 -> 2.5 | J13: =PLAT!K15 -> 2 | K13: =C$11 -> 8.432 | L13: =0.25*K13*J13 -> 4.216 | M13: =(0.5*((I13/J13)-0.5)*K13*J13*J13)/I13 -> 5.0592 | W13: ΣM7 = 0 | BE13: V4=((q1.L1).(L2+0,5L1) + P.L2+ (q2.L2).0,5L2 + M4 - M7)/L
W14: V4. L -(q1.L1).(L2+0,5L1) - P.L2 - (q2.L2).0,5L2 - M4 + M7 = 0 | BA14: M tumpuan | BD14: Mki total
W15: V4=((q1.L1).(L2+0,5L1) + P.L2+ (q2.L2).0,5L2 + M4 - M7)/L | AX15: ά1=L1/L | AY15: ά2=L2/L | BA15: Mq1 | BB15: Mq2 | BC15: Mp | BF15: Vki
W16: ΣM4 = 0 | AX16: =AS24/AU24 -> 0.75 | AY16: =AT24/AU24 -> 0.25 | BA16: =AV24*AS24*AU24*AX16*(3*AX16^2-8*AX16+6)/12 -> 22.535719 | BB16: =AX22*AT22*AU22*AY16*(4-AY16)/12 -> 3.2288893 | BC16: =AZ22*AS22*AT22^2/AU22^2 -> 7.2432188 | BD16: =BA16+BB16+BC16 -> 33.007827 | BE16: Mkiri | BF16: =((AV22*AS22)*(AT22+0.5*AS22)+(AZ22*AT22)+(AX22*AT22)*0.5*AT22+BA22-BB22)/AU22 -> 46.779533
B17: B. Perhitungan Momen Pada Balok Memanjang / Arah Y | W17: V7 = ketemu | AF17: Perhitungan Momen Pada Balok Induk Memanjang / Arah Y | BA17: =AV22*AS22*AU22*AX16^2*(4-AX16)/12 -> 42.321908 | BB17: =AX22*AT22*AU22*AY16*(3*AY16^2-8*AY16+6)/12 -> 3.605593 | BC17: =AZ22*AT22*AS22^2/AU22^2 -> 21.729656 | BD17: =BA17+BB17+BC17 -> 67.657158 | BE17: Mka | BH17: Perhitungan Reaksi Tumpuan
B19: fy | C19: = | D19: =PLAT!D3 -> 240 | E19: Mpa | F19: besi polos | J19: perkiraan tinggi balok | L19: h= (1/10-1/16)L | N19: As Balok | Q19: h | R19: hmin | S19: h (dipakai) | T19: b | U19: b (min) | V19: b (dipakai) | W19: qu BS | X19: qe Plat | Y19: qu Tembok | Z19: qu total | AA19: Momen | AB19: V (ki) | AC19: V (ka) | AD19: Ket | AF19: As Balok | AI19: h | AJ19: h (dipakai) | AK19: b | AL19: b (dipakai) | AM19: qu BS | AN19: qu Tembok | AO19: qe | AQ19: qe | AS19: L1 | AT19: L2 | AU19: L total | AV19: q1 | AW19: Q1 | AX19: q2 | AY19: Q2 | AZ19: P | BA19: Momen (ki) | BB19: Momen (ka) | BC19: Momen (lap) | BD19: Perhitungan Momen Lap. pada lampiran | BE19: V (ki) | BF19: V (ka) | BH19: As Balok | BK19: V (ki) | BP19: Jumlah ↑ | BR19: V (ka) | BW19: Jumlah ↑ | CL19: BALOK AS B (4-7)
B20: d' | C20: = | D20: =PLAT!P$51 -> 30 | E20: mm | J20: b = (1/2- 3/4) h | N20: (m) | Q20: (m) | R20: (m) | S20: (m) | T20: (m) | U20: (m) | V20: (m) | W20: kN/m | X20: kN/m' | Y20: kN/m' | Z20: kN/m' | AA20: kN.m | AB20: KN | AC20: KN | AF20: (m) | AI20: (m) | AJ20: (m) | AK20: (m) | AL20: (m) | AM20: kN/m | AN20: kN/m' | AO20: kN/m' | AQ20: kN/m' | AS20: (m) | AT20: (m) | AU20: (m) | AV20: kN/m' | AW20: kN/m' | AX20: kN/m' | AY20: kN/m' | AZ20: KN | BA20: kN.m | BB20: kN.m | BC20: kN.m | BE20: KN ↑ | BF20: KN ↑ | BH20: (m)
B21: Bj Beton | C21: = | D21: 24 | E21: kN/m3 | N21: A | O21: (2-3) | X21: plat a | AF21: B | AG21: =O33 -> (4-7) | AO21: Plat e | AP21: Plat f | AQ21: Plat d | BH21: B | BI21: =AG21 -> (4-7) | BK21: P ↑ | BL21: q1 ↑ | BM21: q2 ↑ | BN21: M4 ↑ | BO21: M7↓ | BR21: P ↑ | BS21: q1 ↑ | BT21: q2 ↑ | BU21: M4 ↓ | BV21: M7 ↑
B22: fc | C22: = | D22: =PLAT!D2 -> 25 | E22: Mpa | J22: bs tembok = tebal x tinggi x bj pas | O22: L: | P22: 1.5 | Q22: 0.3 | R22: 0.2 | S22: =MAX(Q22:R22) -> 0.3 | T22: 0.2 | U22: =0.15 -> 0.15 | V22: =MAX(T22:U22) -> 0.2 | W22: =1.2*D$21*S22*V$22 -> 1.728 | X22: =L7 -> 3.162 | Y22: =1.2*D$24*D$25*D$23 -> 10.71 | Z22: =SUM(W22:Y22) -> 15.6 | AA22: =1/12*Z22*(P22)^2 -> 2.925 | AB22: =1/2*Z22*P22 -> 11.7 | AC22: =1/2*Z22*P22 -> 11.7 | AG22: =O34 -> L: | AH22: =P34 -> 4 | AI22: =Q34 -> 0.4 | AJ22: 0.35 | AK22: =T34 -> 0.25 | AL22: =V34 -> 0.25 | AM22: =1.2*AJ22*AL22*D$21 -> 2.52 | AN22: =1.2*D$23*D$24*D$25 -> 10.71 | AO22: =L11 -> 4.216 | AP22: =L12 -> 2.108 | AQ22: =M10 -> 5.7044456 | AS22: 3 | AT22: 1 | AU22: =SUM(AS22:AT22) -> 4 | AV22: =AM22+AN22+AO22+AQ22 -> 23.150446 | AW22: =AV22*AS22 -> 69.451337 | AX22: =AM22+AP22+AQ22 -> 10.332446 | AY22: =AX22*AT22 -> 10.332446 | AZ22: =AB60 -> 38.6305 | BA22: =((AV22*AS22*AU22*(AS22/AU22)/12)*((3*((AS22/AU22)^2))-(8*(AS22/AU22))+6))+((AX22*AT22*AU22*((AT22/AU22)^2)/12)*(4-(AT22/AU22)))+((AZ22*AS22*AT22^2)/AU22^2) -> 37.350224 | BB22: =((AV22*AS22*AU22*((AS22/AU22)^2)/12)*(4-(AS22/AU22)))+((AX22*AT22*AU22*(AT22/AU22)/12)*((3*(AT22/AU22)^2)-(8*(AT22/AU22))+6))+(((AZ22*AT22*AS22^2)/AU22^2)) -> 67.657158 | BC22: =(BE22*AV9)-(0.5*AV22*AV9^2)-BA22 -> 9.9128985 | BE22: =BP22 -> 46.779533 | BF22: =BW22 -> 71.63475 | BI22: =AG22 -> L: | BJ22: =AH22 -> 4 | BK22: =AZ22*AT22/AU22 -> 9.657625 | BL22: =(AW22*((1/2*AS22)+AT22))/AU22 -> 43.407086 | BM22: =(AY22*(1/2*AT22)/AU22) -> 1.2915557 | BN22: =BA22/AU22 -> 9.337556 | BO22: =BB22/AU22 -> 16.914289 | BP22: =BK22+BL22+BM22+BN22-BO22 -> 46.779533 | BR22: =(AZ22*AS22)/AU22 -> 28.972875 | BS22: =(AW22*(1/2*AS22)/AU22) -> 26.044251 | BT22: =(AY22*((1/2*AT22)+AS22)/AU22) -> 9.0408899 | BU22: =BA22/AU22 -> 9.337556 | BV22: =BB22/AU22 -> 16.914289 | BW22: =BR22+BS22+BT22-BU22+BV22 -> 71.63475
B23: Tebal Tembok | C23: = | D23: 0.15 | E23: m | J23: bs balok = b x h x bj beton | O23: (3-4) | X23: plat b | AF23: D | AG23: =O39 -> (4-7) | AO23: Plat e | AP23: Plat f | BH23: D | BI23: =AG23 -> (4-7) | BK23: P ↑ | BL23: q1 ↑ | BM23: q2 ↑ | BN23: M4 ↑ | BO23: M7 ↓ | BR23: P ↑ | BS23: q1 ↑ | BT23: q2 ↑ | BU23: M4 ↓ | BV23: M7 ↑
B24: Tinggi Tembok | C24: = | D24: 3.5 | E24: m | O24: L: | P24: 3.5 | Q24: =ROUNDUP((1/12*P24),1) -> 0.3 | R24: 0.2 | S24: 0.25 | T24: 0.2 | U24: =0.15 -> 0.15 | V24: =MAX(T24:U24) -> 0.2 | W24: =1.2*D$21*S24*V24 -> 1.44 | X24: =M8 -> 7.2274286 | Y24: =1.2*D$24*D$25*D$23 -> 10.71 | Z24: =SUM(W24:Y24) -> 19.377429 | AA24: =1/12*Z24*(P24)^2 -> 19.781125 | AB24: =1/2*Z24*P24 -> 33.9105 | AC24: =1/2*Z24*P24 -> 33.9105 | AG24: =O40 -> L: | AH24: =P40 -> 4 | AI24: =Q40 -> 0.4 | AJ24: =S40 -> 0.4 | AK24: =T40 -> 0.25 | AL24: =V40 -> 0.25 | AM24: =1.2*AJ24*AL24*D$21 -> 2.88 | AN24: =1.2*D$23*D$24*D$25 -> 10.71 | AO24: =L11 -> 4.216 | AP24: =L12 -> 2.108 | AS24: 3 | AT24: 1 | AU24: =SUM(AS24:AT24) -> 4 | AV24: =AM24+AN24+AO24 -> 17.806 | AW24: =AV24*AS24 -> 53.418 | AX24: =AM24+AN24+AP24 -> 15.698 | AY24: =AX24*AT24 -> 15.698 | AZ24: =AB60 -> 38.6305 | BA24: =((AV24*AS24*AU24*(AS24/AU24)/12)*((3*((AS24/AU24)^2))-(8*(AS24/AU24))+6))+((AX24*AT24*AU24*((AT24/AU24)^2)/12)*(4-(AT24/AU24)))+((AZ24*AS24*AT24^2)/AU24^2) -> 31.005344 | BB24: =((AV24*AS24*AU24*((AS24/AU24)^2)/12)*(4-(AS24/AU24)))+((AX24*AT24*AU24*(AT24/AU24)/12)*((3*(AT24/AU24)^2)-(8*(AT24/AU24))+6))+(((AZ24*AT24*AS24^2)/AU24^2)) -> 59.759198 | BC24: =(BE24*AV11)-(0.5*AV24*AV11^2)-BA24 -> 9.1545888 | BE24: =BP24 -> 37.817661 | BF24: =BW24 -> 69.928839 | BI24: =AG24 -> L: | BJ24: =AH24 -> 4 | BK24: =AZ24*AT24/AU24 -> 9.657625 | BL24: =(AW24*((1/2*AS24)+AT24))/AU24 -> 33.38625 | BM24: =(AY24*(1/2*AT24)/AU24) -> 1.96225 | BN24: =BA24/AU24 -> 7.7513359 | BO24: =BB24/AU24 -> 14.939799 | BP24: =BK24+BL24+BM24+BN24-BO24 -> 37.817661 | BR24: =(AZ24*AS24)/AU24 -> 28.972875 | BS24: =(AW24*(1/2*AS24)/AU24) -> 20.03175 | BT24: =(AY24*((1/2*AT24)+AS24)/AU24) -> 13.73575 | BU24: =BA24/AU24 -> 7.7513359 | BV24: =BB24/AU24 -> 14.939799 | BW24: =BR24+BS24+BT24-BU24+BV24 -> 69.928839
B25: Berat Jenis tembok | C25: = | D25: 17 | E25: kN/m3 | O25: (4-7)
O26: L: | P26: 4 | Q26: 0.3 | R26: 0.2 | S26: =MAX(Q26:R26) -> 0.3 | T26: =ROUNDUP((S26/2),1) -> 0.2 | U26: =0.15 -> 0.15 | V26: =MAX(T26:U26) -> 0.2 | W26: =1.2*D$21*S26*V26 -> 1.728 | Y26: =1.2*D$24*D$25*D$23 -> 10.71 | Z26: =SUM(W26:Y26) -> 12.438 | AA26: =1/12*Z26*(P26)^2 -> 16.584 | AB26: =1/2*Z26*P26 -> 24.876 | AC26: =1/2*Z26*P26 -> 24.876
N27: A' | O27: (4-7) | X27: plat d
B28: Note : | C28: = | D28: Balok khusus | F28: P atau V dari balok anak | O28: L: | P28: 4 | Q28: 0.3 | R28: 0.2 | S28: =MAX(Q28:R28) -> 0.3 | T28: =S28/2 -> 0.15 | U28: =0.15 -> 0.15 | V28: =MAX(T28:U28) -> 0.15 | W28: =1.2*D$21*S28*V28 -> 1.296 | X28: =M10 -> 5.7044456 | Z28: =SUM(W28:Y28) -> 7.0004456 | AA28: =1/12*Z28*(P28)^2 -> 9.3339275 | AB28: =1/2*Z28*P28 -> 14.000891 | AC28: =1/2*Z28*P28 -> 14.000891
C29: = | D29: Balok anak | N29: B | O29: (2-3) | X29: plat a
O30: L: | P30: 1.5 | Q30: 0.4 | R30: 0.2 | S30: =MAX(Q30:R30) -> 0.4 | T30: 0.25 | U30: =0.15 -> 0.15 | V30: =MAX(T30:U30) -> 0.25 | W30: =1.2*D$21*S30*V30 -> 2.88 | X30: =L7 -> 3.162 | Z30: =SUM(W30:Y30) -> 6.042 | AA30: =1/12*Z30*(P30)^2 -> 1.132875 | AB30: =1/2*Z30*P30 -> 4.5315 | AC30: =1/2*Z30*P30 -> 4.5315
O31: (3-4) | X31: plat b+c
O32: L: | P32: 3.5 | Q32: 0.4 | R32: 0.2 | S32: =MAX(Q32:R32) -> 0.4 | T32: 0.25 | U32: =0.15 -> 0.15 | V32: =MAX(T32:U32) -> 0.25 | W32: =1.2*D$21*S32*V32 -> 2.88 | X32: =M8+L9 -> 14.605429 | Y32: =1.2*D$24*D$25*D$23 -> 10.71 | Z32: =SUM(W32:Y32) -> 28.195429 | AA32: =1/12*Z32*(P32)^2 -> 28.782833 | AB32: =1/2*Z32*P32 -> 49.342 | AC32: =1/2*Z32*P32 -> 49.342
O33: (4-7)
O34: L: | P34: 4 | Q34: 0.4 | R34: 0.2 | S34: 0.4 | T34: 0.25 | U34: =0.15 -> 0.15 | V34: 0.25
N35: C | O35: (7-8) | X35: plat g
O36: L: | P36: 2.5 | Q36: 0.25 | R36: 0.2 | S36: =MAX(Q36:R36) -> 0.25 | T36: =S36/2 -> 0.125 | U36: =0.15 -> 0.15 | V36: =MAX(T36:U36) -> 0.15 | W36: =1.2*D$21*S36*V36 -> 1.08 | X36: =M13 -> 5.0592 | Y36: =1.2*1*D$25*D$23 -> 3.06 | Z36: =SUM(W36:Y36) -> 9.1992 | AA36: =1/12*Z36*(P36)^2 -> 4.79125 | AB36: =1/2*Z36*P36 -> 11.499 | AC36: =1/2*Z36*P36 -> 11.499
N37: D | O37: (3-4) | X37: plat c
O38: L: | P38: 3.5 | Q38: 0.4 | R38: 0.2 | S38: =MAX(Q38:R38) -> 0.4 | T38: 0.25 | U38: =0.15 -> 0.15 | V38: =MAX(T38:U38) -> 0.25 | W38: =1.2*D$21*S38*V38 -> 2.88 | X38: =L9 -> 7.378 | Y38: =1.2*D$24*D$25*D$23 -> 10.71 | Z38: =SUM(W38:Y38) -> 20.968 | AA38: =1/12*Z38*(P38)^2 -> 21.404833 | AB38: =1/2*Z38*P38 -> 36.694 | AC38: =1/2*Z38*P38 -> 36.694
O39: (4-7)
O40: L: | P40: 4 | Q40: 0.4 | R40: 0.2 | S40: =MAX(Q40:R40) -> 0.4 | T40: 0.25 | U40: =0.15 -> 0.15 | V40: =MAX(T40:U40) -> 0.25
O41: (7-8) | X41: plat g
O42: L: | P42: 2.5 | Q42: 0.4 | R42: 0.2 | S42: =MAX(Q42:R42) -> 0.4 | T42: 0.25 | U42: =0.15 -> 0.15 | V42: =MAX(T42:U42) -> 0.25 | W42: =1.2*D$21*S42*V42 -> 2.88 | X42: =M13 -> 5.0592 | Y42: =1.2*1*D$25*D$23 -> 3.06 | Z42: =SUM(W42:Y42) -> 10.9992 | AA42: =1/12*Z42*(P42)^2 -> 5.72875 | AB42: =1/2*Z42*P42 -> 13.749 | AC42: =1/2*Z42*P42 -> 13.749
B45: C. Perhitungan Momen Pada Balok Melintang / Arah X | AF45: Perhitungan Momen Pada Balok Induk Melintang / Arah X | BH45: Perhitungan Reaksi Tumpuan
N47: As Balok | Q47: h | R47: hmin | S47: h (dipakai) | T47: b | U47: b (min) | V47: b (dipakai) | W47: qu BS | X47: qe Plat | Y47: qu Tembok | Z47: qu total | AA47: Momen | AB47: V (ki) | AC47: V (ka) | AD47: Ket | AF47: As Balok | AI47: h | AJ47: h (dipakai) | AK47: b | AL47: b (dipakai) | AM47: qu BS | AN47: qu Tembok | AO47: qe | AQ47: qe | AS47: L1 | AT47: L2 | AU47: L total | AV47: q1 | AW47: Q1 | AX47: q2 | AY47: Q2 | AZ47: P | BA47: Momen (ki) | BB47: Momen (ka) | BC47: Momen (lap) | BD47: Perhitungan Momen Lap. pada lampiran | BE47: V (ki) | BF47: V (ka) | BH47: As Balok | BK47: V (ki) | BP47: Jumlah ↑ | BR47: V (ka) | BW47: Jumlah ↑
N48: (m) | Q48: (m) | R48: (m) | S48: (m) | T48: (m) | U48: (m) | V48: (m) | W48: kN/m | X48: kN/m' | Y48: kN/m' | Z48: kN/m' | AA48: kN.m | AB48: KN | AC48: KN | AF48: (m) | AI48: (m) | AJ48: (m) | AK48: (m) | AL48: (m) | AM48: kN/m | AN48: kN/m' | AO48: kN/m' | AQ48: kN/m' | AS48: (m) | AT48: (m) | AU48: (m) | AV48: kN/m' | AW48: kN/m' | AX48: kN/m' | AY48: kN/m' | AZ48: KN | BA48: kN.m | BB48: kN.m | BC48: kN.m | BE48: KN ↑ | BF48: KN ↑ | BH48: (m)
N49: 2 | O49: (A-B) | X49: Plat a | AF49: 4 | AG49: =O55 -> (A-B) | AO49: Plat b | AP49: Plat d | BH49: 4 | BI49: =AG49 -> (A-B) | BK49: P ↑ | BL49: q1 ↑ | BM49: q2 ↑ | BN49: MA | BO49: MB | BR49: P ↑ | BS49: q1 ↑ | BT49: q2 ↑ | BU49: MA | BV49: MB
O50: L: | P50: 3 | Q50: =P50/12 -> 0.25 | R50: 0.2 | S50: =MAX(Q50:R50) -> 0.25 | T50: =S50/2 -> 0.125 | U50: 0.15 | V50: =MAX(T50:U50) -> 0.15 | W50: =1.2*D$21*S50*V50 -> 1.08 | X50: =M7 -> 4.743 | Z50: =SUM(W50:Y50) -> 5.823 | AA50: =1/12*Z50*(P50)^2 -> 4.36725 | AB50: =1/2*Z50*P50 -> 8.7345 | AC50: =1/2*Z50*P50 -> 8.7345 | AG50: =O56 -> L: | AH50: =P56 -> 3 | AI50: =Q56 -> 0.3 | AJ50: =S56 -> 0.3 | AK50: =T56 -> 0.2 | AL50: =V56 -> 0.2 | AM50: =1.2*AJ50*AL50*D$21 -> 1.728 | AN50: =1.2*D$23*D$24*D$25 -> 10.71 | AO50: =L8 -> 6.324 | AP50: =L10 -> 3.6363 | AS50: 1.275 | AT50: 1.725 | AU50: =SUM(AS50:AT50) -> 3 | AV50: =AM50+AN50+AO50 -> 18.762 | AW50: =AV50*AS50 -> 23.92155 | AX50: =AM50+AO50+AP50 -> 11.6883 | AY50: =AX50*AT50 -> 20.162318 | AZ50: =AB28 -> 14.000891 | BA50: =((AV50*AS50*AU50*(AS50/AU50)/12)*((3*((AS50/AU50)^2))-(8*(AS50/AU50))+6))+((AX50*AT50*AU50*((AT50/AU50)^2)/12)*(4-(AT50/AU50)))+((AZ50*AS50*AT50^2)/AU50^2) -> 19.59553 | BB50: =((AV50*AS50*AU50*((AS50/AU50)^2)/12)*(4-(AS50/AU50)))+((AX50*AT50*AU50*(AT50/AU50)/12)*((3*(AT50/AU50)^2)-(8*(AT50/AU50))+6))+(((AZ50*AT50*AS50^2)/AU50^2)) -> 15.156564 | BC50: =(BE50*AS50)-(0.5*AV50*AS50^2)-BA50 -> 8.714927 | BE50: =BP50 -> 34.165055 | BF50: =BW50 -> 23.919704 | BI50: =AG50 -> L: | BJ50: =AH50 -> 3 | BK50: =AZ50*AT50/AU50 -> 8.0505125 | BL50: =(AW50*((1/2*AS50)+AT50))/AU50 -> 18.838221 | BM50: =(AY50*(1/2*AT50)/AU50) -> 5.7966663 | BN50: =BA50/AU50 -> 6.5318432 | BO50: =BB50/AU50 -> 5.0521879 | BP50: =BK50+BL50+BM50+BN50-BO50 -> 34.165055 | BR50: =(AZ50*AS50)/AU50 -> 5.9503788 | BS50: =(AW50*(1/2*AS50)/AU50) -> 5.0833294 | BT50: =(AY50*((1/2*AT50)+AS50)/AU50) -> 14.365651 | BU50: =BA50/AU50 -> 6.5318432 | BV50: =BB50/AU50 -> 5.0521879 | BW50: =BR50+BS50+BT50-BU50+BV50 -> 23.919704
N51: 3 | O51: (A-B) | X51: Plat a+b | AF51: 7 | AG51: =O61 -> (A-B) | AO51: Plat d | BH51: 7 | BI51: =AG51 -> (A-B) | BK51: P ↑ | BL51: q1 ↑ | BM51: q2 ↑ | BN51: MA | BO51: M8 | BR51: P ↑ | BS51: q1 ↑ | BT51: q2 ↑ | BU51: MA | BV51: MB
O52: L: | P52: 3 | Q52: 0.3 | R52: 0.2 | S52: =MAX(Q52:R52) -> 0.3 | T52: 0.2 | U52: 0.15 | V52: =MAX(T52:U52) -> 0.2 | W52: =1.2*D$21*S52*V52 -> 1.728 | X52: =M7+L8 -> 11.067 | Y52: =1.2*D$24*D$25*D$23 -> 10.71 | Z52: =SUM(W52:Y52) -> 23.505 | AA52: =1/12*Z52*(P52)^2 -> 17.62875 | AB52: =1/2*Z52*P52 -> 35.2575 | AC52: =1/2*Z52*P52 -> 35.2575 | AG52: =O62 -> L: | AH52: =P62 -> 3 | AI52: =Q62 -> 0.3 | AJ52: =S62 -> 0.3 | AK52: =T62 -> 0.2 | AL52: =V64 -> 0.2 | AM52: =1.2*AJ52*AL52*D$21 -> 1.728 | AN52: =1.2*D$23*D$24*D$25 -> 10.71 | AO52: =L10 -> 3.6363 | AS52: 1.275 | AT52: 1.725 | AU52: =SUM(AS52:AT52) -> 3 | AV52: =AM52+AN52 -> 12.438 | AW52: =AV52*AS52 -> 15.85845 | AX52: =AM52+AN52+AO52 -> 16.0743 | AY52: =AX52*AT52 -> 27.728168 | AZ52: =AB28 -> 14.000891 | BA52: =((AV52*AS52*AU52*(AS52/AU52)/12)*((3*((AS52/AU52)^2))-(8*(AS52/AU52))+6))+((AX52*AT52*AU52*((AT52/AU52)^2)/12)*(4-(AT52/AU52)))+((AZ52*AS52*AT52^2)/AU52^2) -> 19.045746 | BB52: =((AV52*AS52*AU52*((AS52/AU52)^2)/12)*(4-(AS52/AU52)))+((AX52*AT52*AU52*(AT52/AU52)/12)*((3*(AT52/AU52)^2)-(8*(AT52/AU52))+6))+(((AZ52*AT52*AS52^2)/AU52^2)) -> 16.45629 | BC52: =(BE52*AS52)-(0.5*AV52*AS52^2)-BA52 -> 8.2963957 | BE52: =BP52 -> 29.374042 | BF52: =BW52 -> 28.213467 | BI52: =AG52 -> L: | BJ52: =AH52 -> 3 | BK52: =AZ52*AT52/AU52 -> 8.0505125 | BL52: =(AW52*((1/2*AS52)+AT52))/AU52 -> 12.488529 | BM52: =(AY52*(1/2*AT52)/AU52) -> 7.9718482 | BN52: =BA52/AU52 -> 6.348582 | BO52: =BB52/AU52 -> 5.4854301 | BP52: =BK52+BL52+BM52+BN52-BO52 -> 29.374042 | BR52: =(AZ52*AS52)/AU52 -> 5.9503788 | BS52: =(AW52*(1/2*AS52)/AU52) -> 3.3699206 | BT52: =(AY52*((1/2*AT52)+AS52)/AU52) -> 19.756319 | BU52: =BA52/AU52 -> 6.348582 | BV52: =BB52/AU52 -> 5.4854301 | BW52: =BR52+BS52+BT52-BU52+BV52 -> 28.213467
O53: (B-D) | X53: Plat c | AG53: =O63 -> (B-D) | AO53: Plat g | AQ53: Plat f | BI53: =AG53 -> (B-D) | BK53: P ↑ | BL53: q1 ↑ | BM53: q2 ↑ | BN53: MA | BO53: M8 | BR53: P ↑ | BS53: q1 ↑ | BT53: q2 ↑ | BU53: MA | BV53: MB
O54: L: | P54: 3.5 | Q54: 0.3 | R54: 0.2 | S54: =MAX(Q54:R54) -> 0.3 | T54: 0.2 | U54: 0.15 | V54: =MAX(T54:U54) -> 0.2 | W54: =1.2*D$21*S54*V54 -> 1.728 | X54: =L9 -> 7.378 | Y54: =1.2*D$24*D$25*D$23 -> 10.71 | Z54: =SUM(W54:Y54) -> 19.816 | AA54: =1/12*Z54*(P54)^2 -> 20.228833 | AB54: =1/2*Z54*P54 -> 34.678 | AC54: =1/2*Z54*P54 -> 34.678 | AG54: =O64 -> L: | AH54: =P64 -> 3.5 | AI54: =Q64 -> 0.3 | AJ54: =S64 -> 0.3 | AK54: =T64 -> 0.2 | AL54: =V66 -> 0.15 | AM54: =1.2*AJ54*AL54*D$21 -> 1.296 | AN54: =1.2*D$23*D$24*D$25 -> 10.71 | AO54: =L13 -> 4.216 | AQ54: =M12 -> 3.6137143 | AS54: 1.5 | AT54: 2 | AU54: =SUM(AS54:AT54) -> 3.5 | AV54: =AM54+AN54+AQ54 -> 15.619714 | AW54: =AV54*AS54 -> 23.429571 | AX54: =AM54+AO54+AQ54 -> 9.1257143 | AY54: =AX54*AT54 -> 18.251429 | AZ54: =AB36 -> 11.499 | BA54: =((AV54*AS54*AU54*(AS54/AU54)/12)*((3*((AS54/AU54)^2))-(8*(AS54/AU54))+6))+((AX54*AT54*AU54*((AT54/AU54)^2)/12)*(4-(AT54/AU54)))+((AZ54*AS54*AT54^2)/AU54^2) -> 20.736519 | BB54: =((AV54*AS54*AU54*((AS54/AU54)^2)/12)*(4-(AS54/AU54)))+((AX54*AT54*AU54*(AT54/AU54)/12)*((3*(AT54/AU54)^2)-(8*(AT54/AU54))+6))+(((AZ54*AT54*AS54^2)/AU54^2)) -> 16.032224 | BC54: =(BE54*AS54)-(0.5*AV54*AS54^2)-BA54 -> 8.9991789 | BE54: =BP54 -> 31.538584 | BF54: =BW54 -> 21.641416 | BI54: =AG54 -> L: | BJ54: =AH54 -> 3.5 | BK54: =AZ54*AT54/AU54 -> 6.5708571 | BL54: =(AW54*((1/2*AS54)+AT54))/AU54 -> 18.408949 | BM54: =(AY54*(1/2*AT54)/AU54) -> 5.2146939 | BN54: =BA54/AU54 -> 5.9247196 | BO54: =BB54/AU54 -> 4.5806355 | BP54: =BK54+BL54+BM54+BN54-BO54 -> 31.538584 | BR54: =(AZ54*AS54)/AU54 -> 4.9281429 | BS54: =(AW54*(1/2*AS54)/AU54) -> 5.0206224 | BT54: =(AY54*((1/2*AT54)+AS54)/AU54) -> 13.036735 | BU54: =BA54/AU54 -> 5.9247196 | BV54: =BB54/AU54 -> 4.5806355 | BW54: =BR54+BS54+BT54-BU54+BV54 -> 21.641416
N55: 4 | O55: (A-B)
O56: L: | P56: 3 | Q56: 0.3 | R56: 0.2 | S56: =MAX(Q56:R56) -> 0.3 | T56: 0.2 | U56: 0.15 | V56: =MAX(T56:U56) -> 0.2
O57: (B-D) | X57: Plat c+e
O58: L: | P58: 3.5 | Q58: 0.3 | R58: 0.2 | S58: =MAX(Q58:R58) -> 0.3 | T58: 0.2 | U58: 0.15 | V58: =MAX(T58:U58) -> 0.2 | W58: =1.2*D$21*S58*V58 -> 1.728 | X58: =L9+M11 -> 13.400857 | Y58: =1.2*D$24*D$25*D$23 -> 10.71 | Z58: =SUM(W58:Y58) -> 25.838857 | AA58: =1/12*Z58*(P58)^2 -> 26.377167 | AB58: =1/2*Z58*P58 -> 45.218 | AC58: =1/2*Z58*P58 -> 45.218
N59: 6 | O59: (B-D) | X59: plat e+f
O60: L: | P60: 3.5 | Q60: 0.3 | R60: 0.2 | S60: =MAX(Q60:R60) -> 0.3 | T60: 0.2 | U60: =0.15 -> 0.15 | V60: =MAX(T60:U60) -> 0.2 | W60: =1.2*D$21*S60*V60 -> 1.728 | X60: =M12+M11 -> 9.6365714 | Y60: =1.2*D$24*D$25*D$23 -> 10.71 | Z60: =SUM(W60:Y60) -> 22.074571 | AA60: =1/12*Z60*(P60)^2 -> 22.534458 | AB60: =1/2*Z60*P60 -> 38.6305 | AC60: =1/2*Z60*P60 -> 38.6305
N61: 7 | O61: (A-B)
O62: L: | P62: 3 | Q62: 0.3 | R62: 0.2 | S62: =MAX(Q62:R62) -> 0.3 | T62: 0.2 | U62: 0.15 | V62: =MAX(T62:U62) -> 0.2
O63: (B-D)
O64: L: | P64: 3.5 | Q64: 0.3 | R64: 0.2 | S64: =MAX(Q64:R64) -> 0.3 | T64: 0.2 | U64: 0.15 | V64: =MAX(T64:U64) -> 0.2
N65: 8 | O65: (C-D) | X65: plat g
O66: L: | P66: 2 | Q66: 0.25 | R66: 0.2 | S66: =MAX(Q66:R66) -> 0.25 | T66: =S66/2 -> 0.125 | U66: 0.15 | V66: =MAX(T66:U66) -> 0.15 | W66: =1.2*D$21*S66*V66 -> 1.08 | X66: =L13 -> 4.216 | Y66: =1.2*1*D$25*D$23 -> 3.06 | Z66: =SUM(W66:Y66) -> 8.356 | AA66: =1/12*Z66*(P66)^2 -> 2.7853333 | AB66: =1/2*Z66*P66 -> 8.356 | AC66: =1/2*Z66*P66 -> 8.356
F72: KET : TIDAK MASUK DALAM PERHITUNGAN (HANYA UNTUK PENGECEKAN)
M76: momen Negatif ki | N76: momen Negatif ka | O76: momen Positif
J77: h (dipakai) | K77: b (dipakai) | L77: Momen | P77: V (ki) | Q77: V (ka)
J78: (m) | K78: (m) | L78: kN.m | P78: KN | Q78: KN
H79: A | I79: (2-3)
I80: L: | J80: =S22 -> 0.3 | K80: =V22 -> 0.2 | L80: =AA22 -> 2.925 | P80: =AB22 -> 11.7 | Q80: =AC22 -> 11.7
I81: (3-4)
I82: L: | J82: =S24 -> 0.25 | K82: =V24 -> 0.2 | L82: =AA24 -> 19.781125 | P82: =AB24 -> 33.9105 | Q82: =AC24 -> 33.9105
I83: (4-7)
I84: L: | J84: =S26 -> 0.3 | K84: =V26 -> 0.2 | L84: =AA26 -> 16.584 | P84: =AB26 -> 24.876 | Q84: =AC26 -> 24.876
H85: A' | I85: (4-7)
I86: L: | J86: =S28 -> 0.3 | K86: =V28 -> 0.15 | L86: =AA28 -> 9.3339275 | P86: =AB28 -> 14.000891 | Q86: =AC28 -> 14.000891
H87: B | I87: (2-3)
I88: L: | J88: =S30 -> 0.4 | K88: =V30 -> 0.25 | L88: =AA30 -> 1.132875 | P88: =AB30 -> 4.5315 | Q88: =AC30 -> 4.5315
I89: (3-4)
I90: L: | J90: =S32 -> 0.4 | K90: =V32 -> 0.25 | L90: =AA32 -> 28.782833 | P90: =AB32 -> 49.342 | Q90: =AC32 -> 49.342
I91: (4-7)
I92: L: | J92: =S34 -> 0.4 | K92: =V34 -> 0.25 | L92: =AA34 -> 0 | M92: =BA22 -> 37.350224 | N92: =BB22 -> 67.657158 | O92: =BC22 -> 9.9128985 | P92: =BE22 -> 46.779533 | Q92: =BF22 -> 71.63475
H93: C | I93: (7-8)
I94: L: | J94: =S36 -> 0.25 | K94: =V36 -> 0.15 | L94: =AA36 -> 4.79125 | P94: =AB36 -> 11.499 | Q94: =AC36 -> 11.499
H95: D | I95: (3-4)
I96: L: | J96: =S38 -> 0.4 | K96: =V38 -> 0.25 | L96: =AA38 -> 21.404833 | P96: =AB38 -> 36.694 | Q96: =AC38 -> 36.694
I97: (4-7)
I98: L: | J98: =S40 -> 0.4 | K98: =V40 -> 0.25 | L98: =AA40 -> 0 | M98: =BA24 -> 31.005344 | N98: =BB24 -> 59.759198 | O98: =BC24 -> 9.1545888 | P98: =BE24 -> 37.817661 | Q98: =BF24 -> 69.928839
I99: (7-8)
I100: L: | J100: =S42 -> 0.4 | K100: =V42 -> 0.25 | L100: =AA42 -> 5.72875 | P100: =AB42 -> 13.749 | Q100: =AC42 -> 13.749
H101: 2 | I101: (A-B)
I102: L: | J102: =S50 -> 0.25 | K102: =V50 -> 0.15 | L102: =AA50 -> 4.36725 | P102: =AB50 -> 8.7345 | Q102: =AC50 -> 8.7345
H103: 3 | I103: (A-B)
I104: L: | J104: =S52 -> 0.3 | K104: =V52 -> 0.2 | L104: =AA52 -> 17.62875 | P104: =AB52 -> 35.2575 | Q104: =AC52 -> 35.2575
I105: (B-D)
I106: L: | J106: =S54 -> 0.3 | K106: =V54 -> 0.2 | L106: =AA54 -> 20.228833 | P106: =AB54 -> 34.678 | Q106: =AC54 -> 34.678
H107: 4 | I107: (A-B)
I108: L: | J108: =S56 -> 0.3 | K108: =V56 -> 0.2 | L108: =AA56 -> 0 | M108: =BA50 -> 19.59553 | N108: =BB50 -> 15.156564 | O108: =BC50 -> 8.714927 | P108: =BE50 -> 34.165055 | Q108: =BF50 -> 23.919704
I109: (B-D)
I110: L: | J110: =S58 -> 0.3 | K110: =V58 -> 0.2 | L110: =AA58 -> 26.377167 | P110: =AB58 -> 45.218 | Q110: =AC58 -> 45.218
H111: 6 | I111: (B-D)
I112: L: | J112: =S60 -> 0.3 | K112: =V60 -> 0.2 | L112: =AA60 -> 22.534458 | P112: =AB60 -> 38.6305 | Q112: =AC60 -> 38.6305
...

Sheet penulangan BALOK
DI2: sengkang lapangan dipoakai besi 8-200 karena gaya geser daerah lapangan lebih kecil
A3: A. DATA BALOK | L3: PERHITUNGAN TULANGAN | AN3: ρ kurang dari rho min artinya dimensi terlalu besar harus diperkecil
A4: Faktor bentuk distribusi tegangan beton, | G4: β₁ | H4: =PLAT!D4 -> 0.85 | I4: fc ≤ 30 Mpa | L4: A . Perhitungan Penulangan Pada Balok Memanjang / Arah Y | AN4: ρ lbh besar dari rho max artinya dimensi terlalu kecil harus diperbesar | CV4: B. Perhitungan Tulangan Geser Pada Balok Memanjang / Arah Y
L5: 1. Data Balok Memanjang / Arah Y | Z5: 2. Perhitungan Tulangan Momen Positif Pada Balok Memanjang / Arah Y | BK5: 3. Perhitungan Tulangan Momen Negatif Pada Balok Memanjang / Arah Y | CV5: 1. Perhitungan Tulangan Geser | DF5: syarat???? | DW5: Tabel Rekapitulasi Penulangan Balok Memanjang / Arah Y
A6: 1. BAHAN STRUKTUR | EF6: Penulangan lapangan
A7: Kuat tekan beton, | G7: Fc' | H7: 25 | I7: Mpa | BU7: D TP | DW7: As Balok | DZ7: h (dipakai) | EA7: b (dipakai) | EB7: Ø TP | EC7: Ø (P) | ED7: ts | EK7: penulangan tumpuan | EQ7: Digunakan Sengkang | EV7: Keterangan
A8: Tegangan leleh baja (deform) untuk tulangan lentur, | G8: Fy | H8: 400 | I8: Mpa | L8: As Balok | O8: h (dipakai) | P8: b (dipakai) | Q8: Mu + | R8: Mu - | S8: Vu | T8: β₁ | U8: ρb | V8: Rmax | W8: ᶲ | Z8: As Balok | AC8: h (dipakai) | AD8: b (dipakai) | AE8: Mu + | AF8: Mn | AG8: d' | AH8: d | AI8: Rn | AJ8: D TP | AK8: Ø (P) | AL8: ts | AM8: Syarat | AN8: ρ | AO8: ρmin | AP8: ρmax | AQ8: ρ | AR8: As | AS8: n | AT8: n (dipakai min 2 bh) | AW8: At | AX8: Syarat | AY8: s | AZ8: Syarat | BA8: As' | BB8: n' | BC8: n' (dipakai Min 2 bh) | BF8: At' | BG8: Syarat | BH8: s' | BI8: Syarat | BK8: As Balok | BN8: h (dipakai) | BO8: b (dipakai) | BP8: Mu - | BQ8: Mn | BR8: d' | BS8: d | BT8: Rn | BU8: Ø TP | BV8: Ø (P) | BW8: ts | BX8: Syarat | BY8: ρ | BZ8: ρmin | CA8: ρmax | CB8: ρ | CC8: As | CD8: n | CE8: n (dipakai min 2 bh) | CH8: At | CI8: Syarat | CJ8: s | CK8: Syarat | CL8: As' | CM8: n' | CN8: n' (dipakai Min 2 bh) | CQ8: At' | CR8: Syarat | CS8: s' | CT8: Syarat | CV8: As Balok | CY8: h (dipakai) | CZ8: b (dipakai) | DA8: Vu | DB8: ᶲ | DC8: Fy | DD8: Vc | DE8: ᶲ * Vc | DF8: Syarat | DG8: ᶲ *Vs | DH8: Vs | DI8: ns | DJ8: Ø (P) | DK8: Av | DL8: s perlu | DM8: Syarat | DN8: Smax 1/2 d | DO8: Smax | DP8: s (dipakai) | DQ8: Digunakan Sengkang | DU8: Sengkanglapangan | EE8: Σ tul tarik | EH8: Σ tul tekan | EK8: Σ tul tarik | EN8: Σ tul tekan
A9: Tegangan leleh baja (polos) untuk tulangan geser, | G9: Fy | H9: =PLAT!D3 -> 240 | I9: Mpa | L9: (m) | O9: (mm) | P9: (mm) | Q9: (kN.m) | R9: (kN.m) | S9: (kN.m) | Z9: (m) | AC9: (mm) | AD9: (mm) | AE9: (kN.m) | AF9: (kN.m) | AG9: (mm) | AH9: (mm) | AJ9: (mm) | AK9: (mm) | AL9: (mm) | AM9: Rn < Rmax | AQ9: (dipakai) | AR9: (mm²) | AW9: (mm²) | AX9: As < At | AY9: (mm) | AZ9: s ≥ 25 mm | BA9: (mm²) | BF9: (mm²) | BG9: As '< At' | BH9: (mm) | BI9: s' ≥ 25 mm | BK9: (m) | BN9: (mm) | BO9: (mm) | BP9: (kN.m) | BQ9: (kN.m) | BR9: (mm) | BS9: (mm) | BU9: (mm) | BV9: (mm) | BW9: (mm) | BX9: Rn < Rmax | CB9: (dipakai) | CC9: (mm²) | CH9: (mm²) | CI9: As < At | CJ9: (mm) | CK9: s ≥ 25 mm | CL9: (mm²) | CQ9: (mm²) | CR9: As '< At' | CS9: (mm) | CT9: s' ≥ 25 mm | CV9: (mm) | CY9: (mm) | CZ9: (mm) | DA9: (kN.m) | DC9: (Mpa) | DD9: (KN) | DE9: (KN) | DG9: (KN) | DH9: (KN) | DJ9: (mm) | DK9: (mm²) | DL9: (mm) | DM9: Smax | DN9: (mm) | DO9: (mm) | DP9: (mm) | DW9: (m) | DZ9: (mm) | EA9: (mm) | EB9: (mm) | EC9: (mm) | ED9: (mm)
A10: 2. DIMENSI BALOK | L10: A | M10: (2-3) | Z10: A | AA10: (2-3) | BK10: A | BL10: (2-3) | CV10: A | CW10: (2-3) | DW10: A | DX10: (2-3) | EV10: B1
A11: Lebar balok | G11: b | H11: → | I11: mm | M11: L: | N11: 1.5 | O11: ='QE & MOMEN'!S22*1000 -> 300 | P11: ='QE & MOMEN'!V22*1000 -> 200 | Q11: ='QE & MOMEN'!AA22 -> 2.925 | R11: ='QE & MOMEN'!AA22 -> 2.925 | S11: ='QE & MOMEN'!AB22 -> 11.7 | T11: =$H$4 -> 0.85 | U11: =T11*0.85*$H$7/$H$8*600/(600+$H$8) -> 0.02709375 | V11: =0.75*U11*$H$8*(1-(0.5*0.75*U11*$H$8/(0.85*$H$7))) -> 6.5736211 | W11: =$H$27 -> 0.8 | AA11: L: | AB11: 1.5 | AC11: =O11 -> 300 | AD11: =P11 -> 200 | AE11: =Q11 -> 2.925 | AF11: =AE11/W11 -> 3.65625 | AG11: 50 | AH11: =AC11-AG11 -> 250 | AI11: =AF11*10^6/(AD11*AH11^2) -> 0.2925 | AJ11: =$H$13 -> 13 | AK11: =$H$14 -> 8 | AL11: =$H$15 -> 25 | AM11: =IF(AI11<=V11,"OK","NG") -> OK | AN11: =0.85*($H$7/$H$8)*(1-(SQRT(1-2*AI11/(0.85*$H$7)))) -> 0.00073635321 | AO11: =1.4/$H$8 -> 0.0035 | AP11: =0.5*U11 -> 0.013546875 | AQ11: =MAX(AN11:AO11) -> 0.0035 | AR11: =AQ11*AD11*AH11 -> 175 | AS11: =AR11/((22/7)/4*AJ11^2) -> 1.3179129 | AT11: =ROUNDUP(AS11,0) -> 2 | AU11: =MAX(AT11,AV11) -> 2 | AV11: 2 | AW11: =AU11*(22/7)/4*AJ11^2 -> 265.57143 | AX11: =IF(AR11<=AW11,"OK","NG") -> OK | AY11: =(AD11-(2*AL11+2*AK11+AU11*AJ11))/(AU11-1) -> 108 | AZ11: =IF(AY11>= 25,"OK","NG") -> OK | BA11: =AR11/2 -> 87.5 | BB11: =BA11/((22/7)/4*AJ11^2) -> 0.65895643 | BC11: =ROUNDUP(BB11,0) -> 1 | BD11: =MAX(BC11,BE11) -> 2 | BE11: 2 | BF11: =BD11*(22/7)/4*AJ11^2 -> 265.57143 | BG11: =IF(BA11<=BF11,"OK","NG") -> OK | BH11: =(AD11-(2*AL11+2*AK11+BD11*AJ11))/(BD11-1) -> 108 | BI11: =IF(BH11>= 25,"OK","NG") -> OK | BL11: L: | BM11: 1.5 | BN11: =O11 -> 300 | BO11: =P11 -> 200 | BP11: =R11 -> 2.925 | BQ11: =BP11/W11 -> 3.65625 | BR11: 50 | BS11: =BN11-BR11 -> 250 | BT11: =BQ11*10^6/(BO11*BS11^2) -> 0.2925 | BU11: =$H$13 -> 13 | BV11: =$H$14 -> 8 | BW11: =$H$15 -> 25 | BX11: =IF(BT11<=V11,"OK","NG") -> OK | BY11: =0.85*($H$7/$H$8)*(1-(SQRT(1-2*BT11/(0.85*$H$7)))) -> 0.00073635321 | BZ11: =1.4/$H$8 -> 0.0035 | CA11: =0.5*U11 -> 0.013546875 | CB11: =MAX(BY11:BZ11) -> 0.0035 | CC11: =CB11*BO11*BS11 -> 175 | CD11: =CC11/((22/7)/4*BU11^2) -> 1.3179129 | CE11: =ROUNDUP(CD11,0) -> 2 | CF11: =MAX(CE11,CG11) -> 2 | CG11: 2 | CH11: =CF11*(22/7)/4*BU11^2 -> 265.57143 | CI11: =IF(CC11<=CH11,"OK","NG") -> OK | CJ11: =(BO11-(2*BW11+2*BV11+CF11*BU11))/(CF11-1) -> 108 | CK11: =IF(CJ11>= 25,"OK","NG") -> OK | CL11: =CC11/2 -> 87.5 | CM11: =CL11/((22/7)/4*BU11^2) -> 0.65895643 | CN11: =ROUNDUP(CM11,0) -> 1 | CO11: =MAX(CN11,CP11) -> 2 | CP11: 2 | CQ11: =CO11*(22/7)/4*BU11^2 -> 265.57143 | CR11: =IF(CL11<=CQ11,"OK","NG") -> OK | CS11: =(BO11-(2*BW11+2*BV11+CO11*BU11))/(CO11-1) -> 108 | CT11: =IF(CS11>= 25,"OK","NG") -> OK | CW11: L: | CX11: 1.5 | CY11: =O11 -> 300 | CZ11: =P11 -> 200 | DA11: =S11 -> 11.7 | DB11: 0.6 | DC11: =$H$9 -> 240 | DD11: =1/6*SQRT($H$7)*CZ11*BS11*0.001 -> 41.666667 | DE11: =DB11*DD11 -> 25 | DF11: =IF(DA11<=DE11,"Tul. Gerser Praktis","Perlu Tul Geser") -> Tul. Gerser Praktis | DP11: 200 | DQ11: Ø | DR11: =$H$14 -> 8 | DS11: - | DT11: =DP11 -> 200 | DX11: L: | DY11: 1.5 | DZ11: =O11 -> 300 | EA11: =P11 -> 200 | EB11: =$H$13 -> 13 | EC11: =$H$14 -> 8 | ED11: =$H$15 -> 25 | EE11: =AT11 -> 2 | EF11: =MAX(EE11,EG11) -> 2 | EG11: 2 | EH11: =BC11 -> 1 | EI11: =MAX(EH11,EJ11) -> 2 | EJ11: 2 | EK11: =CE11 -> 2 | EL11: =MAX(EK11,EM11) -> 2 | EM11: 2 | EN11: =CN11 -> 1 | EO11: =MAX(EN11,EP11) -> 2 | EP11: 2 | EQ11: Ø | ER11: =$H$14 -> 8 | ES11: - | ET11: =DT11 -> 200
A12: Tinggi balok | G12: h | H12: → | I12: mm | M12: (3-4) | AA12: (3-4) | BL12: (3-4) | CW12: (3-4) | DX12: (3-4) | EE12: =AT12 -> 0 | EH12: =BC12 -> 0 | EK12: =CE12 -> 0 | EN12: =CN12 -> 0 | EV12: B1
A13: Diameter tulangan (deform) yang digunakan, | G13: D | H13: 13 | I13: mm | M13: L: | N13: 3.5 | O13: ='QE & MOMEN'!S24*1000 -> 250 | P13: ='QE & MOMEN'!V24*1000 -> 200 | Q13: ='QE & MOMEN'!AA24 -> 19.781125 | R13: ='QE & MOMEN'!AA24 -> 19.781125 | S13: ='QE & MOMEN'!AB24 -> 33.9105 | T13: =$H$4 -> 0.85 | U13: =T13*0.85*$H$7/$H$8*600/(600+$H$8) -> 0.02709375 | V13: =0.75*U13*$H$8*(1-(0.5*0.75*U13*$H$8/(0.85*$H$7))) -> 6.5736211 | W13: =$H$27 -> 0.8 | AA13: L: | AB13: 3.5 | AC13: =O13 -> 250 | AD13: =P13 -> 200 | AE13: =Q13 -> 19.781125 | AF13: =AE13/W13 -> 24.726406 | AG13: 50 | AH13: =AC13-AG13 -> 200 | AI13: =AF13*10^6/(AD13*AH13^2) -> 3.0908008 | AJ13: =$H$13 -> 13 | AK13: =$H$14 -> 8 | AL13: =$H$15 -> 25 | AM13: =IF(AI13<=V13,"OK","NG") -> OK | AN13: =0.85*($H$7/$H$8)*(1-(SQRT(1-2*AI13/(0.85*$H$7)))) -> 0.008389425 | AO13: =1.4/$H$8 -> 0.0035 | AP13: =0.5*U13 -> 0.013546875 | AQ13: =MAX(AN13:AO13) -> 0.008389425 | AR13: =AQ13*AD13*AH13 -> 335.577 | AS13: =AR13/((22/7)/4*AJ13^2) -> 2.5272071 | AT13: =ROUNDUP(AS13,0) -> 3 | AU13: =MAX(AT13,AV13) -> 3 | AV13: 2 | AW13: =AU13*(22/7)/4*AJ13^2 -> 398.35714 | AX13: =IF(AR13<=AW13,"OK","NG") -> OK | AY13: =(AD13-(2*AL13+2*AK13+AU13*AJ13))/(AU13-1) -> 47.5 | AZ13: =IF(AY13>= 25,"OK","NG") -> OK | BA13: =AR13/2 -> 167.7885 | BB13: =BA13/((22/7)/4*AJ13^2) -> 1.2636036 | BC13: =ROUNDUP(BB13,0) -> 2 | BD13: =MAX(BC13,BE13) -> 2 | BE13: 2 | BF13: =BD13*(22/7)/4*AJ13^2 -> 265.57143 | BG13: =IF(BA13<=BF13,"OK","NG") -> OK | BH13: =(AD13-(2*AL13+2*AK13+BD13*AJ13))/(BD13-1) -> 108 | BI13: =IF(BH13>= 25,"OK","NG") -> OK | BL13: L: | BM13: 3.5 | BN13: =O13 -> 250 | BO13: =P13 -> 200 | BP13: =R13 -> 19.781125 | BQ13: =BP13/W13 -> 24.726406 | BR13: 50 | BS13: =BN13-BR13 -> 200 | BT13: =BQ13*10^6/(BO13*BS13^2) -> 3.0908008 | BU13: =$H$13 -> 13 | BV13: =$H$14 -> 8 | BW13: =$H$15 -> 25 | BX13: =IF(BT13<=V13,"OK","NG") -> OK | BY13: =0.85*($H$7/$H$8)*(1-(SQRT(1-2*BT13/(0.85*$H$7)))) -> 0.008389425 | BZ13: =1.4/$H$8 -> 0.0035 | CA13: =0.5*U13 -> 0.013546875 | CB13: =MAX(BY13:BZ13) -> 0.008389425 | CC13: =CB13*BO13*BS13 -> 335.577 | CD13: =CC13/((22/7)/4*BU13^2) -> 2.5272071 | CE13: =ROUNDUP(CD13,0) -> 3 | CF13: =MAX(CE13,CG13) -> 3 | CG13: 2 | CH13: =CF13*(22/7)/4*BU13^2 -> 398.35714 | CI13: =IF(CC13<=CH13,"OK","NG") -> OK | CJ13: =(BO13-(2*BW13+2*BV13+CF13*BU13))/(CF13-1) -> 47.5 | CK13: =IF(CJ13>= 25,"OK","NG") -> OK | CL13: =CC13/2 -> 167.7885 | CM13: =CL13/((22/7)/4*BU13^2) -> 1.2636036 | CN13: =ROUNDUP(CM13,0) -> 2 | CO13: =MAX(CN13,CP13) -> 2 | CP13: 2 | CQ13: =CO13*(22/7)/4*BU13^2 -> 265.57143 | CR13: =IF(CL13<=CQ13,"OK","NG") -> OK | CS13: =(BO13-(2*BW13+2*BV13+CO13*BU13))/(CO13-1) -> 108 | CT13: =IF(CS13>= 25,"OK","NG") -> OK | CW13: L: | CX13: 3.5 | CY13: =O13 -> 250 | CZ13: =P13 -> 200 | DA13: =S13 -> 33.9105 | DB13: 0.6 | DC13: =$H$9 -> 240 | DD13: =1/6*SQRT($H$7)*CZ13*BS13*0.001 -> 33.333333 | DE13: =DB13*DD13 -> 20 | DF13: =IF(DA13<=DE13,"Tul. Gerser Praktis","Perlu Tul Geser") -> Perlu Tul Geser | DG13: =DA13-DE13 -> 13.9105 | DH13: =DG13/DB13 -> 23.184167 | DI13: 1 | DJ13: =$AK$11 -> 8 | DK13: =DI13*((22/7)/4)*DJ13^2 -> 50.285714 | DL13: =DK13*DC11*BS13/(DH13*10^3) -> 104.11046 | DM13: =IF(DH13<(1/3*SQRT($H$7)*CZ13*BS13),"1/2 D - 600","1/4D - 300") -> 1/2 D - 600 | DN13: =1/2*AH13 -> 100 | DO13: 600 | DP13: =MIN(DL13,DN13,DO13) -> 100 | DQ13: Ø | DR13: =$H$14 -> 8 | DS13: - | DT13: =DP13 -> 100 | DX13: L: | DY13: 3.5 | DZ13: =O13 -> 250 | EA13: =P13 -> 200 | EB13: =$H$13 -> 13 | EC13: =$H$14 -> 8 | ED13: =$H$15 -> 25 | EE13: =AT13 -> 3 | EF13: =MAX(EE13,EG13) -> 3 | EG13: 2 | EH13: =BC13 -> 2 | EI13: =MAX(EH13,EJ13) -> 2 | EJ13: 2 | EK13: =CE13 -> 3 | EL13: =MAX(EK13,EM13) -> 3 | EM13: 2 | EN13: =CN13 -> 2 | EO13: =MAX(EN13,EP13) -> 2 | EP13: 2 | EQ13: Ø | ER13: =$H$14 -> 8 | ES13: - | ET13: =DT13 -> 100
A14: Diameter sengkang (polos) yang digunakan, | G14: P | H14: 8 | I14: mm | M14: (4-7) | AA14: (4-7) | BL14: (4-7) | CW14: (4-7) | DX14: (4-7) | EE14: =AT14 -> 0 | EH14: =BC14 -> 0 | EK14: =CE14 -> 0 | EN14: =CN14 -> 0 | EV14: B1
A15: Tebal Bersih Selimut Beton, | G15: ts | H15: 25 | I15: mm | M15: L: | N15: 4 | O15: ='QE & MOMEN'!S26*1000 -> 300 | P15: ='QE & MOMEN'!V26*1000 -> 200 | Q15: ='QE & MOMEN'!AA26 -> 16.584 | R15: ='QE & MOMEN'!AA26 -> 16.584 | S15: ='QE & MOMEN'!AB26 -> 24.876 | T15: =$H$4 -> 0.85 | U15: =T15*0.85*$H$7/$H$8*600/(600+$H$8) -> 0.02709375 | V15: =0.75*U15*$H$8*(1-(0.5*0.75*U15*$H$8/(0.85*$H$7))) -> 6.5736211 | W15: =$H$27 -> 0.8 | AA15: L: | AB15: 4 | AC15: =O15 -> 300 | AD15: =P15 -> 200 | AE15: =Q15 -> 16.584 | AF15: =AE15/W15 -> 20.73 | AG15: 50 | AH15: =AC15-AG15 -> 250 | AI15: =AF15*10^6/(AD15*AH15^2) -> 1.6584 | AJ15: =$H$13 -> 13 | AK15: =$H$14 -> 8 | AL15: =$H$15 -> 25 | AM15: =IF(AI15<=V15,"OK","NG") -> OK | AN15: =0.85*($H$7/$H$8)*(1-(SQRT(1-2*AI15/(0.85*$H$7)))) -> 0.0043217919 | AO15: =1.4/$H$8 -> 0.0035 | AP15: =0.5*U15 -> 0.013546875 | AQ15: =MAX(AN15:AO15) -> 0.0043217919 | AR15: =AQ15*AD15*AH15 -> 216.08959 | AS15: =AR15/((22/7)/4*AJ15^2) -> 1.6273557 | AT15: =ROUNDUP(AS15,0) -> 2 | AU15: =MAX(AT15,AV15) -> 2 | AV15: 2 | AW15: =AU15*(22/7)/4*AJ15^2 -> 265.57143 | AX15: =IF(AR15<=AW15,"OK","NG") -> OK | AY15: =(AD15-(2*AL15+2*AK15+AU15*AJ15))/(AU15-1) -> 108 | AZ15: =IF(AY15>= 25,"OK","NG") -> OK | BA15: =AR15/2 -> 108.0448 | BB15: =BA15/((22/7)/4*AJ15^2) -> 0.81367786 | BC15: =ROUNDUP(BB15,0) -> 1 | BD15: =MAX(BC15,BE15) -> 2 | BE15: 2 | BF15: =BD15*(22/7)/4*AJ15^2 -> 265.57143 | BG15: =IF(BA15<=BF15,"OK","NG") -> OK | BH15: =(AD15-(2*AL15+2*AK15+BD15*AJ15))/(BD15-1) -> 108 | BI15: =IF(BH15>= 25,"OK","NG") -> OK | BL15: L: | BM15: 4 | BN15: =O15 -> 300 | BO15: =P15 -> 200 | BP15: =R15 -> 16.584 | BQ15: =BP15/W15 -> 20.73 | BR15: 50 | BS15: =BN15-BR15 -> 250 | BT15: =BQ15*10^6/(BO15*BS15^2) -> 1.6584 | BU15: =$H$13 -> 13 | BV15: =$H$14 -> 8 | BW15: =$H$15 -> 25 | BX15: =IF(BT15<=V15,"OK","NG") -> OK | BY15: =0.85*($H$7/$H$8)*(1-(SQRT(1-2*BT15/(0.85*$H$7)))) -> 0.0043217919 | BZ15: =1.4/$H$8 -> 0.0035 | CA15: =0.5*U15 -> 0.013546875 | CB15: =MAX(BY15:BZ15) -> 0.0043217919 | CC15: =CB15*BO15*BS15 -> 216.08959 | CD15: =CC15/((22/7)/4*BU15^2) -> 1.6273557 | CE15: =ROUNDUP(CD15,0) -> 2 | CF15: =MAX(CE15,CG15) -> 2 | CG15: 2 | CH15: =CF15*(22/7)/4*BU15^2 -> 265.57143 | CI15: =IF(CC15<=CH15,"OK","NG") -> OK | CJ15: =(BO15-(2*BW15+2*BV15+CF15*BU15))/(CF15-1) -> 108 | CK15: =IF(CJ15>= 25,"OK","NG") -> OK | CL15: =CC15/2 -> 108.0448 | CM15: =CL15/((22/7)/4*BU15^2) -> 0.81367786 | CN15: =ROUNDUP(CM15,0) -> 1 | CO15: =MAX(CN15,CP15) -> 2 | CP15: 2 | CQ15: =CO15*(22/7)/4*BU15^2 -> 265.57143 | CR15: =IF(CL15<=CQ15,"OK","NG") -> OK | CS15: =(BO15-(2*BW15+2*BV15+CO15*BU15))/(CO15-1) -> 108 | CT15: =IF(CS15>= 25,"OK","NG") -> OK | CW15: L: | CX15: 4 | CY15: =O15 -> 300 | CZ15: =P15 -> 200 | DA15: =S15 -> 24.876 | DB15: 0.6 | DC15: =$H$9 -> 240 | DD15: =1/6*SQRT($H$7)*CZ15*BS15*0.001 -> 41.666667 | DE15: =DB15*DD15 -> 25 | DF15: =IF(DA15<=DE15,"Tul. Gerser Praktis","Perlu Tul Geser") -> Tul. Gerser Praktis | DP15: 200 | DQ15: Ø | DR15: =$H$14 -> 8 | DS15: - | DT15: =DP15 -> 200 | DX15: L: | DY15: 4 | DZ15: =O15 -> 300 | EA15: =P15 -> 200 | EB15: =$H$13 -> 13 | EC15: =$H$14 -> 8 | ED15: =$H$15 -> 25 | EE15: =AT15 -> 2 | EF15: =MAX(EE15,EG15) -> 2 | EG15: 2 | EH15: =BC15 -> 1 | EI15: =MAX(EH15,EJ15) -> 2 | EJ15: 2 | EK15: =CE15 -> 2 | EL15: =MAX(EK15,EM15) -> 2 | EM15: 2 | EN15: =CN15 -> 1 | EO15: =MAX(EN15,EP15) -> 2 | EP15: 2 | EQ15: Ø | ER15: =$H$14 -> 8 | ES15: - | ET15: =DT15 -> 200
A16: 3. MOMEN DAN GAYA GESER RENCANA | L16: A' | M16: (4-7) | Z16: A' | AA16: (4-7) | BK16: A' | BL16: (4-7) | CV16: A' | CW16: (4-7) | DW16: A' | DX16: (4-7) | EE16: =AT16 -> 0 | EH16: =BC16 -> 0 | EK16: =CE16 -> 0 | EN16: =CN16 -> 0 | EV16: BA1
A17: Momen Rencana positif akibat beban terfaktor, | G17: Mu + | H17: → | I17: kN.m | M17: L: | N17: 4 | O17: ='QE & MOMEN'!S28*1000 -> 300 | P17: ='QE & MOMEN'!V28*1000 -> 150 | Q17: ='QE & MOMEN'!AA28 -> 9.3339275 | R17: ='QE & MOMEN'!AA28 -> 9.3339275 | S17: ='QE & MOMEN'!AB28 -> 14.000891 | T17: =$H$4 -> 0.85 | U17: =T17*0.85*$H$7/$H$8*600/(600+$H$8) -> 0.02709375 | V17: =0.75*U17*$H$8*(1-(0.5*0.75*U17*$H$8/(0.85*$H$7))) -> 6.5736211 | W17: =$H$27 -> 0.8 | AA17: L: | AB17: 4 | AC17: =O17 -> 300 | AD17: =P17 -> 150 | AE17: =Q17 -> 9.3339275 | AF17: =AE17/W17 -> 11.667409 | AG17: 50 | AH17: =AC17-AG17 -> 250 | AI17: =AF17*10^6/(AD17*AH17^2) -> 1.2445237 | AJ17: =$H$13 -> 13 | AK17: =$H$14 -> 8 | AL17: =$H$15 -> 25 | AM17: =IF(AI17<=V17,"OK","NG") -> OK | AN17: =0.85*($H$7/$H$8)*(1-(SQRT(1-2*AI17/(0.85*$H$7)))) -> 0.0032081789 | AO17: =1.4/$H$8 -> 0.0035 | AP17: =0.5*U17 -> 0.013546875 | AQ17: =MAX(AN17:AO17) -> 0.0035 | AR17: =AQ17*AD17*AH17 -> 131.25 | AS17: =AR17/((22/7)/4*AJ17^2) -> 0.98843464 | AT17: =ROUNDUP(AS17,0) -> 1 | AU17: =MAX(AT17,AV17) -> 2 | AV17: 2 | AW17: =AU17*(22/7)/4*AJ17^2 -> 265.57143 | AX17: =IF(AR17<=AW17,"OK","NG") -> OK | AY17: =(AD17-(2*AL17+2*AK17+AU17*AJ17))/(AU17-1) -> 58 | AZ17: =IF(AY17>= 25,"OK","NG") -> OK | BA17: =AR17/2 -> 65.625 | BB17: =BA17/((22/7)/4*AJ17^2) -> 0.49421732 | BC17: =ROUNDUP(BB17,0) -> 1 | BD17: =MAX(BC17,BE17) -> 2 | BE17: 2 | BF17: =BD17*(22/7)/4*AJ17^2 -> 265.57143 | BG17: =IF(BA17<=BF17,"OK","NG") -> OK | BH17: =(AD17-(2*AL17+2*AK17+BD17*AJ17))/(BD17-1) -> 58 | BI17: =IF(BH17>= 25,"OK","NG") -> OK | BL17: L: | BM17: 4 | BN17: =O17 -> 300 | BO17: =P17 -> 150 | BP17: =R17 -> 9.3339275 | BQ17: =BP17/W17 -> 11.667409 | BR17: 50 | BS17: =BN17-BR17 -> 250 | BT17: =BQ17*10^6/(BO17*BS17^2) -> 1.2445237 | BU17: =$H$13 -> 13 | BV17: =$H$14 -> 8 | BW17: =$H$15 -> 25 | BX17: =IF(BT17<=V17,"OK","NG") -> OK | BY17: =0.85*($H$7/$H$8)*(1-(SQRT(1-2*BT17/(0.85*$H$7)))) -> 0.0032081789 | BZ17: =1.4/$H$8 -> 0.0035 | CA17: =0.5*U17 -> 0.013546875 | CB17: =MAX(BY17:BZ17) -> 0.0035 | CC17: =CB17*BO17*BS17 -> 131.25 | CD17: =CC17/((22/7)/4*BU17^2) -> 0.98843464 | CE17: =ROUNDUP(CD17,0) -> 1 | CF17: =MAX(CE17,CG17) -> 2 | CG17: 2 | CH17: =CF17*(22/7)/4*BU17^2 -> 265.57143 | CI17: =IF(CC17<=CH17,"OK","NG") -> OK | CJ17: =(BO17-(2*BW17+2*BV17+CF17*BU17))/(CF17-1) -> 58 | CK17: =IF(CJ17>= 25,"OK","NG") -> OK | CL17: =CC17/2 -> 65.625 | CM17: =CL17/((22/7)/4*BU17^2) -> 0.49421732 | CN17: =ROUNDUP(CM17,0) -> 1 | CO17: =MAX(CN17,CP17) -> 2 | CP17: 2 | CQ17: =CO17*(22/7)/4*BU17^2 -> 265.57143 | CR17: =IF(CL17<=CQ17,"OK","NG") -> OK | CS17: =(BO17-(2*BW17+2*BV17+CO17*BU17))/(CO17-1) -> 58 | CT17: =IF(CS17>= 25,"OK","NG") -> OK | CW17: L: | CX17: 4 | CY17: =O17 -> 300 | CZ17: =P17 -> 150 | DA17: =S17 -> 14.000891 | DB17: 0.6 | DC17: =$H$9 -> 240 | DD17: =1/6*SQRT($H$7)*CZ17*BS17*0.001 -> 31.25 | DE17: =DB17*DD17 -> 18.75 | DF17: =IF(DA17<=DE17,"Tul. Gerser Praktis","Perlu Tul Geser") -> Tul. Gerser Praktis | DP17: 200 | DQ17: Ø | DR17: =$H$14 -> 8 | DS17: - | DT17: =DP17 -> 200 | DX17: L: | DY17: 4 | DZ17: =O17 -> 300 | EA17: =P17 -> 150 | EB17: =$H$13 -> 13 | EC17: =$H$14 -> 8 | ED17: =$H$15 -> 25 | EE17: =AT17 -> 1 | EF17: =MAX(EE17,EG17) -> 2 | EG17: 2 | EH17: =BC17 -> 1 | EI17: =MAX(EH17,EJ17) -> 2 | EJ17: 2 | EK17: =CE17 -> 1 | EL17: =MAX(EK17,EM17) -> 2 | EM17: 2 | EN17: =CN17 -> 1 | EO17: =MAX(EN17,EP17) -> 2 | EP17: 2 | EQ17: Ø | ER17: =$H$14 -> 8 | ES17: - | ET17: =DT17 -> 200
A18: Momen rencana negatif akibat beban terfaktor, | G18: Mu - | H18: → | I18: kN.m | L18: B | M18: (2-3) | Z18: B | AA18: (2-3) | BK18: B | BL18: (2-3) | CV18: B | CW18: (2-3) | DW18: B | DX18: (2-3) | EE18: =AT18 -> 0 | EH18: =BC18 -> 0 | EK18: =CE18 -> 0 | EN18: =CN18 -> 0 | EV18: B2
A19: Gaya geser rencana akibat beban terfaktor, | G19: Vu | H19: → | I19: kN | M19: L: | N19: 1.5 | O19: ='QE & MOMEN'!S30*1000 -> 400 | P19: ='QE & MOMEN'!V30*1000 -> 250 | Q19: ='QE & MOMEN'!AA30 -> 1.132875 | R19: ='QE & MOMEN'!AA30 -> 1.132875 | S19: ='QE & MOMEN'!AB30 -> 4.5315 | T19: =$H$4 -> 0.85 | U19: =T19*0.85*$H$7/$H$8*600/(600+$H$8) -> 0.02709375 | V19: =0.75*U19*$H$8*(1-(0.5*0.75*U19*$H$8/(0.85*$H$7))) -> 6.5736211 | W19: =$H$27 -> 0.8 | AA19: L: | AB19: 1.5 | AC19: =O19 -> 400 | AD19: =P19 -> 250 | AE19: =Q19 -> 1.132875 | AF19: =AE19/W19 -> 1.4160937 | AG19: 50 | AH19: =AC19-AG19 -> 350 | AI19: =AF19*10^6/(AD19*AH19^2) -> 0.046239796 | AJ19: =$H$13 -> 13 | AK19: =$H$14 -> 8 | AL19: =$H$15 -> 25 | AM19: =IF(AI19<=V19,"OK","NG") -> OK | AN19: =0.85*($H$7/$H$8)*(1-(SQRT(1-2*AI19/(0.85*$H$7)))) -> 0.00011572554 | AO19: =1.4/$H$8 -> 0.0035 | AP19: =0.5*U19 -> 0.013546875 | AQ19: =MAX(AN19:AO19) -> 0.0035 | AR19: =AQ19*AD19*AH19 -> 306.25 | AS19: =AR19/((22/7)/4*AJ19^2) -> 2.3063475 | AT19: =ROUNDUP(AS19,0) -> 3 | AU19: =MAX(AT19,AV19) -> 3 | AV19: 2 | AW19: =AU19*(22/7)/4*AJ19^2 -> 398.35714 | AX19: =IF(AR19<=AW19,"OK","NG") -> OK | AY19: =(AD19-(2*AL19+2*AK19+AU19*AJ19))/(AU19-1) -> 72.5 | AZ19: =IF(AY19>= 25,"OK","NG") -> OK | BA19: =AR19/2 -> 153.125 | BB19: =BA19/((22/7)/4*AJ19^2) -> 1.1531737 | BC19: =ROUNDUP(BB19,0) -> 2 | BD19: =MAX(BC19,BE19) -> 2 | BE19: 2 | BF19: =BD19*(22/7)/4*AJ19^2 -> 265.57143 | BG19: =IF(BA19<=BF19,"OK","NG") -> OK | BH19: =(AD19-(2*AL19+2*AK19+BD19*AJ19))/(BD19-1) -> 158 | BI19: =IF(BH19>= 25,"OK","NG") -> OK | BL19: L: | BM19: 1.5 | BN19: =O19 -> 400 | BO19: =P19 -> 250 | BP19: =R19 -> 1.132875 | BQ19: =BP19/W19 -> 1.4160937 | BR19: 50 | BS19: =BN19-BR19 -> 350 | BT19: =BQ19*10^6/(BO19*BS19^2) -> 0.046239796 | BU19: =$H$13 -> 13 | BV19: =$H$14 -> 8 | BW19: =$H$15 -> 25 | BX19: =IF(BT19<=V19,"OK","NG") -> OK | BY19: =0.85*($H$7/$H$8)*(1-(SQRT(1-2*BT19/(0.85*$H$7)))) -> 0.00011572554 | BZ19: =1.4/$H$8 -> 0.0035 | CA19: =0.5*U19 -> 0.013546875 | CB19: =MAX(BY19:BZ19) -> 0.0035 | CC19: =CB19*BO19*BS19 -> 306.25 | CD19: =CC19/((22/7)/4*BU19^2) -> 2.3063475 | CE19: =ROUNDUP(CD19,0) -> 3 | CF19: =MAX(CE19,CG19) -> 3 | CG19: 2 | CH19: =CF19*(22/7)/4*BU19^2 -> 398.35714 | CI19: =IF(CC19<=CH19,"OK","NG") -> OK | CJ19: =(BO19-(2*BW19+2*BV19+CF19*BU19))/(CF19-1) -> 72.5 | CK19: =IF(CJ19>= 25,"OK","NG") -> OK | CL19: =CC19/2 -> 153.125 | CM19: =CL19/((22/7)/4*BU19^2) -> 1.1531737 | CN19: =ROUNDUP(CM19,0) -> 2 | CO19: =MAX(CN19,CP19) -> 2 | CP19: 2 | CQ19: =CO19*(22/7)/4*BU19^2 -> 265.57143 | CR19: =IF(CL19<=CQ19,"OK","NG") -> OK | CS19: =(BO19-(2*BW19+2*BV19+CO19*BU19))/(CO19-1) -> 158 | CT19: =IF(CS19>= 25,"OK","NG") -> OK | CW19: L: | CX19: 1.5 | CY19: =O19 -> 400 | CZ19: =P19 -> 250 | DA19: =S19 -> 4.5315 | DB19: 0.6 | DC19: =$H$9 -> 240 | DD19: =1/6*SQRT($H$7)*CZ19*BS19*0.001 -> 72.916667 | DE19: =DB19*DD19 -> 43.75 | DF19: =IF(DA19<=DE19,"Tul. Gerser Praktis","Perlu Tul Geser") -> Tul. Gerser Praktis | DP19: 200 | DQ19: Ø | DR19: =$H$14 -> 8 | DS19: - | DT19: =DP19 -> 200 | DX19: L: | DY19: 1.5 | DZ19: =O19 -> 400 | EA19: =P19 -> 250 | EB19: =$H$13 -> 13 | EC19: =$H$14 -> 8 | ED19: =$H$15 -> 25 | EE19: =AT19 -> 3 | EF19: =MAX(EE19,EG19) -> 3 | EG19: 2 | EH19: =BC19 -> 2 | EI19: =MAX(EH19,EJ19) -> 2 | EJ19: 2 | EK19: =CE19 -> 3 | EL19: =MAX(EK19,EM19) -> 3 | EM19: 2 | EN19: =CN19 -> 2 | EO19: =MAX(EN19,EP19) -> 2 | EP19: 2 | EQ19: Ø | ER19: =$H$14 -> 8 | ES19: - | ET19: =DT19 -> 200
M20: (3-4) | AA20: (3-4) | BL20: (3-4) | CW20: (3-4) | DX20: (3-4) | EE20: =AT20 -> 0 | EH20: =BC20 -> 0 | EK20: =CE20 -> 0 | EN20: =CN20 -> 0 | EV20: B2
A21: B. PERHITUNGAN TULANGAN | M21: L: | N21: 3.5 | O21: ='QE & MOMEN'!S32*1000 -> 400 | P21: ='QE & MOMEN'!V32*1000 -> 250 | Q21: ='QE & MOMEN'!AA32 -> 28.782833 | R21: ='QE & MOMEN'!AA32 -> 28.782833 | S21: ='QE & MOMEN'!AB32 -> 49.342 | T21: =$H$4 -> 0.85 | U21: =T21*0.85*$H$7/$H$8*600/(600+$H$8) -> 0.02709375 | V21: =0.75*U21*$H$8*(1-(0.5*0.75*U21*$H$8/(0.85*$H$7))) -> 6.5736211 | W21: =$H$27 -> 0.8 | AA21: L: | AB21: 3.5 | AC21: =O21 -> 400 | AD21: =P21 -> 250 | AE21: =Q21 -> 28.782833 | AF21: =AE21/W21 -> 35.978542 | AG21: 50 | AH21: =AC21-AG21 -> 350 | AI21: =AF21*10^6/(AD21*AH21^2) -> 1.1748095 | AJ21: =$H$13 -> 13 | AK21: =$H$14 -> 8 | AL21: =$H$15 -> 25 | AM21: =IF(AI21<=V21,"OK","NG") -> OK | AN21: =0.85*($H$7/$H$8)*(1-(SQRT(1-2*AI21/(0.85*$H$7)))) -> 0.0030230355 | AO21: =1.4/$H$8 -> 0.0035 | AP21: =0.5*U21 -> 0.013546875 | AQ21: =MAX(AN21:AO21) -> 0.0035 | AR21: =AQ21*AD21*AH21 -> 306.25 | AS21: =AR21/((22/7)/4*AJ21^2) -> 2.3063475 | AT21: =ROUNDUP(AS21,0) -> 3 | AU21: =MAX(AT21,AV21) -> 3 | AV21: 2 | AW21: =AU21*(22/7)/4*AJ21^2 -> 398.35714 | AX21: =IF(AR21<=AW21,"OK","NG") -> OK | AY21: =(AD21-(2*AL21+2*AK21+AU21*AJ21))/(AU21-1) -> 72.5 | AZ21: =IF(AY21>= 25,"OK","NG") -> OK | BA21: =AR21/2 -> 153.125 | BB21: =BA21/((22/7)/4*AJ21^2) -> 1.1531737 | BC21: =ROUNDUP(BB21,0) -> 2 | BD21: =MAX(BC21,BE21) -> 2 | BE21: 2 | BF21: =BD21*(22/7)/4*AJ21^2 -> 265.57143 | BG21: =IF(BA21<=BF21,"OK","NG") -> OK | BH21: =(AD21-(2*AL21+2*AK21+BD21*AJ21))/(BD21-1) -> 158 | BI21: =IF(BH21>= 25,"OK","NG") -> OK | BL21: L: | BM21: 3.5 | BN21: =O21 -> 400 | BO21: =P21 -> 250 | BP21: =R21 -> 28.782833 | BQ21: =BP21/W21 -> 35.978542 | BR21: 50 | BS21: =BN21-BR21 -> 350 | BT21: =BQ21*10^6/(BO21*BS21^2) -> 1.1748095 | BU21: =$H$13 -> 13 | BV21: =$H$14 -> 8 | BW21: =$H$15 -> 25 | BX21: =IF(BT21<=V21,"OK","NG") -> OK | BY21: =0.85*($H$7/$H$8)*(1-(SQRT(1-2*BT21/(0.85*$H$7)))) -> 0.0030230355 | BZ21: =1.4/$H$8 -> 0.0035 | CA21: =0.5*U21 -> 0.013546875 | CB21: =MAX(BY21:BZ21) -> 0.0035 | CC21: =CB21*BO21*BS21 -> 306.25 | CD21: =CC21/((22/7)/4*BU21^2) -> 2.3063475 | CE21: =ROUNDUP(CD21,0) -> 3 | CF21: =MAX(CE21,CG21) -> 3 | CG21: 2 | CH21: =CF21*(22/7)/4*BU21^2 -> 398.35714 | CI21: =IF(CC21<=CH21,"OK","NG") -> OK | CJ21: =(BO21-(2*BW21+2*BV21+CF21*BU21))/(CF21-1) -> 72.5 | CK21: =IF(CJ21>= 25,"OK","NG") -> OK | CL21: =CC21/2 -> 153.125 | CM21: =CL21/((22/7)/4*BU21^2) -> 1.1531737 | CN21: =ROUNDUP(CM21,0) -> 2 | CO21: =MAX(CN21,CP21) -> 2 | CP21: 2 | CQ21: =CO21*(22/7)/4*BU21^2 -> 265.57143 | CR21: =IF(CL21<=CQ21,"OK","NG") -> OK | CS21: =(BO21-(2*BW21+2*BV21+CO21*BU21))/(CO21-1) -> 158 | CT21: =IF(CS21>= 25,"OK","NG") -> OK | CW21: L: | CX21: 3.5 | CY21: =O21 -> 400 | CZ21: =P21 -> 250 | DA21: =S21 -> 49.342 | DB21: 0.6 | DC21: =$H$9 -> 240 | DD21: =1/6*SQRT($H$7)*CZ21*BS21*0.001 -> 72.916667 | DE21: =DB21*DD21 -> 43.75 | DF21: =IF(DA21<=DE21,"Tul. Gerser Praktis","Perlu Tul Geser") -> Perlu Tul Geser | DG21: =DA21-DE21 -> 5.592 | DH21: =DG21/DB21 -> 9.32 | DI21: 1 | DJ21: =$AK$11 -> 8 | DK21: =DI21*((22/7)/4)*DJ21^2 -> 50.285714 | DL21: =DK21*DC19*BS21/(DH21*10^3) -> 453.21888 | DM21: =IF(DH21<(1/3*SQRT($H$7)*CZ21*BS21),"1/2 D - 600","1/4D - 300") -> 1/2 D - 600 | DN21: =1/2*AH21 -> 175 | DO21: 600 | DP21: =MIN(DL21,DN21,DO21) -> 175 | DQ21: Ø | DR21: =$H$14 -> 8 | DS21: - | DT21: =DP21 -> 175 | DX21: L: | DY21: 3.5 | DZ21: =O21 -> 400 | EA21: =P21 -> 250 | EB21: =$H$13 -> 13 | EC21: =$H$14 -> 8 | ED21: =$H$15 -> 25 | EE21: =AT21 -> 3 | EF21: =MAX(EE21,EG21) -> 3 | EG21: 2 | EH21: =BC21 -> 2 | EI21: =MAX(EH21,EJ21) -> 2 | EJ21: 2 | EK21: =CE21 -> 3 | EL21: =MAX(EK21,EM21) -> 3 | EM21: 2 | EN21: =CN21 -> 2 | EO21: =MAX(EN21,EP21) -> 2 | EP21: 2 | EQ21: Ø | ER21: =$H$14 -> 8 | ES21: - | ET21: =DT21 -> 175
M22: (4-7) | AA22: (4-7) | BL22: (4-7) | CW22: (4-7) | DX22: (4-7) | EE22: =AT22 -> 0 | EH22: =BC22 -> 0 | EK22: =CE22 -> 0 | EN22: =CN22 -> 0 | EV22: B3
A23: Untuk : fc' ≤ 30 Mpa | M23: L: | N23: 4 | O23: ='QE & MOMEN'!S34*1000 -> 400 | P23: ='QE & MOMEN'!V34*1000 -> 250 | Q23: ='QE & MOMEN'!BC22 -> 9.9128985 | R23: ='QE & MOMEN'!BB22 -> 67.657158 | S23: ='QE & MOMEN'!BF22 -> 71.63475 | T23: =$H$4 -> 0.85 | U23: =T23*0.85*$H$7/$H$8*600/(600+$H$8) -> 0.02709375 | V23: =0.75*U23*$H$8*(1-(0.5*0.75*U23*$H$8/(0.85*$H$7))) -> 6.5736211 | W23: =$H$27 -> 0.8 | AA23: L: | AB23: 4 | AC23: =O23 -> 400 | AD23: =P23 -> 250 | AE23: =Q23 -> 9.9128985 | AF23: =AE23/W23 -> 12.391123 | AG23: 50 | AH23: =AC23-AG23 -> 350 | AI23: =AF23*1000000/(AD23*AH23^2) -> 0.4046081 | AJ23: =$H$13 -> 13 | AK23: =$H$14 -> 8 | AL23: =$H$15 -> 25 | AM23: =IF(AI23<=V23,"OK","NG") -> OK | AN23: =0.85*($H$7/$H$8)*(1-(SQRT(1-2*AI23/(0.85*$H$7)))) -> 0.001021338 | AO23: =1.4/$H$8 -> 0.0035 | AP23: =0.5*U23 -> 0.013546875 | AQ23: =MAX(AN23:AO23) -> 0.0035 | AR23: =AQ23*AD23*AH23 -> 306.25 | AS23: =AR23/((22/7)/4*AJ23^2) -> 2.3063475 | AT23: =ROUNDUP(AS23,0) -> 3 | AU23: =MAX(AT23,AV23) -> 3 | AV23: 2 | AW23: =AU23*(22/7)/4*AJ23^2 -> 398.35714 | AX23: =IF(AR23<=AW23,"OK","NG") -> OK | AY23: =(AD23-(2*AL23+2*AK23+AU23*AJ23))/(AU23-1) -> 72.5 | AZ23: =IF(AY23>= 25,"OK","NG") -> OK | BA23: =AR23/2 -> 153.125 | BB23: =BA23/((22/7)/4*AJ23^2) -> 1.1531737 | BC23: =ROUNDUP(BB23,0) -> 2 | BD23: =MAX(BC23,BE23) -> 2 | BE23: 2 | BF23: =BD23*(22/7)/4*AJ23^2 -> 265.57143 | BG23: =IF(BA23<=BF23,"OK","NG") -> OK | BH23: =(AD23-(2*AL23+2*AK23+BD23*AJ23))/(BD23-1) -> 158 | BI23: =IF(BH23>= 25,"OK","NG") -> OK | BL23: L: | BM23: 4 | BN23: =O23 -> 400 | BO23: =P23 -> 250 | BP23: =R23 -> 67.657158 | BQ23: =BP23/W23 -> 84.571447 | BR23: 50 | BS23: =BN23-BR23 -> 350 | BT23: =BQ23*10^6/(BO23*BS23^2) -> 2.7615166 | BU23: =$H$13 -> 13 | BV23: =$H$14 -> 8 | BW23: =$H$15 -> 25 | BX23: =IF(BT23<=V23,"OK","NG") -> OK | BY23: =0.85*($H$7/$H$8)*(1-(SQRT(1-2*BT23/(0.85*$H$7)))) -> 0.0074222893 | BZ23: =1.4/$H$8 -> 0.0035 | CA23: =0.5*U23 -> 0.013546875 | CB23: =MAX(BY23:BZ23) -> 0.0074222893 | CC23: =CB23*BO23*BS23 -> 649.45031 | CD23: =CC23/((22/7)/4*BU23^2) -> 4.8909652 | CE23: =ROUNDUP(CD23,0) -> 5 | CF23: =MAX(CE23,CG23) -> 5 | CG23: 2 | CH23: =CF23*(22/7)/4*BU23^2 -> 663.92857 | CI23: =IF(CC23<=CH23,"OK","NG") -> OK | CJ23: =(BO23-(2*BW23+2*BV23+CF23*BU23))/(CF23-1) -> 29.75 | CK23: =IF(CJ23>= 25,"OK","NG") -> OK | CL23: =CC23/2 -> 324.72516 | CM23: =CL23/((22/7)/4*BU23^2) -> 2.4454826 | CN23: =ROUNDUP(CM23,0) -> 3 | CO23: =MAX(CN23,CP23) -> 3 | CP23: 2 | CQ23: =CO23*(22/7)/4*BU23^2 -> 398.35714 | CR23: =IF(CL23<=CQ23,"OK","NG") -> OK | CS23: =(BO23-(2*BW23+2*BV23+CO23*BU23))/(CO23-1) -> 72.5 | CT23: =IF(CS23>= 25,"OK","NG") -> OK | CW23: L: | CX23: 4 | CY23: =O23 -> 400 | CZ23: =P23 -> 250 | DA23: =S23 -> 71.63475 | DB23: 0.6 | DC23: =$H$9 -> 240 | DD23: =1/6*SQRT($H$7)*CZ23*BS23*0.001 -> 72.916667 | DE23: =DB23*DD23 -> 43.75 | DF23: =IF(DA23<=DE23,"Tul. Gerser Praktis","Perlu Tul Geser") -> Perlu Tul Geser | DG23: =DA23-DE23 -> 27.88475 | DH23: =DG23/DB23 -> 46.474583 | DI23: 1 | DJ23: =$AK$11 -> 8 | DK23: =DI23*((22/7)/4)*DJ23^2 -> 50.285714 | DL23: =DK23*DC21*BS23/(DH23*10^3) -> 90.88839 | DM23: =IF(DH23<(1/3*SQRT($H$7)*CZ23*BS23),"1/2 D - 600","1/4D - 300") -> 1/2 D - 600 | DN23: =1/2*AH23 -> 175 | DO23: 600 | DP23: =MIN(DL23,DN23,DO23) -> 90.88839 | DQ23: Ø | DR23: =$H$14 -> 8 | DS23: - | DT23: =ROUNDDOWN(DP23,-1) -> 90 | DX23: L: | DY23: 4 | DZ23: =O23 -> 400 | EA23: =P23 -> 250 | EB23: =$H$13 -> 13 | EC23: =$H$14 -> 8 | ED23: =$H$15 -> 25 | EE23: =AT23 -> 3 | EF23: =MAX(EE23,EG23) -> 3 | EG23: 2 | EH23: =BC23 -> 2 | EI23: =MAX(EH23,EJ23) -> 2 | EJ23: 2 | EK23: =CE23 -> 5 | EL23: =MAX(EK23,EM23) -> 5 | EM23: 2 | EN23: =CN23 -> 3 | EO23: =MAX(EN23,EP23) -> 3 | EP23: 2 | EQ23: Ø | ER23: =$H$14 -> 8 | ES23: - | ET23: =DT23 -> 90
A24: Faktor bentuk distribusi tegangan beton, | G24: β₁ | H24: =H4 -> 0.85 | L24: C | M24: (7-8) | Z24: C | AA24: (7-8) | BK24: C | BL24: (7-8) | CV24: C | CW24: (7-8) | DW24: C | DX24: (7-8) | EE24: =AT24 -> 0 | EH24: =BC24 -> 0 | EK24: =CE24 -> 0 | EN24: =CN24 -> 0 | EV24: BA2
A25: Rasio tulangan pada kondisi balance, | G25: ρb | H25: β₁* 0.85 * fc’/ fy * 600 / ( 600 + fy ) | M25: L: | N25: 2.5 | O25: ='QE & MOMEN'!S36*1000 -> 250 | P25: ='QE & MOMEN'!V36*1000 -> 150 | Q25: ='QE & MOMEN'!AA36 -> 4.79125 | R25: ='QE & MOMEN'!AA36 -> 4.79125 | S25: ='QE & MOMEN'!AB36 -> 11.499 | T25: =$H$4 -> 0.85 | U25: =T25*0.85*$H$7/$H$8*600/(600+$H$8) -> 0.02709375 | V25: =0.75*U25*$H$8*(1-(0.5*0.75*U25*$H$8/(0.85*$H$7))) -> 6.5736211 | W25: =$H$27 -> 0.8 | AA25: L: | AB25: 2.5 | AC25: =O25 -> 250 | AD25: =P25 -> 150 | AE25: =Q25 -> 4.79125 | AF25: =AE25/W25 -> 5.9890625 | AG25: 50 | AH25: =AC25-AG25 -> 200 | AI25: =AF25*10^6/(AD25*AH25^2) -> 0.99817708 | AJ25: =$H$13 -> 13 | AK25: =$H$14 -> 8 | AL25: =$H$15 -> 25 | AM25: =IF(AI25<=V25,"OK","NG") -> OK | AN25: =0.85*($H$7/$H$8)*(1-(SQRT(1-2*AI25/(0.85*$H$7)))) -> 0.0025569781 | AO25: =1.4/$H$8 -> 0.0035 | AP25: =0.5*U25 -> 0.013546875 | AQ25: =MAX(AN25:AO25) -> 0.0035 | AR25: =AQ25*AD25*AH25 -> 105 | AS25: =AR25/((22/7)/4*AJ25^2) -> 0.79074771 | AT25: =ROUNDUP(AS25,0) -> 1 | AU25: =MAX(AT25,AV25) -> 2 | AV25: 2 | AW25: =AU25*(22/7)/4*AJ25^2 -> 265.57143 | AX25: =IF(AR25<=AW25,"OK","NG") -> OK | AY25: =(AD25-(2*AL25+2*AK25+AU25*AJ25))/(AU25-1) -> 58 | AZ25: =IF(AY25>= 25,"OK","NG") -> OK | BA25: =AR25/2 -> 52.5 | BB25: =BA25/((22/7)/4*AJ25^2) -> 0.39537386 | BC25: =ROUNDUP(BB25,0) -> 1 | BD25: =MAX(BC25,BE25) -> 2 | BE25: 2 | BF25: =BD25*(22/7)/4*AJ25^2 -> 265.57143 | BG25: =IF(BA25<=BF25,"OK","NG") -> OK | BH25: =(AD25-(2*AL25+2*AK25+BD25*AJ25))/(BD25-1) -> 58 | BI25: =IF(BH25>= 25,"OK","NG") -> OK | BL25: L: | BM25: 2.5 | BN25: =O25 -> 250 | BO25: =P25 -> 150 | BP25: =R25 -> 4.79125 | BQ25: =BP25/W25 -> 5.9890625 | BR25: 50 | BS25: =BN25-BR25 -> 200 | BT25: =BQ25*10^6/(BO25*BS25^2) -> 0.99817708 | BU25: =$H$13 -> 13 | BV25: =$H$14 -> 8 | BW25: =$H$15 -> 25 | BX25: =IF(BT25<=V25,"OK","NG") -> OK | BY25: =0.85*($H$7/$H$8)*(1-(SQRT(1-2*BT25/(0.85*$H$7)))) -> 0.0025569781 | BZ25: =1.4/$H$8 -> 0.0035 | CA25: =0.5*U25 -> 0.013546875 | CB25: =MAX(BY25:BZ25) -> 0.0035 | CC25: =CB25*BO25*BS25 -> 105 | CD25: =CC25/((22/7)/4*BU25^2) -> 0.79074771 | CE25: =ROUNDUP(CD25,0) -> 1 | CF25: =MAX(CE25,CG25) -> 2 | CG25: 2 | CH25: =CF25*(22/7)/4*BU25^2 -> 265.57143 | CI25: =IF(CC25<=CH25,"OK","NG") -> OK | CJ25: =(BO25-(2*BW25+2*BV25+CF25*BU25))/(CF25-1) -> 58 | CK25: =IF(CJ25>= 25,"OK","NG") -> OK | CL25: =CC25/2 -> 52.5 | CM25: =CL25/((22/7)/4*BU25^2) -> 0.39537386 | CN25: =ROUNDUP(CM25,0) -> 1 | CO25: =MAX(CN25,CP25) -> 2 | CP25: 2 | CQ25: =CO25*(22/7)/4*BU25^2 -> 265.57143 | CR25: =IF(CL25<=CQ25,"OK","NG") -> OK | CS25: =(BO25-(2*BW25+2*BV25+CO25*BU25))/(CO25-1) -> 58 | CT25: =IF(CS25>= 25,"OK","NG") -> OK | CW25: L: | CX25: 2.5 | CY25: =O25 -> 250 | CZ25: =P25 -> 150 | DA25: =S25 -> 11.499 | DB25: 0.6 | DC25: =$H$9 -> 240 | DD25: =1/6*SQRT($H$7)*CZ25*BS25*0.001 -> 25 | DE25: =DB25*DD25 -> 15 | DF25: =IF(DA25<=DE25,"Tul. Gerser Praktis","Perlu Tul Geser") -> Tul. Gerser Praktis | DP25: 200 | DQ25: Ø | DR25: =$H$14 -> 8 | DS25: - | DT25: =DP25 -> 200 | DX25: L: | DY25: 2.5 | DZ25: =O25 -> 250 | EA25: =P25 -> 150 | EB25: =$H$13 -> 13 | EC25: =$H$14 -> 8 | ED25: =$H$15 -> 25 | EE25: =AT25 -> 1 | EF25: =MAX(EE25,EG25) -> 2 | EG25: 2 | EH25: =BC25 -> 1 | EI25: =MAX(EH25,EJ25) -> 2 | EJ25: 2 | EK25: =CE25 -> 1 | EL25: =MAX(EK25,EM25) -> 2 | EM25: 2 | EN25: =CN25 -> 1 | EO25: =MAX(EN25,EP25) -> 2 | EP25: 2 | EQ25: Ø | ER25: =$H$14 -> 8 | ES25: - | ET25: =DT25 -> 200
A26: Faktor Tahanan momen Maksimum, | G26: Rmax | H26: 0.75 * ρb * fy * [1 – ½*0.75* ρb * fy / ( 0.85 * fc’ ) | L26: D | M26: (3-4) | Z26: D | AA26: (3-4) | BK26: D | BL26: (3-4) | CV26: D | CW26: (3-4) | DW26: D | DX26: (3-4) | EE26: =AT26 -> 0 | EH26: =BC26 -> 0 | EK26: =CE26 -> 0 | EN26: =CN26 -> 0 | EV26: B2
A27: Faktor Reduksi Kekuatan lentur, | G27: ᶲ | H27: 0.8 | M27: L: | N27: 3.5 | O27: ='QE & MOMEN'!S38*1000 -> 400 | P27: ='QE & MOMEN'!V38*1000 -> 250 | Q27: ='QE & MOMEN'!AA38 -> 21.404833 | R27: ='QE & MOMEN'!AA38 -> 21.404833 | S27: ='QE & MOMEN'!AB38 -> 36.694 | T27: =$H$4 -> 0.85 | U27: =T27*0.85*$H$7/$H$8*600/(600+$H$8) -> 0.02709375 | V27: =0.75*U27*$H$8*(1-(0.5*0.75*U27*$H$8/(0.85*$H$7))) -> 6.5736211 | W27: =$H$27 -> 0.8 | AA27: L: | AB27: 3.5 | AC27: =O27 -> 400 | AD27: =P27 -> 250 | AE27: =Q27 -> 21.404833 | AF27: =AE27/W27 -> 26.756042 | AG27: 50 | AH27: =AC27-AG27 -> 350 | AI27: =AF27*10^6/(AD27*AH27^2) -> 0.87366667 | AJ27: =$H$13 -> 13 | AK27: =$H$14 -> 8 | AL27: =$H$15 -> 25 | AM27: =IF(AI27<=V27,"OK","NG") -> OK | AN27: =0.85*($H$7/$H$8)*(1-(SQRT(1-2*AI27/(0.85*$H$7)))) -> 0.002231013 | AO27: =1.4/$H$8 -> 0.0035 | AP27: =0.5*U27 -> 0.013546875 | AQ27: =MAX(AN27:AO27) -> 0.0035 | AR27: =AQ27*AD27*AH27 -> 306.25 | AS27: =AR27/((22/7)/4*AJ27^2) -> 2.3063475 | AT27: =ROUNDUP(AS27,0) -> 3 | AU27: =MAX(AT27,AV27) -> 3 | AV27: 2 | AW27: =AU27*(22/7)/4*AJ27^2 -> 398.35714 | AX27: =IF(AR27<=AW27,"OK","NG") -> OK | AY27: =(AD27-(2*AL27+2*AK27+AU27*AJ27))/(AU27-1) -> 72.5 | AZ27: =IF(AY27>= 25,"OK","NG") -> OK | BA27: =AR27/2 -> 153.125 | BB27: =BA27/((22/7)/4*AJ27^2) -> 1.1531737 | BC27: =ROUNDUP(BB27,0) -> 2 | BD27: =MAX(BC27,BE27) -> 2 | BE27: 2 | BF27: =BD27*(22/7)/4*AJ27^2 -> 265.57143 | BG27: =IF(BA27<=BF27,"OK","NG") -> OK | BH27: =(AD27-(2*AL27+2*AK27+BD27*AJ27))/(BD27-1) -> 158 | BI27: =IF(BH27>= 25,"OK","NG") -> OK | BL27: L: | BM27: 3.5 | BN27: =O27 -> 400 | BO27: =P27 -> 250 | BP27: =R27 -> 21.404833 | BQ27: =BP27/W27 -> 26.756042 | BR27: 50 | BS27: =BN27-BR27 -> 350 | BT27: =BQ27*10^6/(BO27*BS27^2) -> 0.87366667 | BU27: =$H$13 -> 13 | BV27: =$H$14 -> 8 | BW27: =$H$15 -> 25 | BX27: =IF(BT27<=V27,"OK","NG") -> OK | BY27: =0.85*($H$7/$H$8)*(1-(SQRT(1-2*BT27/(0.85*$H$7)))) -> 0.002231013 | BZ27: =1.4/$H$8 -> 0.0035 | CA27: =0.5*U27 -> 0.013546875 | CB27: =MAX(BY27:BZ27) -> 0.0035 | CC27: =CB27*BO27*BS27 -> 306.25 | CD27: =CC27/((22/7)/4*BU27^2) -> 2.3063475 | CE27: =ROUNDUP(CD27,0) -> 3 | CF27: =MAX(CE27,CG27) -> 3 | CG27: 2 | CH27: =CF27*(22/7)/4*BU27^2 -> 398.35714 | CI27: =IF(CC27<=CH27,"OK","NG") -> OK | CJ27: =(BO27-(2*BW27+2*BV27+CF27*BU27))/(CF27-1) -> 72.5 | CK27: =IF(CJ27>= 25,"OK","NG") -> OK | CL27: =CC27/2 -> 153.125 | CM27: =CL27/((22/7)/4*BU27^2) -> 1.1531737 | CN27: =ROUNDUP(CM27,0) -> 2 | CO27: =MAX(CN27,CP27) -> 2 | CP27: 2 | CQ27: =CO27*(22/7)/4*BU27^2 -> 265.57143 | CR27: =IF(CL27<=CQ27,"OK","NG") -> OK | CS27: =(BO27-(2*BW27+2*BV27+CO27*BU27))/(CO27-1) -> 158 | CT27: =IF(CS27>= 25,"OK","NG") -> OK | CW27: L: | CX27: 3.5 | CY27: =O27 -> 400 | CZ27: =P27 -> 250 | DA27: =S27 -> 36.694 | DB27: 0.6 | DC27: =$H$9 -> 240 | DD27: =1/6*SQRT($H$7)*CZ27*BS27*0.001 -> 72.916667 | DE27: =DB27*DD27 -> 43.75 | DF27: =IF(DA27<=DE27,"Tul. Gerser Praktis","Perlu Tul Geser") -> Tul. Gerser Praktis | DP27: 200 | DQ27: Ø | DR27: =$H$14 -> 8 | DS27: - | DT27: =DP27 -> 200 | DX27: L: | DY27: 3.5 | DZ27: =O27 -> 400 | EA27: =P27 -> 250 | EB27: =$H$13 -> 13 | EC27: =$H$14 -> 8 | ED27: =$H$15 -> 25 | EE27: =AT27 -> 3 | EF27: =MAX(EE27,EG27) -> 3 | EG27: 2 | EH27: =BC27 -> 2 | EI27: =MAX(EH27,EJ27) -> 2 | EJ27: 2 | EK27: =CE27 -> 3 | EL27: =MAX(EK27,EM27) -> 3 | EM27: 2 | EN27: =CN27 -> 2 | EO27: =MAX(EN27,EP27) -> 2 | EP27: 2 | EQ27: Ø | ER27: =$H$14 -> 8 | ES27: - | ET27: =DT27 -> 200
M28: (4-7) | AA28: (4-7) | BL28: (4-7) | CW28: (4-7) | DX28: (4-7) | EE28: =AT28 -> 0 | EH28: =BC28 -> 0 | EK28: =CE28 -> 0 | EN28: =CN28 -> 0 | EV28: B3
A29: 1. TULANGAN MOMEN POSITIF | M29: L: | N29: 4 | O29: ='QE & MOMEN'!S40*1000 -> 400 | P29: ='QE & MOMEN'!V40*1000 -> 250 | Q29: ='QE & MOMEN'!BC24 -> 9.1545888 | R29: ='QE & MOMEN'!BB24 -> 59.759198 | S29: ='QE & MOMEN'!BF24 -> 69.928839 | T29: =$H$4 -> 0.85 | U29: =T29*0.85*$H$7/$H$8*600/(600+$H$8) -> 0.02709375 | V29: =0.75*U29*$H$8*(1-(0.5*0.75*U29*$H$8/(0.85*$H$7))) -> 6.5736211 | W29: =$H$27 -> 0.8 | AA29: L: | AB29: 4 | AC29: =O29 -> 400 | AD29: =P29 -> 250 | AE29: =Q29 -> 9.1545888 | AF29: =AE29/W29 -> 11.443236 | AG29: 50 | AH29: =AC29-AG29 -> 350 | AI29: =AF29*10^6/(AD29*AH29^2) -> 0.37365669 | AJ29: =$H$13 -> 13 | AK29: =$H$14 -> 8 | AL29: =$H$15 -> 25 | AM29: =IF(AI29<=V29,"OK","NG") -> OK | AN29: =0.85*($H$7/$H$8)*(1-(SQRT(1-2*AI29/(0.85*$H$7)))) -> 0.00094250228 | AO29: =1.4/$H$8 -> 0.0035 | AP29: =0.5*U29 -> 0.013546875 | AQ29: =MAX(AN29:AO29) -> 0.0035 | AR29: =AQ29*AD29*AH29 -> 306.25 | AS29: =AR29/((22/7)/4*AJ29^2) -> 2.3063475 | AT29: =ROUNDUP(AS29,0) -> 3 | AU29: =MAX(AT29,AV29) -> 3 | AV29: 2 | AW29: =AU29*(22/7)/4*AJ29^2 -> 398.35714 | AX29: =IF(AR29<=AW29,"OK","NG") -> OK | AY29: =(AD29-(2*AL29+2*AK29+AU29*AJ29))/(AU29-1) -> 72.5 | AZ29: =IF(AY29>= 25,"OK","NG") -> OK | BA29: =AR29/2 -> 153.125 | BB29: =BA29/((22/7)/4*AJ29^2) -> 1.1531737 | BC29: =ROUNDUP(BB29,0) -> 2 | BD29: =MAX(BC29,BE29) -> 2 | BE29: 2 | BF29: =BD29*(22/7)/4*AJ29^2 -> 265.57143 | BG29: =IF(BA29<=BF29,"OK","NG") -> OK | BH29: =(AD29-(2*AL29+2*AK29+BD29*AJ29))/(BD29-1) -> 158 | BI29: =IF(BH29>= 25,"OK","NG") -> OK | BL29: L: | BM29: 4 | BN29: =O29 -> 400 | BO29: =P29 -> 250 | BP29: =R29 -> 59.759198 | BQ29: =BP29/W29 -> 74.698997 | BR29: 50 | BS29: =BN29-BR29 -> 350 | BT29: =BQ29*10^6/(BO29*BS29^2) -> 2.4391509 | BU29: =$H$13 -> 13 | BV29: =$H$14 -> 8 | BW29: =$H$15 -> 25 | BX29: =IF(BT29<=V29,"OK","NG") -> OK | BY29: =0.85*($H$7/$H$8)*(1-(SQRT(1-2*BT29/(0.85*$H$7)))) -> 0.0064949007 | BZ29: =1.4/$H$8 -> 0.0035 | CA29: =0.5*U29 -> 0.013546875 | CB29: =MAX(BY29:BZ29) -> 0.0064949007 | CC29: =CB29*BO29*BS29 -> 568.30381 | CD29: =CC29/((22/7)/4*BU29^2) -> 4.2798566 | CE29: =ROUNDUP(CD29,0) -> 5 | CF29: =MAX(CE29,CG29) -> 5 | CG29: 2 | CH29: =CF29*(22/7)/4*BU29^2 -> 663.92857 | CI29: =IF(CC29<=CH29,"OK","NG") -> OK | CJ29: =(BO29-(2*BW29+2*BV29+CF29*BU29))/(CF29-1) -> 29.75 | CK29: =IF(CJ29>= 25,"OK","NG") -> OK | CL29: =CC29/2 -> 284.15191 | CM29: =CL29/((22/7)/4*BU29^2) -> 2.1399283 | CN29: =ROUNDUP(CM29,0) -> 3 | CO29: =MAX(CN29,CP29) -> 3 | CP29: 2 | CQ29: =CO29*(22/7)/4*BU29^2 -> 398.35714 | CR29: =IF(CL29<=CQ29,"OK","NG") -> OK | CS29: =(BO29-(2*BW29+2*BV29+CO29*BU29))/(CO29-1) -> 72.5 | CT29: =IF(CS29>= 25,"OK","NG") -> OK | CW29: L: | CX29: 4 | CY29: =O29 -> 400 | CZ29: =P29 -> 250 | DA29: =S29 -> 69.928839 | DB29: 0.6 | DC29: =$H$9 -> 240 | DD29: =1/6*SQRT($H$7)*CZ29*BS29*0.001 -> 72.916667 | DE29: =DB29*DD29 -> 43.75 | DF29: =IF(DA29<=DE29,"Tul. Gerser Praktis","Perlu Tul Geser") -> Perlu Tul Geser | DG29: =DA29-DE29 -> 26.178839 | DH29: =DG29/DB29 -> 43.631398 | DI29: 1 | DJ29: =$AK$11 -> 8 | DK29: =DI29*((22/7)/4)*DJ29^2 -> 50.285714 | DL29: =DK29*DC27*BS29/(DH29*10^3) -> 96.811018 | DM29: =IF(DH29<(1/3*SQRT($H$7)*CZ29*BS29),"1/2 D - 600","1/4D - 300") -> 1/2 D - 600 | DN29: =1/2*AH29 -> 175 | DO29: 600 | DP29: =MIN(DL29,DN29,DO29) -> 96.811018 | DQ29: Ø | DR29: =$H$14 -> 8 | DS29: - | DT29: =ROUNDDOWN(DP29,-1) -> 90 | DX29: L: | DY29: 4 | DZ29: =O29 -> 400 | EA29: =P29 -> 250 | EB29: =$H$13 -> 13 | EC29: =$H$14 -> 8 | ED29: =$H$15 -> 25 | EE29: =AT29 -> 3 | EF29: =MAX(EE29,EG29) -> 3 | EG29: 2 | EH29: =BC29 -> 2 | EI29: =MAX(EH29,EJ29) -> 2 | EJ29: 2 | EK29: =CE29 -> 5 | EL29: =MAX(EK29,EM29) -> 5 | EM29: 2 | EN29: =CN29 -> 3 | EO29: =MAX(EN29,EP29) -> 3 | EP29: 2 | EQ29: Ø | ER29: =$H$14 -> 8 | ES29: - | ET29: =DT29 -> 90
A30: Momen positif nominal rencana, | G30: Mn | H30: Muᶧ/ᶲ | M30: (7-8) | AA30: (7-8) | BL30: (7-8) | CW30: (7-8) | DX30: (7-8) | EE30: =AT30 -> 0 | EH30: =BC30 -> 0 | EK30: =CE30 -> 0 | EN30: =CN30 -> 0 | EV30: B2
A31: Diperkirakan jarak pusat tulangan lentur ke sisi beton, | G31: d' | H31: 50 | I31: mm | M31: L: | N31: 2.5 | O31: ='QE & MOMEN'!S42*1000 -> 400 | P31: ='QE & MOMEN'!V42*1000 -> 250 | Q31: ='QE & MOMEN'!AA42 -> 5.72875 | R31: ='QE & MOMEN'!AA42 -> 5.72875 | S31: ='QE & MOMEN'!AB42 -> 13.749 | T31: =$H$4 -> 0.85 | U31: =T31*0.85*$H$7/$H$8*600/(600+$H$8) -> 0.02709375 | V31: =0.75*U31*$H$8*(1-(0.5*0.75*U31*$H$8/(0.85*$H$7))) -> 6.5736211 | W31: =$H$27 -> 0.8 | AA31: L: | AB31: 2.5 | AC31: =O31 -> 400 | AD31: =P31 -> 250 | AE31: =Q31 -> 5.72875 | AF31: =AE31/W31 -> 7.1609375 | AG31: 50 | AH31: =AC31-AG31 -> 350 | AI31: =AF31*10^6/(AD31*AH31^2) -> 0.23382653 | AJ31: =$H$13 -> 13 | AK31: =$H$14 -> 8 | AL31: =$H$15 -> 25 | AM31: =IF(AI31<=V31,"OK","NG") -> OK | AN31: =0.85*($H$7/$H$8)*(1-(SQRT(1-2*AI31/(0.85*$H$7)))) -> 0.00058781838 | AO31: =1.4/$H$8 -> 0.0035 | AP31: =0.5*U31 -> 0.013546875 | AQ31: =MAX(AN31:AO31) -> 0.0035 | AR31: =AQ31*AD31*AH31 -> 306.25 | AS31: =AR31/((22/7)/4*AJ31^2) -> 2.3063475 | AT31: =ROUNDUP(AS31,0) -> 3 | AU31: =MAX(AT31,AV31) -> 3 | AV31: 2 | AW31: =AU31*(22/7)/4*AJ31^2 -> 398.35714 | AX31: =IF(AR31<=AW31,"OK","NG") -> OK | AY31: =(AD31-(2*AL31+2*AK31+AU31*AJ31))/(AU31-1) -> 72.5 | AZ31: =IF(AY31>= 25,"OK","NG") -> OK | BA31: =AR31/2 -> 153.125 | BB31: =BA31/((22/7)/4*AJ31^2) -> 1.1531737 | BC31: =ROUNDUP(BB31,0) -> 2 | BD31: =MAX(BC31,BE31) -> 2 | BE31: 2 | BF31: =BD31*(22/7)/4*AJ31^2 -> 265.57143 | BG31: =IF(BA31<=BF31,"OK","NG") -> OK | BH31: =(AD31-(2*AL31+2*AK31+BD31*AJ31))/(BD31-1) -> 158 | BI31: =IF(BH31>= 25,"OK","NG") -> OK | BL31: L: | BM31: 2.5 | BN31: =O31 -> 400 | BO31: =P31 -> 250 | BP31: =R31 -> 5.72875 | BQ31: =BP31/W31 -> 7.1609375 | BR31: 50 | BS31: =BN31-BR31 -> 350 | BT31: =BQ31*10^6/(BO31*BS31^2) -> 0.23382653 | BU31: =$H$13 -> 13 | BV31: =$H$14 -> 8 | BW31: =$H$15 -> 25 | BX31: =IF(BT31<=V31,"OK","NG") -> OK | BY31: =0.85*($H$7/$H$8)*(1-(SQRT(1-2*BT31/(0.85*$H$7)))) -> 0.00058781838 | BZ31: =1.4/$H$8 -> 0.0035 | CA31: =0.5*U31 -> 0.013546875 | CB31: =MAX(BY31:BZ31) -> 0.0035 | CC31: =CB31*BO31*BS31 -> 306.25 | CD31: =CC31/((22/7)/4*BU31^2) -> 2.3063475 | CE31: =ROUNDUP(CD31,0) -> 3 | CF31: =MAX(CE31,CG31) -> 3 | CG31: 2 | CH31: =CF31*(22/7)/4*BU31^2 -> 398.35714 | CI31: =IF(CC31<=CH31,"OK","NG") -> OK | CJ31: =(BO31-(2*BW31+2*BV31+CF31*BU31))/(CF31-1) -> 72.5 | CK31: =IF(CJ31>= 25,"OK","NG") -> OK | CL31: =CC31/2 -> 153.125 | CM31: =CL31/((22/7)/4*BU31^2) -> 1.1531737 | CN31: =ROUNDUP(CM31,0) -> 2 | CO31: =MAX(CN31,CP31) -> 2 | CP31: 2 | CQ31: =CO31*(22/7)/4*BU31^2 -> 265.57143 | CR31: =IF(CL31<=CQ31,"OK","NG") -> OK | CS31: =(BO31-(2*BW31+2*BV31+CO31*BU31))/(CO31-1) -> 158 | CT31: =IF(CS31>= 25,"OK","NG") -> OK | CW31: L: | CX31: 2.5 | CY31: =O31 -> 400 | CZ31: =P31 -> 250 | DA31: =S31 -> 13.749 | DB31: 0.6 | DC31: =$H$9 -> 240 | DD31: =1/6*SQRT($H$7)*CZ31*BS31*0.001 -> 72.916667 | DE31: =DB31*DD31 -> 43.75 | DF31: =IF(DA31<=DE31,"Tul. Gerser Praktis","Perlu Tul Geser") -> Tul. Gerser Praktis | DP31: 200 | DQ31: Ø | DR31: =$H$14 -> 8 | DS31: - | DT31: =DP31 -> 200 | DX31: L: | DY31: 2.5 | DZ31: =O31 -> 400 | EA31: =P31 -> 250 | EB31: =$H$13 -> 13 | EC31: =$H$14 -> 8 | ED31: =$H$15 -> 25 | EE31: =AT31 -> 3 | EF31: =MAX(EE31,EG31) -> 3 | EG31: 2 | EH31: =BC31 -> 2 | EI31: =MAX(EH31,EJ31) -> 2 | EJ31: 2 | EK31: =CE31 -> 3 | EL31: =MAX(EK31,EM31) -> 3 | EM31: 2 | EN31: =CN31 -> 2 | EO31: =MAX(EN31,EP31) -> 2 | EP31: 2 | EQ31: Ø | ER31: =$H$14 -> 8 | ES31: - | ET31: =DT31 -> 200
A32: Tinggi efektif balok, | G32: d | H32: h-d' | I32: mm
A33: Faktor tahanan momen, | G33: Rn | H33: Mn * 10⁶ / ( b*d²) | BB33: `
G34: Syarat | H34: Mn < Rmax → OK
A35: Rasio tulangan yang diperlukan : | G35: ρ | H35: 0,85 * fc’ / fy * [ 1 - √ * [1 – 2 * Rn / ( 0,85 * fc’ ) ]
A36: Rasio tulangan minimum, | G36: ρmin | H36: √fc' /(4 * fy)
A37: Rasio tulangan minimum, | G37: ρmin | H37: 1,4 / fy
A38: Rasio tulangan yang digunakan, | G38: ρ | H38: →
A39: Luas tulangan yang diperlukan, (tulangan tarik) | G39: As | H39: ρ *b * d | I39: mm²
A40: Jumlah tulangan yang diperlukan, (tulangan tarik) | G40: n | H40: As / (π / 4 * D²) | I40: bh
A41: Digunakan tulangan, (tulangan tarik) | G41: n | H41: → | I41: bh
A42: Luas tulangan terpakai, (tulangan tarik) | G42: At | H42: n * π / 4 * D² | I42: mm²
G43: Syarat | H43: As < At → OK
A44: Jarak sisi luar antar tulangan pokok, (tulangan tarik) | G44: S | H44: S = ( b - (2p+2 Ø*skg + n*ØTP))/(n-1) | I44: mm
G45: Syarat | H45: 25 mm < S → OK
A46: Luas tulangan yang diperlukan, (tulangan tekan) | G46: As' | H46: ρ *b * d | I46: mm²
A47: Jumlah tulangan yang diperlukan, (tulangan tekan) | G47: n' | H47: As / (π / 4 * D²) | I47: bh
A48: Digunakan tulangan, (tulangan tekan) | G48: n' | H48: → | I48: bh
A49: Luas tulangan terpakai, (tulangan tekan) | G49: At' | H49: n * π / 4 * D² | I49: mm²
G50: Syarat | H50: As < At → OK
A51: Jarak sisi luar antar tulangan pokok, (tulangan tekan) | G51: S' | H51: S = ( b - (2p+2 Ø*skg + n*ØTP))/(n-1) | I51: mm
G52: Syarat | H52: 25 mm < S → OK
L53: PERHITUNGAN TULANGAN
A54: 2. TULANGAN MOMEN NEGATIF | L54: A . Perhitungan Penulangan Pada Balok Melintang / Arah X | CV54: B. Perhitungan Tulangan Geser Pada Balok Melintang / Arah X
A55: Momen negatif nominal rencana, | G55: Mn | H55: Mu⁻/ᶲ | L55: 1. Data Balok Melintang / Arah X | Z55: 2. Perhitungan Tulangan Momen Positif Pada Balok Melintang / Arah X | BK55: 3. Perhitungan Tulangan Momen Negatif Pada Balok Melintang / Arah X | CV55: 1. Perhitungan Tulangan Geser | DW55: Tabel Rekapitulasi Penulangan Balok Melintang / Arah X
A56: Diperkirakan jarak pusat tulangan lentur ke sisi beton, | G56: ds=d' | H56: 50 | I56: mm
A57: Tinggi efektif balok, | G57: d | H57: h-d' | I57: mm | DW57: As Balok | DZ57: h (dipakai) | EA57: b (dipakai) | EB57: Ø TP | EC57: Ø (P) | ED57: ts | EE57: Tulangan Tarik | EK57: Tulangan Tekan | EQ57: Digunakan Sengkang | EV57: Keterangan
A58: Faktor tahanan momen, | G58: Rn | H58: Mn * 10⁶ / ( b*d²) | L58: As Balok | O58: h (dipakai) | P58: b (dipakai) | Q58: Mu + | R58: Mu - | S58: Vu | T58: β₁ | U58: ρb | V58: Rmax | W58: ᶲ | Z58: As Balok | AC58: h (dipakai) | AD58: b (dipakai) | AE58: Mu + | AF58: Mn | AG58: d' | AH58: d | AI58: Rn | AJ58: Ø TP | AK58: Ø (P) | AL58: ts | AM58: Syarat | AN58: ρ | AO58: ρmin | AP58: ρmax | AQ58: ρ | AR58: As | AS58: n | AT58: n (dipakai min 2 bh) | AW58: At | AX58: Syarat | AY58: s | AZ58: Syarat | BA58: As' | BB58: n' | BC58: n' (dipakai Min 2 bh) | BF58: At' | BG58: Syarat | BH58: s' | BI58: Syarat | BK58: As Balok | BN58: h (dipakai) | BO58: b (dipakai) | BP58: Mu - | BQ58: Mn | BR58: d' | BS58: d | BT58: Rn | BU58: Ø TP | BV58: Ø (P) | BW58: ts | BX58: Syarat | BY58: ρ | BZ58: ρmin | CA58: ρmax | CB58: ρ | CC58: As | CD58: n | CE58: n (dipakai min 2 bh) | CH58: At | CI58: Syarat | CJ58: s | CK58: Syarat | CL58: As' | CM58: n' | CN58: n' (dipakai Min 2 bh) | CQ58: At' | CR58: Syarat | CS58: s' | CT58: Syarat | CV58: As Balok | CY58: h (dipakai) | CZ58: b (dipakai) | DA58: Vu | DB58: ᶲ | DC58: Fy | DD58: Vc | DE58: ᶲ * Vc | DF58: Syarat | DG58: ᶲ *Vs | DH58: Vs | DI58: ns | DJ58: Ø (P) | DK58: Av | DL58: s perlu | DM58: Syarat | DN58: Smax 1/2 d | DO58: Smax | DP58: s (dipakai) | DQ58: Digunakan Sengkang | EE58: n (dipakai min 2 bh) | EH58: n' (dipakai Min 2 bh) | EK58: n (dipakai min 2 bh) | EN58: n' (dipakai Min 2 bh)
G59: Syarat | H59: Mn < Rmax → OK | L59: (m) | O59: (mm) | P59: (mm) | Q59: (kN.m) | R59: (kN.m) | S59: (kN.m) | Z59: (m) | AC59: (mm) | AD59: (mm) | AE59: (kN.m) | AF59: (kN.m) | AG59: (mm) | AH59: (mm) | AJ59: (mm) | AK59: (mm) | AL59: (mm) | AM59: Rn < Rmax | AQ59: (dipakai) | AR59: (mm²) | AW59: (mm²) | AX59: As < At | AY59: (mm) | AZ59: s ≥ 25 mm | BA59: (mm²) | BF59: (mm²) | BG59: As '< At' | BH59: (mm) | BI59: s' ≥ 25 mm | BK59: (m) | BN59: (mm) | BO59: (mm) | BP59: (kN.m) | BQ59: (kN.m) | BR59: (mm) | BS59: (mm) | BU59: (mm) | BV59: (mm) | BW59: (mm) | BX59: Rn < Rmax | CB59: (dipakai) | CC59: (mm²) | CH59: (mm²) | CI59: As < At | CJ59: (mm) | CK59: s ≥ 25 mm | CL59: (mm²) | CQ59: (mm²) | CR59: As '< At' | CS59: (mm) | CT59: s' ≥ 25 mm | CV59: (mm) | CY59: (mm) | CZ59: (mm) | DA59: (kN.m) | DC59: (Mpa) | DD59: (KN) | DE59: (KN) | DG59: (KN) | DH59: (KN) | DJ59: (mm) | DK59: (mm²) | DL59: (mm) | DM59: Smax | DN59: (mm) | DO59: (mm) | DP59: (mm) | DW59: (m) | DZ59: (mm) | EA59: (mm) | EB59: (mm) | EC59: (mm) | ED59: (mm)
A60: Rasio tulangan yang diperlukan : | G60: ρ | H60: 0.85 * fc’ / fy * [ 1 - √ * [1 – 2 * Rn / ( 0.85 * fc’ ) ] | L60: 2 | M60: (A-B) | Z60: 2 | AA60: (A-B) | BK60: 2 | BL60: (A-B) | CV60: 2 | CW60: (A-B) | DW60: 2 | DX60: (A-B) | EV60: B4
A61: Rasio tulangan minimum, | G61: ρmin | H61: √fc' /(4 * fy) | M61: L: | N61: 3 | O61: ='QE & MOMEN'!S50*1000 -> 250 | P61: ='QE & MOMEN'!V50*1000 -> 150 | Q61: ='QE & MOMEN'!AA50 -> 4.36725 | R61: ='QE & MOMEN'!AA50 -> 4.36725 | S61: ='QE & MOMEN'!AB50 -> 8.7345 | T61: =$H$4 -> 0.85 | U61: =T61*0.85*$H$7/$H$8*600/(600+$H$8) -> 0.02709375 | V61: =0.75*U61*$H$8*(1-(0.5*0.75*U61*$H$8/(0.85*$H$7))) -> 6.5736211 | W61: =$H$27 -> 0.8 | AA61: L: | AB61: 3 | AC61: =O61 -> 250 | AD61: =P61 -> 150 | AE61: =Q61 -> 4.36725 | AF61: =AE61/W61 -> 5.4590625 | AG61: 50 | AH61: =AC61-AG61 -> 200 | AI61: =AF61*10^6/(AD61*AH61^2) -> 0.90984375 | AJ61: =$H$13 -> 13 | AK61: =$H$14 -> 8 | AL61: =$H$15 -> 25 | AM61: =IF(AI61<=V61,"OK","NG") -> OK | AN61: =0.85*($H$7/$H$8)*(1-(SQRT(1-2*AI61/(0.85*$H$7)))) -> 0.0023255081 | AO61: =1.4/$H$8 -> 0.0035 | AP61: =0.5*U61 -> 0.013546875 | AQ61: =MAX(AN61:AO61) -> 0.0035 | AR61: =AQ61*AD61*AH61 -> 105 | AS61: =AR61/((22/7)/4*AJ61^2) -> 0.79074771 | AT61: =ROUNDUP(AS61,0) -> 1 | AU61: =MAX(AT61,AV61) -> 2 | AV61: 2 | AW61: =AU61*(22/7)/4*AJ61^2 -> 265.57143 | AX61: =IF(AR61<=AW61,"OK","NG") -> OK | AY61: =(AD61-(2*AL61+2*AK61+AU61*AJ61))/(AU61-1) -> 58 | AZ61: =IF(AY61>= 25,"OK","NG") -> OK | BA61: =AR61/2 -> 52.5 | BB61: =BA61/((22/7)/4*AJ61^2) -> 0.39537386 | BC61: =ROUNDUP(BB61,0) -> 1 | BD61: =MAX(BC61,BE61) -> 2 | BE61: 2 | BF61: =BD61*(22/7)/4*AJ61^2 -> 265.57143 | BG61: =IF(BA61<=BF61,"OK","NG") -> OK | BH61: =(AD61-(2*AL61+2*AK61+BD61*AJ61))/(BD61-1) -> 58 | BI61: =IF(BH61>= 25,"OK","NG") -> OK | BL61: L: | BM61: 3 | BN61: =O61 -> 250 | BO61: =P61 -> 150 | BP61: =R61 -> 4.36725 | BQ61: =BP61/W61 -> 5.4590625 | BR61: 50 | BS61: =BN61-BR61 -> 200 | BT61: =BQ61*10^6/(BO61*BS61^2) -> 0.90984375 | BU61: =$H$13 -> 13 | BV61: =$H$14 -> 8 | BW61: =$H$15 -> 25 | BX61: =IF(BT61<=V61,"OK","NG") -> OK | BY61: =0.85*($H$7/$H$8)*(1-(SQRT(1-2*BT61/(0.85*$H$7)))) -> 0.0023255081 | BZ61: =1.4/$H$8 -> 0.0035 | CA61: =0.5*U61 -> 0.013546875 | CB61: =MAX(BY61:BZ61) -> 0.0035 | CC61: =CB61*BO61*BS61 -> 105 | CD61: =CC61/((22/7)/4*BU61^2) -> 0.79074771 | CE61: =ROUNDUP(CD61,0) -> 1 | CF61: =MAX(CE61,CG61) -> 2 | CG61: 2 | CH61: =CF61*(22/7)/4*BU61^2 -> 265.57143 | CI61: =IF(CC61<=CH61,"OK","NG") -> OK | CJ61: =(BO61-(2*BW61+2*BV61+CF61*BU61))/(CF61-1) -> 58 | CK61: =IF(CJ61>= 25,"OK","NG") -> OK | CL61: =CC61/2 -> 52.5 | CM61: =CL61/((22/7)/4*BU61^2) -> 0.39537386 | CN61: =ROUNDUP(CM61,0) -> 1 | CO61: =MAX(CN61,CP61) -> 2 | CP61: 2 | CQ61: =CO61*(22/7)/4*BU61^2 -> 265.57143 | CR61: =IF(CL61<=CQ61,"OK","NG") -> OK | CS61: =(BO61-(2*BW61+2*BV61+CO61*BU61))/(CO61-1) -> 58 | CT61: =IF(CS61>= 25,"OK","NG") -> OK | CW61: L: | CX61: 3 | CY61: =O61 -> 250 | CZ61: =P61 -> 150 | DA61: =S61 -> 8.7345 | DB61: 0.6 | DC61: =$H$9 -> 240 | DD61: =1/6*SQRT($H$7)*CZ61*BS61*0.001 -> 25 | DE61: =DB61*DD61 -> 15 | DF61: =IF(DA61<=DE61,"Tul. Gerser Praktis","Perlu Tul Geser") -> Tul. Gerser Praktis | DP61: 200 | DQ61: Ø | DR61: =$H$14 -> 8 | DS61: - | DT61: =DP61 -> 200 | DX61: L: | DY61: 3 | DZ61: =O61 -> 250 | EA61: =P61 -> 150 | EB61: =$H$13 -> 13 | EC61: =$H$14 -> 8 | ED61: =$H$15 -> 25 | EE61: =AT61 -> 1 | EF61: =MAX(EE61,EG61) -> 2 | EG61: 2 | EH61: =BC61 -> 1 | EI61: =MAX(EH61,EJ61) -> 2 | EJ61: 2 | EK61: =CE61 -> 1 | EL61: =MAX(EK61,EM61) -> 2 | EM61: 2 | EN61: =CN61 -> 1 | EO61: =MAX(EN61,EP61) -> 2 | EP61: 2 | EQ61: Ø | ER61: =$H$14 -> 8 | ES61: - | ET61: =DT61 -> 200
A62: Rasio tulangan minimum, | G62: ρmin | H62: 1,4 / fy | L62: 3 | M62: (A-B) | Z62: 3 | AA62: (A-B) | BK62: 3 | BL62: (A-B) | CV62: 3 | CW62: (A-B) | DW62: 3 | DX62: (A-B) | EE62: =AT62 -> 0 | EH62: =BC62 -> 0 | EK62: =CE62 -> 0 | EN62: =CN62 -> 0 | EV62: B1
A63: Rasio tulangan yang digunakan, | G63: ρ | H63: → | M63: L: | N63: 3 | O63: ='QE & MOMEN'!S52*1000 -> 300 | P63: ='QE & MOMEN'!V52*1000 -> 200 | Q63: ='QE & MOMEN'!AA52 -> 17.62875 | R63: ='QE & MOMEN'!AA52 -> 17.62875 | S63: ='QE & MOMEN'!AB52 -> 35.2575 | T63: =$H$4 -> 0.85 | U63: =T63*0.85*$H$7/$H$8*600/(600+$H$8) -> 0.02709375 | V63: =0.75*U63*$H$8*(1-(0.5*0.75*U63*$H$8/(0.85*$H$7))) -> 6.5736211 | W63: =$H$27 -> 0.8 | AA63: L: | AB63: 3 | AC63: =O63 -> 300 | AD63: =P63 -> 200 | AE63: =Q63 -> 17.62875 | AF63: =AE63/W63 -> 22.035938 | AG63: 50 | AH63: =AC63-AG63 -> 250 | AI63: =AF63*10^6/(AD63*AH63^2) -> 1.762875 | AJ63: =$H$13 -> 13 | AK63: =$H$14 -> 8 | AL63: =$H$15 -> 25 | AM63: =IF(AI63<=V63,"OK","NG") -> OK | AN63: =0.85*($H$7/$H$8)*(1-(SQRT(1-2*AI63/(0.85*$H$7)))) -> 0.004606942 | AO63: =1.4/$H$8 -> 0.0035 | AP63: =0.5*U63 -> 0.013546875 | AQ63: =MAX(AN63:AO63) -> 0.004606942 | AR63: =AQ63*AD63*AH63 -> 230.3471 | AS63: =AR63/((22/7)/4*AJ63^2) -> 1.734728 | AT63: =ROUNDUP(AS63,0) -> 2 | AU63: =MAX(AT63,AV63) -> 2 | AV63: 2 | AW63: =AU63*(22/7)/4*AJ63^2 -> 265.57143 | AX63: =IF(AR63<=AW63,"OK","NG") -> OK | AY63: =(AD63-(2*AL63+2*AK63+AU63*AJ63))/(AU63-1) -> 108 | AZ63: =IF(AY63>= 25,"OK","NG") -> OK | BA63: =AR63/2 -> 115.17355 | BB63: =BA63/((22/7)/4*AJ63^2) -> 0.86736401 | BC63: =ROUNDUP(BB63,0) -> 1 | BD63: =MAX(BC63,BE63) -> 2 | BE63: 2 | BF63: =BD63*(22/7)/4*AJ63^2 -> 265.57143 | BG63: =IF(BA63<=BF63,"OK","NG") -> OK | BH63: =(AD63-(2*AL63+2*AK63+BD63*AJ63))/(BD63-1) -> 108 | BI63: =IF(BH63>= 25,"OK","NG") -> OK | BL63: L: | BM63: 3 | BN63: =O63 -> 300 | BO63: =P63 -> 200 | BP63: =R63 -> 17.62875 | BQ63: =BP63/W63 -> 22.035938 | BR63: 50 | BS63: =BN63-BR63 -> 250 | BT63: =BQ63*10^6/(BO63*BS63^2) -> 1.762875 | BU63: =$H$13 -> 13 | BV63: =$H$14 -> 8 | BW63: =$H$15 -> 25 | BX63: =IF(BT63<=V63,"OK","NG") -> OK | BY63: =0.85*($H$7/$H$8)*(1-(SQRT(1-2*BT63/(0.85*$H$7)))) -> 0.004606942 | BZ63: =1.4/$H$8 -> 0.0035 | CA63: =0.5*U63 -> 0.013546875 | CB63: =MAX(BY63:BZ63) -> 0.004606942 | CC63: =CB63*BO63*BS63 -> 230.3471 | CD63: =CC63/((22/7)/4*BU63^2) -> 1.734728 | CE63: =ROUNDUP(CD63,0) -> 2 | CF63: =MAX(CE63,CG63) -> 2 | CG63: 2 | CH63: =CF63*(22/7)/4*BU63^2 -> 265.57143 | CI63: =IF(CC63<=CH63,"OK","NG") -> OK | CJ63: =(BO63-(2*BW63+2*BV63+CF63*BU63))/(CF63-1) -> 108 | CK63: =IF(CJ63>= 25,"OK","NG") -> OK | CL63: =CC63/2 -> 115.17355 | CM63: =CL63/((22/7)/4*BU63^2) -> 0.86736401 | CN63: =ROUNDUP(CM63,0) -> 1 | CO63: =MAX(CN63,CP63) -> 2 | CP63: 2 | CQ63: =CO63*(22/7)/4*BU63^2 -> 265.57143 | CR63: =IF(CL63<=CQ63,"OK","NG") -> OK | CS63: =(BO63-(2*BW63+2*BV63+CO63*BU63))/(CO63-1) -> 108 | CT63: =IF(CS63>= 25,"OK","NG") -> OK | CW63: L: | CX63: 3 | CY63: =O63 -> 300 | CZ63: =P63 -> 200 | DA63: =S63 -> 35.2575 | DB63: 0.6 | DC63: =$H$9 -> 240 | DD63: =1/6*SQRT($H$7)*CZ63*BS63*0.001 -> 41.666667 | DE63: =DB63*DD63 -> 25 | DF63: =IF(DA63<=DE63,"Tul. Gerser Praktis","Perlu Tul Geser") -> Perlu Tul Geser | DG63: =DA63-DE63 -> 10.2575 | DH63: =DG63/DB63 -> 17.095833 | DI63: 1 | DJ63: =$AK$11 -> 8 | DK63: =DI63*((22/7)/4)*DJ63^2 -> 50.285714 | DL63: =DK63*DC61*BS63/(DH63*10^3) -> 176.48411 | DM63: =IF(DH63<(1/3*SQRT($H$7)*CZ63*BS63),"1/2 D - 600","1/4D - 300") -> 1/2 D - 600 | DN63: =1/2*AH63 -> 125 | DO63: 600 | DP63: =MIN(DL63,DN63,DO63) -> 125 | DQ63: Ø | DR63: =$H$14 -> 8 | DS63: - | DT63: =DP63 -> 125 | DX63: L: | DY63: 3 | DZ63: =O63 -> 300 | EA63: =P63 -> 200 | EB63: =$H$13 -> 13 | EC63: =$H$14 -> 8 | ED63: =$H$15 -> 25 | EE63: =AT63 -> 2 | EF63: =MAX(EE63,EG63) -> 2 | EG63: 2 | EH63: =BC63 -> 1 | EI63: =MAX(EH63,EJ63) -> 2 | EJ63: 2 | EK63: =CE63 -> 2 | EL63: =MAX(EK63,EM63) -> 2 | EM63: 2 | EN63: =CN63 -> 1 | EO63: =MAX(EN63,EP63) -> 2 | EP63: 2 | EQ63: Ø | ER63: =$H$14 -> 8 | ES63: - | ET63: =DT63 -> 125
A64: Luas tulangan yang diperlukan, (tulangan tarik) | G64: As | H64: ρ *b * d | I64: mm² | M64: (B-D) | AA64: (B-D) | BL64: (B-D) | CW64: (B-D) | DX64: (B-D) | EE64: =AT64 -> 0 | EH64: =BC64 -> 0 | EK64: =CE64 -> 0 | EN64: =CN64 -> 0 | EV64: B5
A65: Jumlah tulangan yang diperlukan, (tulangan tarik) | G65: n | H65: As / (π / 4 * D²) | I65: bh | M65: L: | N65: 3.5 | O65: ='QE & MOMEN'!S54*1000 -> 300 | P65: ='QE & MOMEN'!V54*1000 -> 200 | Q65: ='QE & MOMEN'!AA54 -> 20.228833 | R65: ='QE & MOMEN'!AA54 -> 20.228833 | S65: ='QE & MOMEN'!AB54 -> 34.678 | T65: =$H$4 -> 0.85 | U65: =T65*0.85*$H$7/$H$8*600/(600+$H$8) -> 0.02709375 | V65: =0.75*U65*$H$8*(1-(0.5*0.75*U65*$H$8/(0.85*$H$7))) -> 6.5736211 | W65: =$H$27 -> 0.8 | AA65: L: | AB65: 3.5 | AC65: =O65 -> 300 | AD65: =P65 -> 200 | AE65: =Q65 -> 20.228833 | AF65: =AE65/W65 -> 25.286042 | AG65: 50 | AH65: =AC65-AG65 -> 250 | AI65: =AF65*10^6/(AD65*AH65^2) -> 2.0228833 | AJ65: =$H$13 -> 13 | AK65: =$H$14 -> 8 | AL65: =$H$15 -> 25 | AM65: =IF(AI65<=V65,"OK","NG") -> OK | AN65: =0.85*($H$7/$H$8)*(1-(SQRT(1-2*AI65/(0.85*$H$7)))) -> 0.0053239829 | AO65: =1.4/$H$8 -> 0.0035 | AP65: =0.5*U65 -> 0.013546875 | AQ65: =MAX(AN65:AO65) -> 0.0053239829 | AR65: =AQ65*AD65*AH65 -> 266.19914 | AS65: =AR65/((22/7)/4*AJ65^2) -> 2.0047273 | AT65: =ROUNDUP(AS65,0) -> 3 | AU65: =MAX(AT65,AV65) -> 3 | AV65: 2 | AW65: =AU65*(22/7)/4*AJ65^2 -> 398.35714 | AX65: =IF(AR65<=AW65,"OK","NG") -> OK | AY65: =(AD65-(2*AL65+2*AK65+AU65*AJ65))/(AU65-1) -> 47.5 | AZ65: =IF(AY65>= 25,"OK","NG") -> OK | BA65: =AR65/2 -> 133.09957 | BB65: =BA65/((22/7)/4*AJ65^2) -> 1.0023636 | BC65: =ROUNDUP(BB65,0) -> 2 | BD65: =MAX(BC65,BE65) -> 2 | BE65: 2 | BF65: =BD65*(22/7)/4*AJ65^2 -> 265.57143 | BG65: =IF(BA65<=BF65,"OK","NG") -> OK | BH65: =(AD65-(2*AL65+2*AK65+BD65*AJ65))/(BD65-1) -> 108 | BI65: =IF(BH65>= 25,"OK","NG") -> OK | BL65: L: | BM65: 3.5 | BN65: =O65 -> 300 | BO65: =P65 -> 200 | BP65: =R65 -> 20.228833 | BQ65: =BP65/W65 -> 25.286042 | BR65: 50 | BS65: =BN65-BR65 -> 250 | BT65: =BQ65*10^6/(BO65*BS65^2) -> 2.0228833 | BU65: =$H$13 -> 13 | BV65: =$H$14 -> 8 | BW65: =$H$15 -> 25 | BX65: =IF(BT65<=V65,"OK","NG") -> OK | BY65: =0.85*($H$7/$H$8)*(1-(SQRT(1-2*BT65/(0.85*$H$7)))) -> 0.0053239829 | BZ65: =1.4/$H$8 -> 0.0035 | CA65: =0.5*U65 -> 0.013546875 | CB65: =MAX(BY65:BZ65) -> 0.0053239829 | CC65: =CB65*BO65*BS65 -> 266.19914 | CD65: =CC65/((22/7)/4*BU65^2) -> 2.0047273 | CE65: =ROUNDUP(CD65,0) -> 3 | CF65: =MAX(CE65,CG65) -> 3 | CG65: 2 | CH65: =CF65*(22/7)/4*BU65^2 -> 398.35714 | CI65: =IF(CC65<=CH65,"OK","NG") -> OK | CJ65: =(BO65-(2*BW65+2*BV65+CF65*BU65))/(CF65-1) -> 47.5 | CK65: =IF(CJ65>= 25,"OK","NG") -> OK | CL65: =CC65/2 -> 133.09957 | CM65: =CL65/((22/7)/4*BU65^2) -> 1.0023636 | CN65: =ROUNDUP(CM65,0) -> 2 | CO65: =MAX(CN65,CP65) -> 2 | CP65: 2 | CQ65: =CO65*(22/7)/4*BU65^2 -> 265.57143 | CR65: =IF(CL65<=CQ65,"OK","NG") -> OK | CS65: =(BO65-(2*BW65+2*BV65+CO65*BU65))/(CO65-1) -> 108 | CT65: =IF(CS65>= 25,"OK","NG") -> OK | CW65: L: | CX65: 3.5 | CY65: =O65 -> 300 | CZ65: =P65 -> 200 | DA65: =S65 -> 34.678 | DB65: 0.6 | DC65: =$H$9 -> 240 | DD65: =1/6*SQRT($H$7)*CZ65*BS65*0.001 -> 41.666667 | DE65: =DB65*DD65 -> 25 | DF65: =IF(DA65<=DE65,"Tul. Gerser Praktis","Perlu Tul Geser") -> Perlu Tul Geser | DG65: =DA65-DE65 -> 9.678 | DH65: =DG65/DB65 -> 16.13 | DI65: 1 | DJ65: =$AK$11 -> 8 | DK65: =DI65*((22/7)/4)*DJ65^2 -> 50.285714 | DL65: =DK65*DC63*BS65/(DH65*10^3) -> 187.05163 | DM65: =IF(DH65<(1/3*SQRT($H$7)*CZ65*BS65),"1/2 D - 600","1/4D - 300") -> 1/2 D - 600 | DN65: =1/2*AH65 -> 125 | DO65: 600 | DP65: =MIN(DL65,DN65,DO65) -> 125 | DQ65: Ø | DR65: =$H$14 -> 8 | DS65: - | DT65: =DP65 -> 125 | DX65: L: | DY65: 3.5 | DZ65: =O65 -> 300 | EA65: =P65 -> 200 | EB65: =$H$13 -> 13 | EC65: =$H$14 -> 8 | ED65: =$H$15 -> 25 | EE65: =AT65 -> 3 | EF65: =MAX(EE65,EG65) -> 3 | EG65: 2 | EH65: =BC65 -> 2 | EI65: =MAX(EH65,EJ65) -> 2 | EJ65: 2 | EK65: =CE65 -> 3 | EL65: =MAX(EK65,EM65) -> 3 | EM65: 2 | EN65: =CN65 -> 2 | EO65: =MAX(EN65,EP65) -> 2 | EP65: 2 | EQ65: Ø | ER65: =$H$14 -> 8 | ES65: - | ET65: =DT65 -> 125
A66: Digunakan tulangan, (tulangan tarik) | G66: n | H66: → | I66: bh | L66: 4 | M66: (A-B) | Z66: 4 | AA66: (A-B) | BK66: 4 | BL66: (A-B) | CV66: 4 | CW66: (A-B) | DW66: 4 | DX66: (A-B) | EE66: =AT66 -> 0 | EH66: =BC66 -> 0 | EK66: =CE66 -> 0 | EN66: =CN66 -> 0 | EV66: B1
A67: Luas tulangan terpakai, (tulangan tarik) | G67: At | H67: n * π / 4 * D² | I67: mm² | M67: L: | N67: 3 | O67: ='QE & MOMEN'!S56*1000 -> 300 | P67: ='QE & MOMEN'!V56*1000 -> 200 | Q67: ='QE & MOMEN'!BC50 -> 8.714927 | R67: ='QE & MOMEN'!BA50 -> 19.59553 | S67: ='QE & MOMEN'!BE50 -> 34.165055 | T67: =$H$4 -> 0.85 | U67: =T67*0.85*$H$7/$H$8*600/(600+$H$8) -> 0.02709375 | V67: =0.75*U67*$H$8*(1-(0.5*0.75*U67*$H$8/(0.85*$H$7))) -> 6.5736211 | W67: =$H$27 -> 0.8 | AA67: L: | AB67: 3 | AC67: =O67 -> 300 | AD67: =P67 -> 200 | AE67: =Q67 -> 8.714927 | AF67: =AE67/W67 -> 10.893659 | AG67: 50 | AH67: =AC67-AG67 -> 250 | AI67: =AF67*10^6/(AD67*AH67^2) -> 0.8714927 | AJ67: =$H$13 -> 13 | AK67: =$H$14 -> 8 | AL67: =$H$15 -> 25 | AM67: =IF(AI67<=V67,"OK","NG") -> OK | AN67: =0.85*($H$7/$H$8)*(1-(SQRT(1-2*AI67/(0.85*$H$7)))) -> 0.0022253401 | AO67: =1.4/$H$8 -> 0.0035 | AP67: =0.5*U67 -> 0.013546875 | AQ67: =MAX(AN67:AO67) -> 0.0035 | AR67: =AQ67*AD67*AH67 -> 175 | AS67: =AR67/((22/7)/4*AJ67^2) -> 1.3179129 | AT67: =ROUNDUP(AS67,0) -> 2 | AU67: =MAX(AT67,AV67) -> 2 | AV67: 2 | AW67: =AU67*(22/7)/4*AJ67^2 -> 265.57143 | AX67: =IF(AR67<=AW67,"OK","NG") -> OK | AY67: =(AD67-(2*AL67+2*AK67+AU67*AJ67))/(AU67-1) -> 108 | AZ67: =IF(AY67>= 25,"OK","NG") -> OK | BA67: =AR67/2 -> 87.5 | BB67: =BA67/((22/7)/4*AJ67^2) -> 0.65895643 | BC67: =ROUNDUP(BB67,0) -> 1 | BD67: =MAX(BC67,BE67) -> 2 | BE67: 2 | BF67: =BD67*(22/7)/4*AJ67^2 -> 265.57143 | BG67: =IF(BA67<=BF67,"OK","NG") -> OK | BH67: =(AD67-(2*AL67+2*AK67+BD67*AJ67))/(BD67-1) -> 108 | BI67: =IF(BH67>= 25,"OK","NG") -> OK | BL67: L: | BM67: 3 | BN67: =O67 -> 300 | BO67: =P67 -> 200 | BP67: =R67 -> 19.59553 | BQ67: =BP67/W67 -> 24.494412 | BR67: 50 | BS67: =BN67-BR67 -> 250 | BT67: =BQ67*10^6/(BO67*BS67^2) -> 1.959553 | BU67: =$H$13 -> 13 | BV67: =$H$14 -> 8 | BW67: =$H$15 -> 25 | BX67: =IF(BT67<=V67,"OK","NG") -> OK | BY67: =0.85*($H$7/$H$8)*(1-(SQRT(1-2*BT67/(0.85*$H$7)))) -> 0.0051483456 | BZ67: =1.4/$H$8 -> 0.0035 | CA67: =0.5*U67 -> 0.013546875 | CB67: =MAX(BY67:BZ67) -> 0.0051483456 | CC67: =CB67*BO67*BS67 -> 257.41728 | CD67: =CC67/((22/7)/4*BU67^2) -> 1.9385917 | CE67: =ROUNDUP(CD67,0) -> 2 | CF67: =MAX(CE67,CG67) -> 2 | CG67: 2 | CH67: =CF67*(22/7)/4*BU67^2 -> 265.57143 | CI67: =IF(CC67<=CH67,"OK","NG") -> OK | CJ67: =(BO67-(2*BW67+2*BV67+CF67*BU67))/(CF67-1) -> 108 | CK67: =IF(CJ67>= 25,"OK","NG") -> OK | CL67: =CC67/2 -> 128.70864 | CM67: =CL67/((22/7)/4*BU67^2) -> 0.96929583 | CN67: =ROUNDUP(CM67,0) -> 1 | CO67: =MAX(CN67,CP67) -> 2 | CP67: 2 | CQ67: =CO67*(22/7)/4*BU67^2 -> 265.57143 | CR67: =IF(CL67<=CQ67,"OK","NG") -> OK | CS67: =(BO67-(2*BW67+2*BV67+CO67*BU67))/(CO67-1) -> 108 | CT67: =IF(CS67>= 25,"OK","NG") -> OK | CW67: L: | CX67: 3 | CY67: =O67 -> 300 | CZ67: =P67 -> 200 | DA67: =S67 -> 34.165055 | DB67: 0.6 | DC67: =$H$9 -> 240 | DD67: =1/6*SQRT($H$7)*CZ67*BS67*0.001 -> 41.666667 | DE67: =DB67*DD67 -> 25 | DF67: =IF(DA67<=DE67,"Tul. Gerser Praktis","Perlu Tul Geser") -> Perlu Tul Geser | DG67: =DA67-DE67 -> 9.1650546 | DH67: =DG67/DB67 -> 15.275091 | DI67: 1 | DJ67: =$AK$11 -> 8 | DK67: =DI67*((22/7)/4)*DJ67^2 -> 50.285714 | DL67: =DK67*DC65*BS67/(DH67*10^3) -> 197.52045 | DM67: =IF(DH67<(1/3*SQRT($H$7)*CZ67*BS67),"1/2 D - 600","1/4D - 300") -> 1/2 D - 600 | DN67: =1/2*AH67 -> 125 | DO67: 600 | DP67: =MIN(DL67,DN67,DO67) -> 125 | DQ67: Ø | DR67: =$H$14 -> 8 | DS67: - | DT67: =DP67 -> 125 | DX67: L: | DY67: 3 | DZ67: =O67 -> 300 | EA67: =P67 -> 200 | EB67: =$H$13 -> 13 | EC67: =$H$14 -> 8 | ED67: =$H$15 -> 25 | EE67: =AT67 -> 2 | EF67: =MAX(EE67,EG67) -> 2 | EG67: 2 | EH67: =BC67 -> 1 | EI67: =MAX(EH67,EJ67) -> 2 | EJ67: 2 | EK67: =CE67 -> 2 | EL67: =MAX(EK67,EM67) -> 2 | EM67: 2 | EN67: =CN67 -> 1 | EO67: =MAX(EN67,EP67) -> 2 | EP67: 2 | EQ67: Ø | ER67: =$H$14 -> 8 | ES67: - | ET67: =DT67 -> 125
G68: Syarat | H68: As < At → OK | M68: (B-D) | AA68: (B-D) | BL68: (B-D) | CW68: (B-D) | DX68: (B-D) | EE68: =AT68 -> 0 | EH68: =BC68 -> 0 | EK68: =CE68 -> 0 | EN68: =CN68 -> 0 | EV68: B5
A69: Jarak sisi luar antar tulangan pokok, (tulangan tarik) | G69: S | H69: S = ( b - (2p+2 Ø*skg + n*ØTP))/(n-1) | I69: mm | M69: L: | N69: 3.5 | O69: ='QE & MOMEN'!S58*1000 -> 300 | P69: ='QE & MOMEN'!V58*1000 -> 200 | Q69: ='QE & MOMEN'!AA58 -> 26.377167 | R69: ='QE & MOMEN'!AA58 -> 26.377167 | S69: ='QE & MOMEN'!AB58 -> 45.218 | T69: =$H$4 -> 0.85 | U69: =T69*0.85*$H$7/$H$8*600/(600+$H$8) -> 0.02709375 | V69: =0.75*U69*$H$8*(1-(0.5*0.75*U69*$H$8/(0.85*$H$7))) -> 6.5736211 | W69: =$H$27 -> 0.8 | AA69: L: | AB69: 3.5 | AC69: =O69 -> 300 | AD69: =P69 -> 200 | AE69: =Q69 -> 26.377167 | AF69: =AE69/W69 -> 32.971458 | AG69: 50 | AH69: =AC69-AG69 -> 250 | AI69: =AF69*10^6/(AD69*AH69^2) -> 2.6377167 | AJ69: =$H$13 -> 13 | AK69: =$H$14 -> 8 | AL69: =$H$15 -> 25 | AM69: =IF(AI69<=V69,"OK","NG") -> OK | AN69: =0.85*($H$7/$H$8)*(1-(SQRT(1-2*AI69/(0.85*$H$7)))) -> 0.0070639304 | AO69: =1.4/$H$8 -> 0.0035 | AP69: =0.5*U69 -> 0.013546875 | AQ69: =MAX(AN69:AO69) -> 0.0070639304 | AR69: =AQ69*AD69*AH69 -> 353.19652 | AS69: =AR69/((22/7)/4*AJ69^2) -> 2.6598985 | AT69: =ROUNDUP(AS69,0) -> 3 | AU69: =MAX(AT69,AV69) -> 3 | AV69: 2 | AW69: =AU69*(22/7)/4*AJ69^2 -> 398.35714 | AX69: =IF(AR69<=AW69,"OK","NG") -> OK | AY69: =(AD69-(2*AL69+2*AK69+AU69*AJ69))/(AU69-1) -> 47.5 | AZ69: =IF(AY69>= 25,"OK","NG") -> OK | BA69: =AR69/2 -> 176.59826 | BB69: =BA69/((22/7)/4*AJ69^2) -> 1.3299492 | BC69: =ROUNDUP(BB69,0) -> 2 | BD69: =MAX(BC69,BE69) -> 2 | BE69: 2 | BF69: =BD69*(22/7)/4*AJ69^2 -> 265.57143 | BG69: =IF(BA69<=BF69,"OK","NG") -> OK | BH69: =(AD69-(2*AL69+2*AK69+BD69*AJ69))/(BD69-1) -> 108 | BI69: =IF(BH69>= 25,"OK","NG") -> OK | BL69: L: | BM69: 3.5 | BN69: =O69 -> 300 | BO69: =P69 -> 200 | BP69: =R69 -> 26.377167 | BQ69: =BP69/W69 -> 32.971458 | BR69: 50 | BS69: =BN69-BR69 -> 250 | BT69: =BQ69*10^6/(BO69*BS69^2) -> 2.6377167 | BU69: =$H$13 -> 13 | BV69: =$H$14 -> 8 | BW69: =$H$15 -> 25 | BX69: =IF(BT69<=V69,"OK","NG") -> OK | BY69: =0.85*($H$7/$H$8)*(1-(SQRT(1-2*BT69/(0.85*$H$7)))) -> 0.0070639304 | BZ69: =1.4/$H$8 -> 0.0035 | CA69: =0.5*U69 -> 0.013546875 | CB69: =MAX(BY69:BZ69) -> 0.0070639304 | CC69: =CB69*BO69*BS69 -> 353.19652 | CD69: =CC69/((22/7)/4*BU69^2) -> 2.6598985 | CE69: =ROUNDUP(CD69,0) -> 3 | CF69: =MAX(CE69,CG69) -> 3 | CG69: 2 | CH69: =CF69*(22/7)/4*BU69^2 -> 398.35714 | CI69: =IF(CC69<=CH69,"OK","NG") -> OK | CJ69: =(BO69-(2*BW69+2*BV69+CF69*BU69))/(CF69-1) -> 47.5 | CK69: =IF(CJ69>= 25,"OK","NG") -> OK | CL69: =CC69/2 -> 176.59826 | CM69: =CL69/((22/7)/4*BU69^2) -> 1.3299492 | CN69: =ROUNDUP(CM69,0) -> 2 | CO69: =MAX(CN69,CP69) -> 2 | CP69: 2 | CQ69: =CO69*(22/7)/4*BU69^2 -> 265.57143 | CR69: =IF(CL69<=CQ69,"OK","NG") -> OK | CS69: =(BO69-(2*BW69+2*BV69+CO69*BU69))/(CO69-1) -> 108 | CT69: =IF(CS69>= 25,"OK","NG") -> OK | CW69: L: | CX69: 3.5 | CY69: =O69 -> 300 | CZ69: =P69 -> 200 | DA69: =S69 -> 45.218 | DB69: 0.6 | DC69: =$H$9 -> 240 | DD69: =1/6*SQRT($H$7)*CZ69*BS69*0.001 -> 41.666667 | DE69: =DB69*DD69 -> 25 | DF69: =IF(DA69<=DE69,"Tul. Gerser Praktis","Perlu Tul Geser") -> Perlu Tul Geser | DG69: =DA69-DE69 -> 20.218 | DH69: =DG69/DB69 -> 33.696667 | DI69: 1 | DJ69: =$AK$11 -> 8 | DK69: =DI69*((22/7)/4)*DJ69^2 -> 50.285714 | DL69: =DK69*DC67*BS69/(DH69*10^3) -> 89.538318 | DM69: =IF(DH69<(1/3*SQRT($H$7)*CZ69*BS69),"1/2 D - 600","1/4D - 300") -> 1/2 D - 600 | DN69: =1/2*AH69 -> 125 | DO69: 600 | DP69: =MIN(DL69,DN69,DO69) -> 89.538318 | DQ69: Ø | DR69: =$H$14 -> 8 | DS69: - | DT69: =ROUNDDOWN(DP69,-1) -> 80 | DX69: L: | DY69: 3.5 | DZ69: =O69 -> 300 | EA69: =P69 -> 200 | EB69: =$H$13 -> 13 | EC69: =$H$14 -> 8 | ED69: =$H$15 -> 25 | EE69: =AT69 -> 3 | EF69: =MAX(EE69,EG69) -> 3 | EG69: 2 | EH69: =BC69 -> 2 | EI69: =MAX(EH69,EJ69) -> 2 | EJ69: 2 | EK69: =CE69 -> 3 | EL69: =MAX(EK69,EM69) -> 3 | EM69: 2 | EN69: =CN69 -> 2 | EO69: =MAX(EN69,EP69) -> 2 | EP69: 2 | EQ69: Ø | ER69: =$H$14 -> 8 | ES69: - | ET69: =DT69 -> 80
G70: Syarat | H70: 25 mm < S → OK | L70: 6 | M70: (B-D) | Z70: 6 | AA70: (B-D) | BK70: 6 | BL70: (B-D) | CV70: 6 | CW70: (B-D) | DW70: 6 | DX70: (B-D) | EE70: =AT70 -> 0 | EH70: =BC70 -> 0 | EK70: =CE70 -> 0 | EN70: =CN70 -> 0 | EV70: BA3
A71: Luas tulangan yang diperlukan, (tulangan tekan) | G71: As' | H71: ρ *b * d | I71: mm² | M71: L: | N71: 3.5 | O71: ='QE & MOMEN'!S60*1000 -> 300 | P71: ='QE & MOMEN'!V60*1000 -> 200 | Q71: ='QE & MOMEN'!AA60 -> 22.534458 | R71: ='QE & MOMEN'!AA60 -> 22.534458 | S71: ='QE & MOMEN'!AB60 -> 38.6305 | T71: =$H$4 -> 0.85 | U71: =T71*0.85*$H$7/$H$8*600/(600+$H$8) -> 0.02709375 | V71: =0.75*U71*$H$8*(1-(0.5*0.75*U71*$H$8/(0.85*$H$7))) -> 6.5736211 | W71: =$H$27 -> 0.8 | AA71: L: | AB71: 3.5 | AC71: =O71 -> 300 | AD71: =P71 -> 200 | AE71: =Q71 -> 22.534458 | AF71: =AE71/W71 -> 28.168073 | AG71: 50 | AH71: =AC71-AG71 -> 250 | AI71: =AF71*10^6/(AD71*AH71^2) -> 2.2534458 | AJ71: =$H$13 -> 13 | AK71: =$H$14 -> 8 | AL71: =$H$15 -> 25 | AM71: =IF(AI71<=V71,"OK","NG") -> OK | AN71: =0.85*($H$7/$H$8)*(1-(SQRT(1-2*AI71/(0.85*$H$7)))) -> 0.0059689391 | AO71: =1.4/$H$8 -> 0.0035 | AP71: =0.5*U71 -> 0.013546875 | AQ71: =MAX(AN71:AO71) -> 0.0059689391 | AR71: =AQ71*AD71*AH71 -> 298.44696 | AS71: =AR71/((22/7)/4*AJ71^2) -> 2.2475833 | AT71: =ROUNDUP(AS71,0) -> 3 | AU71: =MAX(AT71,AV71) -> 3 | AV71: 2 | AW71: =AU71*(22/7)/4*AJ71^2 -> 398.35714 | AX71: =IF(AR71<=AW71,"OK","NG") -> OK | AY71: =(AD71-(2*AL71+2*AK71+AU71*AJ71))/(AU71-1) -> 47.5 | AZ71: =IF(AY71>= 25,"OK","NG") -> OK | BA71: =AR71/2 -> 149.22348 | BB71: =BA71/((22/7)/4*AJ71^2) -> 1.1237917 | BC71: =ROUNDUP(BB71,0) -> 2 | BD71: =MAX(BC71,BE71) -> 2 | BE71: 2 | BF71: =BD71*(22/7)/4*AJ71^2 -> 265.57143 | BG71: =IF(BA71<=BF71,"OK","NG") -> OK | BH71: =(AD71-(2*AL71+2*AK71+BD71*AJ71))/(BD71-1) -> 108 | BI71: =IF(BH71>= 25,"OK","NG") -> OK | BL71: L: | BM71: 3.5 | BN71: =O71 -> 300 | BO71: =P71 -> 200 | BP71: =R71 -> 22.534458 | BQ71: =BP71/W71 -> 28.168073 | BR71: 50 | BS71: =BN71-BR71 -> 250 | BT71: =BQ71*10^6/(BO71*BS71^2) -> 2.2534458 | BU71: =$H$13 -> 13 | BV71: =$H$14 -> 8 | BW71: =$H$15 -> 25 | BX71: =IF(BT71<=V71,"OK","NG") -> OK | BY71: =0.85*($H$7/$H$8)*(1-(SQRT(1-2*BT71/(0.85*$H$7)))) -> 0.0059689391 | BZ71: =1.4/$H$8 -> 0.0035 | CA71: =0.5*U71 -> 0.013546875 | CB71: =MAX(BY71:BZ71) -> 0.0059689391 | CC71: =CB71*BO71*BS71 -> 298.44696 | CD71: =CC71/((22/7)/4*BU71^2) -> 2.2475833 | CE71: =ROUNDUP(CD71,0) -> 3 | CF71: =MAX(CE71,CG71) -> 3 | CG71: 2 | CH71: =CF71*(22/7)/4*BU71^2 -> 398.35714 | CI71: =IF(CC71<=CH71,"OK","NG") -> OK | CJ71: =(BO71-(2*BW71+2*BV71+CF71*BU71))/(CF71-1) -> 47.5 | CK71: =IF(CJ71>= 25,"OK","NG") -> OK | CL71: =CC71/2 -> 149.22348 | CM71: =CL71/((22/7)/4*BU71^2) -> 1.1237917 | CN71: =ROUNDUP(CM71,0) -> 2 | CO71: =MAX(CN71,CP71) -> 2 | CP71: 2 | CQ71: =CO71*(22/7)/4*BU71^2 -> 265.57143 | CR71: =IF(CL71<=CQ71,"OK","NG") -> OK | CS71: =(BO71-(2*BW71+2*BV71+CO71*BU71))/(CO71-1) -> 108 | CT71: =IF(CS71>= 25,"OK","NG") -> OK | CW71: L: | CX71: 3.5 | CY71: =O71 -> 300 | CZ71: =P71 -> 200 | DA71: =S71 -> 38.6305 | DB71: 0.6 | DC71: =$H$9 -> 240 | DD71: =1/6*SQRT($H$7)*CZ71*BS71*0.001 -> 41.666667 | DE71: =DB71*DD71 -> 25 | DF71: =IF(DA71<=DE71,"Tul. Gerser Praktis","Perlu Tul Geser") -> Perlu Tul Geser | DG71: =DA71-DE71 -> 13.6305 | DH71: =DG71/DB71 -> 22.7175 | DI71: 1 | DJ71: =$AK$11 -> 8 | DK71: =DI71*((22/7)/4)*DJ71^2 -> 50.285714 | DL71: =DK71*DC69*BS71/(DH71*10^3) -> 132.81139 | DM71: =IF(DH71<(1/3*SQRT($H$7)*CZ71*BS71),"1/2 D - 600","1/4D - 300") -> 1/2 D - 600 | DN71: =1/2*AH71 -> 125 | DO71: 600 | DP71: =MIN(DL71,DN71,DO71) -> 125 | DQ71: Ø | DR71: =$H$14 -> 8 | DS71: - | DT71: =DP71 -> 125 | DX71: L: | DY71: 3.5 | DZ71: =O71 -> 300 | EA71: =P71 -> 200 | EB71: =$H$13 -> 13 | EC71: =$H$14 -> 8 | ED71: =$H$15 -> 25 | EE71: =AT71 -> 3 | EF71: =MAX(EE71,EG71) -> 3 | EG71: 2 | EH71: =BC71 -> 2 | EI71: =MAX(EH71,EJ71) -> 2 | EJ71: 2 | EK71: =CE71 -> 3 | EL71: =MAX(EK71,EM71) -> 3 | EM71: 2 | EN71: =CN71 -> 2 | EO71: =MAX(EN71,EP71) -> 2 | EP71: 2 | EQ71: Ø | ER71: =$H$14 -> 8 | ES71: - | ET71: =DT71 -> 125
A72: Jumlah tulangan yang diperlukan, (tulangan tekan) | G72: n' | H72: As / (π / 4 * D²) | I72: bh | L72: 7 | M72: (A-B) | Z72: 7 | AA72: (A-B) | BK72: 7 | BL72: (A-B) | CV72: 7 | CW72: (A-B) | DW72: 7 | DX72: (A-B) | EE72: =AT72 -> 0 | EH72: =BC72 -> 0 | EK72: =CE72 -> 0 | EN72: =CN72 -> 0 | EV72: B1
A73: Digunakan tulangan, (tulangan tekan) | G73: n' | H73: → | I73: bh | M73: L: | N73: 3 | O73: ='QE & MOMEN'!S62*1000 -> 300 | P73: ='QE & MOMEN'!V62*1000 -> 200 | Q73: ='QE & MOMEN'!BC52 -> 8.2963957 | R73: ='QE & MOMEN'!BA52 -> 19.045746 | S73: ='QE & MOMEN'!BE52 -> 29.374042 | T73: =$H$4 -> 0.85 | U73: =T73*0.85*$H$7/$H$8*600/(600+$H$8) -> 0.02709375 | V73: =0.75*U73*$H$8*(1-(0.5*0.75*U73*$H$8/(0.85*$H$7))) -> 6.5736211 | W73: =$H$27 -> 0.8 | AA73: L: | AB73: 3 | AC73: =O73 -> 300 | AD73: =P73 -> 200 | AE73: =Q73 -> 8.2963957 | AF73: =AE73/W73 -> 10.370495 | AG73: 50 | AH73: =AC73-AG73 -> 250 | AI73: =AF73*1000000/(AD73*AH73^2) -> 0.82963957 | AJ73: =$H$13 -> 13 | AK73: =$H$14 -> 8 | AL73: =$H$15 -> 25 | AM73: =IF(AI73<=V73,"OK","NG") -> OK | AN73: =0.85*($H$7/$H$8)*(1-(SQRT(1-2*AI73/(0.85*$H$7)))) -> 0.0021162496 | AO73: =1.4/$H$8 -> 0.0035 | AP73: =0.5*U73 -> 0.013546875 | AQ73: =MAX(AN73:AO73) -> 0.0035 | AR73: =AQ73*AD73*AH73 -> 175 | AS73: =AR73/((22/7)/4*AJ73^2) -> 1.3179129 | AT73: =ROUNDUP(AS73,0) -> 2 | AU73: =MAX(AT73,AV73) -> 2 | AV73: 2 | AW73: =AU73*(22/7)/4*AJ73^2 -> 265.57143 | AX73: =IF(AR73<=AW73,"OK","NG") -> OK | AY73: =(AD73-(2*AL73+2*AK73+AU73*AJ73))/(AU73-1) -> 108 | AZ73: =IF(AY73>= 25,"OK","NG") -> OK | BA73: =AR73/2 -> 87.5 | BB73: =BA73/((22/7)/4*AJ73^2) -> 0.65895643 | BC73: =ROUNDUP(BB73,0) -> 1 | BD73: =MAX(BC73,BE73) -> 2 | BE73: 2 | BF73: =BD73*(22/7)/4*AJ73^2 -> 265.57143 | BG73: =IF(BA73<=BF73,"OK","NG") -> OK | BH73: =(AD73-(2*AL73+2*AK73+BD73*AJ73))/(BD73-1) -> 108 | BI73: =IF(BH73>= 25,"OK","NG") -> OK | BL73: L: | BM73: 3 | BN73: =O73 -> 300 | BO73: =P73 -> 200 | BP73: =R73 -> 19.045746 | BQ73: =BP73/W73 -> 23.807182 | BR73: 50 | BS73: =BN73-BR73 -> 250 | BT73: =BQ73*10^6/(BO73*BS73^2) -> 1.9045746 | BU73: =$H$13 -> 13 | BV73: =$H$14 -> 8 | BW73: =$H$15 -> 25 | BX73: =IF(BT73<=V73,"OK","NG") -> OK | BY73: =0.85*($H$7/$H$8)*(1-(SQRT(1-2*BT73/(0.85*$H$7)))) -> 0.004996391 | BZ73: =1.4/$H$8 -> 0.0035 | CA73: =0.5*U73 -> 0.013546875 | CB73: =MAX(BY73:BZ73) -> 0.004996391 | CC73: =CB73*BO73*BS73 -> 249.81955 | CD73: =CC73/((22/7)/4*BU73^2) -> 1.8813737 | CE73: =ROUNDUP(CD73,0) -> 2 | CF73: =MAX(CE73,CG73) -> 2 | CG73: 2 | CH73: =CF73*(22/7)/4*BU73^2 -> 265.57143 | CI73: =IF(CC73<=CH73,"OK","NG") -> OK | CJ73: =(BO73-(2*BW73+2*BV73+CF73*BU73))/(CF73-1) -> 108 | CK73: =IF(CJ73>= 25,"OK","NG") -> OK | CL73: =CC73/2 -> 124.90978 | CM73: =CL73/((22/7)/4*BU73^2) -> 0.94068686 | CN73: =ROUNDUP(CM73,0) -> 1 | CO73: =MAX(CN73,CP73) -> 2 | CP73: 2 | CQ73: =CO73*(22/7)/4*BU73^2 -> 265.57143 | CR73: =IF(CL73<=CQ73,"OK","NG") -> OK | CS73: =(BO73-(2*BW73+2*BV73+CO73*BU73))/(CO73-1) -> 108 | CT73: =IF(CS73>= 25,"OK","NG") -> OK | CW73: L: | CX73: 3 | CY73: =O73 -> 300 | CZ73: =P73 -> 200 | DA73: =S73 -> 29.374042 | DB73: 0.6 | DC73: =$H$9 -> 240 | DD73: =1/6*SQRT($H$7)*CZ73*BS73*0.001 -> 41.666667 | DE73: =DB73*DD73 -> 25 | DF73: =IF(DA73<=DE73,"Tul. Gerser Praktis","Perlu Tul Geser") -> Perlu Tul Geser | DG73: =DA73-DE73 -> 4.3740419 | DH73: =DG73/DB73 -> 7.2900698 | DI73: 1 | DJ73: =$AK$11 -> 8 | DK73: =DI73*((22/7)/4)*DJ73^2 -> 50.285714 | DL73: =DK73*DC71*BS73/(DH73*10^3) -> 413.87023 | DM73: =IF(DH73<(1/3*SQRT($H$7)*CZ73*BS73),"1/2 D - 600","1/4D - 300") -> 1/2 D - 600 | DN73: =1/2*AH73 -> 125 | DO73: 600 | DP73: =MIN(DL73,DN73,DO73) -> 125 | DQ73: Ø | DR73: =$H$14 -> 8 | DS73: - | DT73: =DP73 -> 125 | DX73: L: | DY73: 3 | DZ73: =O73 -> 300 | EA73: =P73 -> 200 | EB73: =$H$13 -> 13 | EC73: =$H$14 -> 8 | ED73: =$H$15 -> 25 | EE73: =AT73 -> 2 | EF73: =MAX(EE73,EG73) -> 2 | EG73: 2 | EH73: =BC73 -> 1 | EI73: =MAX(EH73,EJ73) -> 2 | EJ73: 2 | EK73: =CE73 -> 2 | EL73: =MAX(EK73,EM73) -> 2 | EM73: 2 | EN73: =CN73 -> 1 | EO73: =MAX(EN73,EP73) -> 2 | EP73: 2 | EQ73: Ø | ER73: =$H$14 -> 8 | ES73: - | ET73: =DT73 -> 125
A74: Luas tulangan terpakai, (tulangan tekan) | G74: At' | H74: n * π / 4 * D² | I74: mm² | M74: (B-D) | AA74: (B-D) | BL74: (B-D) | CW74: (B-D) | DX74: (B-D) | EE74: =AT74 -> 0 | EH74: =BC74 -> 0 | EK74: =CE74 -> 0 | EN74: =CN74 -> 0 | EV74: B6
G75: Syarat | H75: As < At → OK | M75: L: | N75: 3.5 | O75: ='QE & MOMEN'!S64*1000 -> 300 | P75: ='QE & MOMEN'!V64*1000 -> 200 | Q75: ='QE & MOMEN'!BC54 -> 8.9991789 | R75: ='QE & MOMEN'!BA54 -> 20.736519 | S75: ='QE & MOMEN'!BE54 -> 31.538584 | T75: =$H$4 -> 0.85 | U75: =T75*0.85*$H$7/$H$8*600/(600+$H$8) -> 0.02709375 | V75: =0.75*U75*$H$8*(1-(0.5*0.75*U75*$H$8/(0.85*$H$7))) -> 6.5736211 | W75: =$H$27 -> 0.8 | AA75: L: | AB75: 3.5 | AC75: =O75 -> 300 | AD75: =P75 -> 200 | AE75: =Q75 -> 8.9991789 | AF75: =AE75/W75 -> 11.248974 | AG75: 50 | AH75: =AC75-AG75 -> 250 | AI75: =AF75*10^6/(AD75*AH75^2) -> 0.89991789 | AJ75: =$H$13 -> 13 | AK75: =$H$14 -> 8 | AL75: =$H$15 -> 25 | AM75: =IF(AI75<=V75,"OK","NG") -> OK | AN75: =0.85*($H$7/$H$8)*(1-(SQRT(1-2*AI75/(0.85*$H$7)))) -> 0.0022995641 | AO75: =1.4/$H$8 -> 0.0035 | AP75: =0.5*U75 -> 0.013546875 | AQ75: =MAX(AN75:AO75) -> 0.0035 | AR75: =AQ75*AD75*AH75 -> 175 | AS75: =AR75/((22/7)/4*AJ75^2) -> 1.3179129 | AT75: =ROUNDUP(AS75,0) -> 2 | AU75: =MAX(AT75,AV75) -> 2 | AV75: 2 | AW75: =AU75*(22/7)/4*AJ75^2 -> 265.57143 | AX75: =IF(AR75<=AW75,"OK","NG") -> OK | AY75: =(AD75-(2*AL75+2*AK75+AU75*AJ75))/(AU75-1) -> 108 | AZ75: =IF(AY75>= 25,"OK","NG") -> OK | BA75: =AR75/2 -> 87.5 | BB75: =BA75/((22/7)/4*AJ75^2) -> 0.65895643 | BC75: =ROUNDUP(BB75,0) -> 1 | BD75: =MAX(BC75,BE75) -> 2 | BE75: 2 | BF75: =BD75*(22/7)/4*AJ75^2 -> 265.57143 | BG75: =IF(BA75<=BF75,"OK","NG") -> OK | BH75: =(AD75-(2*AL75+2*AK75+BD75*AJ75))/(BD75-1) -> 108 | BI75: =IF(BH75>= 25,"OK","NG") -> OK | BL75: L: | BM75: 3.5 | BN75: =O75 -> 300 | BO75: =P75 -> 200 | BP75: =R75 -> 20.736519 | BQ75: =BP75/W75 -> 25.920648 | BR75: 50 | BS75: =BN75-BR75 -> 250 | BT75: =BQ75*10^6/(BO75*BS75^2) -> 2.0736519 | BU75: =$H$13 -> 13 | BV75: =$H$14 -> 8 | BW75: =$H$15 -> 25 | BX75: =IF(BT75<=V75,"OK","NG") -> OK | BY75: =0.85*($H$7/$H$8)*(1-(SQRT(1-2*BT75/(0.85*$H$7)))) -> 0.0054652492 | BZ75: =1.4/$H$8 -> 0.0035 | CA75: =0.5*U75 -> 0.013546875 | CB75: =MAX(BY75:BZ75) -> 0.0054652492 | CC75: =CB75*BO75*BS75 -> 273.26246 | CD75: =CC75/((22/7)/4*BU75^2) -> 2.0579206 | CE75: =ROUNDUP(CD75,0) -> 3 | CF75: =MAX(CE75,CG75) -> 3 | CG75: 2 | CH75: =CF75*(22/7)/4*BU75^2 -> 398.35714 | CI75: =IF(CC75<=CH75,"OK","NG") -> OK | CJ75: =(BO75-(2*BW75+2*BV75+CF75*BU75))/(CF75-1) -> 47.5 | CK75: =IF(CJ75>= 25,"OK","NG") -> OK | CL75: =CC75/2 -> 136.63123 | CM75: =CL75/((22/7)/4*BU75^2) -> 1.0289603 | CN75: =ROUNDUP(CM75,0) -> 2 | CO75: =MAX(CN75,CP75) -> 2 | CP75: 2 | CQ75: =CO75*(22/7)/4*BU75^2 -> 265.57143 | CR75: =IF(CL75<=CQ75,"OK","NG") -> OK | CS75: =(BO75-(2*BW75+2*BV75+CO75*BU75))/(CO75-1) -> 108 | CT75: =IF(CS75>= 25,"OK","NG") -> OK | CW75: L: | CX75: 3.5 | CY75: =O75 -> 300 | CZ75: =P75 -> 200 | DA75: =S75 -> 31.538584 | DB75: 0.6 | DC75: =$H$9 -> 240 | DD75: =1/6*SQRT($H$7)*CZ75*BS75*0.001 -> 41.666667 | DE75: =DB75*DD75 -> 25 | DF75: =IF(DA75<=DE75,"Tul. Gerser Praktis","Perlu Tul Geser") -> Perlu Tul Geser | DG75: =DA75-DE75 -> 6.5385841 | DH75: =DG75/DB75 -> 10.89764 | DI75: 1 | DJ75: =$AK$11 -> 8 | DK75: =DI75*((22/7)/4)*DJ75^2 -> 50.285714 | DL75: =DK75*DC73*BS75/(DH75*10^3) -> 276.86204 | DM75: =IF(DH75<(1/3*SQRT($H$7)*CZ75*BS75),"1/2 D - 600","1/4D - 300") -> 1/2 D - 600 | DN75: =1/2*AH75 -> 125 | DO75: 600 | DP75: =MIN(DL75,DN75,DO75) -> 125 | DQ75: Ø | DR75: =$H$14 -> 8 | DS75: - | DT75: =DP75 -> 125 | DX75: L: | DY75: 3.5 | DZ75: =O75 -> 300 | EA75: =P75 -> 200 | EB75: =$H$13 -> 13 | EC75: =$H$14 -> 8 | ED75: =$H$15 -> 25 | EE75: =AT75 -> 2 | EF75: =MAX(EE75,EG75) -> 2 | EG75: 2 | EH75: =BC75 -> 1 | EI75: =MAX(EH75,EJ75) -> 2 | EJ75: 2 | EK75: =CE75 -> 3 | EL75: =MAX(EK75,EM75) -> 3 | EM75: 2 | EN75: =CN75 -> 2 | EO75: =MAX(EN75,EP75) -> 2 | EP75: 2 | EQ75: Ø | ER75: =$H$14 -> 8 | ES75: - | ET75: =DT75 -> 125
A76: Jarak sisi luar antar tulangan pokok, (tulangan tekan) | G76: S' | H76: S = ( b - (2p+2 Ø*skg + n*ØTP))/(n-1) | I76: mm | L76: 8 | M76: (C-D) | Z76: 8 | AA76: (C-D) | BK76: 8 | BL76: (C-D) | CV76: 8 | CW76: (C-D) | DW76: 8 | DX76: (C-D) | EE76: =AT76 -> 0 | EH76: =BC76 -> 0 | EK76: =CE76 -> 0 | EN76: =CN76 -> 0 | EV76: B4
G77: Syarat | H77: 25 mm < S → OK | M77: L: | N77: 2 | O77: ='QE & MOMEN'!S66*1000 -> 250 | P77: ='QE & MOMEN'!V66*1000 -> 150 | Q77: ='QE & MOMEN'!AA66 -> 2.7853333 | R77: ='QE & MOMEN'!AA66 -> 2.7853333 | S77: ='QE & MOMEN'!AB66 -> 8.356 | T77: =$H$4 -> 0.85 | U77: =T77*0.85*$H$7/$H$8*600/(600+$H$8) -> 0.02709375 | V77: =0.75*U77*$H$8*(1-(0.5*0.75*U77*$H$8/(0.85*$H$7))) -> 6.5736211 | W77: =$H$27 -> 0.8 | AA77: L: | AB77: 2 | AC77: =O77 -> 250 | AD77: =P77 -> 150 | AE77: =Q77 -> 2.7853333 | AF77: =AE77/W77 -> 3.4816667 | AG77: 50 | AH77: =AC77-AG77 -> 200 | AI77: =AF77*10^6/(AD77*AH77^2) -> 0.58027778 | AJ77: =$H$13 -> 13 | AK77: =$H$14 -> 8 | AL77: =$H$15 -> 25 | AM77: =IF(AI77<=V77,"OK","NG") -> OK | AN77: =0.85*($H$7/$H$8)*(1-(SQRT(1-2*AI77/(0.85*$H$7)))) -> 0.0014710617 | AO77: =1.4/$H$8 -> 0.0035 | AP77: =0.5*U77 -> 0.013546875 | AQ77: =MAX(AN77:AO77) -> 0.0035 | AR77: =AQ77*AD77*AH77 -> 105 | AS77: =AR77/((22/7)/4*AJ77^2) -> 0.79074771 | AT77: =ROUNDUP(AS77,0) -> 1 | AU77: =MAX(AT77,AV77) -> 2 | AV77: 2 | AW77: =AU77*(22/7)/4*AJ77^2 -> 265.57143 | AX77: =IF(AR77<=AW77,"OK","NG") -> OK | AY77: =(AD77-(2*AL77+2*AK77+AU77*AJ77))/(AU77-1) -> 58 | AZ77: =IF(AY77>= 25,"OK","NG") -> OK | BA77: =AR77/2 -> 52.5 | BB77: =BA77/((22/7)/4*AJ77^2) -> 0.39537386 | BC77: =ROUNDUP(BB77,0) -> 1 | BD77: =MAX(BC77,BE77) -> 2 | BE77: 2 | BF77: =BD77*(22/7)/4*AJ77^2 -> 265.57143 | BG77: =IF(BA77<=BF77,"OK","NG") -> OK | BH77: =(AD77-(2*AL77+2*AK77+BD77*AJ77))/(BD77-1) -> 58 | BI77: =IF(BH77>= 25,"OK","NG") -> OK | BL77: L: | BM77: 2 | BN77: =O77 -> 250 | BO77: =P77 -> 150 | BP77: =R77 -> 2.7853333 | BQ77: =BP77/W77 -> 3.4816667 | BR77: 50 | BS77: =BN77-BR77 -> 200 | BT77: =BQ77*10^6/(BO77*BS77^2) -> 0.58027778 | BU77: =$H$13 -> 13 | BV77: =$H$14 -> 8 | BW77: =$H$15 -> 25 | BX77: =IF(BT77<=V77,"OK","NG") -> OK | BY77: =0.85*($H$7/$H$8)*(1-(SQRT(1-2*BT77/(0.85*$H$7)))) -> 0.0014710617 | BZ77: =1.4/$H$8 -> 0.0035 | CA77: =0.5*U77 -> 0.013546875 | CB77: =MAX(BY77:BZ77) -> 0.0035 | CC77: =CB77*BO77*BS77 -> 105 | CD77: =CC77/((22/7)/4*BU77^2) -> 0.79074771 | CE77: =ROUNDUP(CD77,0) -> 1 | CF77: =MAX(CE77,CG77) -> 2 | CG77: 2 | CH77: =CF77*(22/7)/4*BU77^2 -> 265.57143 | CI77: =IF(CC77<=CH77,"OK","NG") -> OK | CJ77: =(BO77-(2*BW77+2*BV77+CF77*BU77))/(CF77-1) -> 58 | CK77: =IF(CJ77>= 25,"OK","NG") -> OK | CL77: =CC77/2 -> 52.5 | CM77: =CL77/((22/7)/4*BU77^2) -> 0.39537386 | CN77: =ROUNDUP(CM77,0) -> 1 | CO77: =MAX(CN77,CP77) -> 2 | CP77: 2 | CQ77: =CO77*(22/7)/4*BU77^2 -> 265.57143 | CR77: =IF(CL77<=CQ77,"OK","NG") -> OK | CS77: =(BO77-(2*BW77+2*BV77+CO77*BU77))/(CO77-1) -> 58 | CT77: =IF(CS77>= 25,"OK","NG") -> OK | CW77: L: | CX77: 2 | CY77: =O77 -> 250 | CZ77: =P77 -> 150 | DA77: =S77 -> 8.356 | DB77: 0.6 | DC77: =$H$9 -> 240 | DD77: =1/6*SQRT($H$7)*CZ77*BS77*0.001 -> 25 | DE77: =DB77*DD77 -> 15 | DF77: =IF(DA77<=DE77,"Tul. Gerser Praktis","Perlu Tul Geser") -> Tul. Gerser Praktis | DP77: 200 | DQ77: Ø | DR77: =$H$14 -> 8 | DS77: - | DT77: =DP77 -> 200 | DX77: L: | DY77: 2 | DZ77: =O77 -> 250 | EA77: =P77 -> 150 | EB77: =$H$13 -> 13 | EC77: =$H$14 -> 8 | ED77: =$H$15 -> 25 | EE77: =AT77 -> 1 | EF77: =MAX(EE77,EG77) -> 2 | EG77: 2 | EH77: =BC77 -> 1 | EI77: =MAX(EH77,EJ77) -> 2 | EJ77: 2 | EK77: =CE77 -> 1 | EL77: =MAX(EK77,EM77) -> 2 | EM77: 2 | EN77: =CN77 -> 1 | EO77: =MAX(EN77,EP77) -> 2 | EP77: 2 | EQ77: Ø | ER77: =$H$14 -> 8 | ES77: - | ET77: =DT77 -> 200
A79: 3. TULANGAN GESER
A80: Gaya geser ultimit rencana, | G80: Vu | H80: → | I80: kN.m
A81: Faktor reduksi kekuatan geser, | G81: ᶲ | H81: 0.6
A82: Tegangan leleh tulangan geser, | G82: fy | H82: =H9 -> 240 | I82: Mpa
A83: Kuat geser beton, | G83: Vc | H83: (√fc')/6*b*d*10⁻³
A84: Tahanan geser beton, | G84: ᶲ*Vc | H84: →
G85: Syarat | H85: Jika Vu ≤ ᶲ*Vc → hanya perlu tul. Geser praktis
A86: Tahanan geser sengkang, | G86: ᶲ*Vs | H86: Vu - ᶲ * Vc
A87: Kuat geser sengkang, | G87: Vs | H87: →
A88: Digunakan sengkang, | G88: ns | H88: →
A89: Luas tulangan geser sengkang, | G89: Av | H89: ns * π / 4 * P² | I89: mm²
A90: Jarak sengkang yang diperlukan, | G90: s | H90: Av * fy * d / (Vs * 10³) | I90: mm
G91: Syarat | H91: VS < 1/3 √fc’ * b * d → Smaks adalah nilai terkecil antara 1/2 d dan 600 mm
H92: VS > 1/3 √fc’ * b * d → Smaks adalah nilai terkecil antara 1/4 d dan 300 mm
A93: Jarak sengkang maksimum, | G93: smax | H93: 600 | I93: mm
A94: Jarak sengkang maksimum, | G94: smax | H94: d/2 | I94: mm
A95: Jarak sengkang yang digunakan, | G95: s | H95: → | I95: mm
A96: Digunakan sengkang, | H96: →

Sheet Kolom 
A2: A. Data Kolom
A3: Tinggi kolom, | B3: lk | C3: 3.5 | D3: m
A4: Lebar penampang kolom, | B4: b | C4: → | D4: mm
A5: Tinggi penampang kolom, | B5: h | C5: → | D5: mm
A6: Luas penampang, | B6: Ag | C6: → | D6: mm
A7: Diameter tulangan pokok, | B7: Ø TP | C7: 19 | D7: mm
A8: Diameter sengkang | B8: Ø S | C8: 8 | D8: mm
A9: Kuat tekan beton, | B9: Fc | C9: =PLAT!D2 -> 25 | D9: Mpa
A10: Tegangan leleh baja (polos) untuk tulangan geser, | B10: Fy | C10: 400 | D10: Mpa
A11: Faktor bentuk distribusi tegangan beton, | B11: β | C11: 1
A12: Faktor Reduksi Kekuatan lentur, | B12: ϕ | C12: 0.65
A13: Diperkirakan jarak pusat tulangan lentur ke sisi beton, | B13: d' (1) | C13: 50 | D13: mm
A14: Diperkirakan jarak pusat tulangan lentur ke sisi beton, | B14: d' (2) | C14: 40 | D14: mm
A15: Diperkirakan jarak pusat tulangan lentur ke sisi beton, | B15: d' (3) | C15: 30 | D15: mm
B16: e | C16: Mtotal / Vtotal | D16: mm
B17: emin | C17: 15 + 0,03 * h | D17: mm
A18: Tebal selimut beton, | B18: Ts | C18: 25 | D18: mm
A20: B. Diagram Interaksi
A21: Dari diagram interaksi, | C21: →
B22: d'/tinggi | C22: →
A23: Sumbu Y diagram interaksi, | B23: Sumbu Y | C23: Vt / ( ϕ * Ag * 0,85 * Fc ) | S23: Tabel Perhitungan Penulangan Kolom
A24: Sumbu X diagram interaksi | B24: Sumbu X | C24: [Vt / ( ϕ * Ag * 0,85 * Fc )] * [e / h] | I24: Tabel Reaksi Tumpuan dan Momen Pada Balok | CV24: Tabel Rekapitulasi Penulangan Kolom
B25: r | C25: Dari Grafik | S25: 1. Kolom Tengah | AU25: 2. Kolom Samping | BU25: 3. Kolom Ujung
I26: As Balok | L26: h (dipakai) | M26: b (dipakai) | N26: Momen (Ki) | O26: Momen (Ka) | P26: V (ki) | Q26: V (ka) | S26: Titik Kolom | T26: Tinggi | U26: b | V26: h | W26: Ag | X26: d' | Y26: Reaksi Tumpuan (V) | AC26: Total V | AD26: Momen (M) | AH26: Total M | AI26: e | AJ26: emin | AK26: Diagram Interaksi | AN26: r | AO26: =$B$28 -> ρg | AP26: As | AQ26: n | AR26: n (dipakai min 4 bh) | AS26: At | AU26: Titik Kolom | AV26: Tinggi | AW26: b | AX26: h | AY26: Ag | AZ26: d' | BA26: Reaksi Tumpuan (V) | BD26: Total V | BE26: Momen (M) | BH26: Total M | BI26: e | BJ26: emin | BK26: Diagram Interaksi | BN26: r | BO26: =$B$28 -> ρg | BP26: As | BQ26: n | BR26: n (dipakai min 4 bh) | BS26: At | BU26: Titik Kolom | BV26: Tinggi | BW26: b | BX26: h | BY26: Ag | BZ26: d' | CA26: Reaksi Tumpuan (V) | CC26: Total V | CD26: Momen (M) | CF26: Total M | CG26: e | CH26: emin | CI26: Diagram Interaksi | CL26: r | CM26: =$B$28 -> ρg | CN26: As | CO26: n | CP26: n (dipakai min 4 bh) | CS26: At | CV26: Titik Kolom | CW26: Tinggi | CX26: b | CY26: h | CZ26: Ag | DA26: d' | DB26: r | DC26: =$B$28 -> ρg | DD26: As | DE26: n | DF26: n (dipakai min 4 bh) | DI26: At | DJ26: Keterangan
A27: C. Perhitungan Penulangan | I27: (m) | L27: (mm) | M27: (mm) | N27: (kN.m) | O27: (kN.m) | P27: KN | Q27: KN | T27: (mm) | U27: (mm) | V27: (mm) | W27: (mm) | X27: (mm) | Y27: Balok | AC27: (kN) | AD27: Balok | AH27: (kN.m) | AI27: (mm) | AJ27: (mm) | AK27: d'/h | AL27: Sumbu Y | AM27: Sumbu X | AP27: (mm²) | AS27: (mm²) | AV27: (mm) | AW27: (mm) | AX27: (mm) | AY27: (mm) | AZ27: (mm) | BA27: Balok | BD27: (kN) | BE27: Balok | BH27: (kN.m) | BI27: (mm) | BJ27: (mm) | BK27: d'/h | BL27: Sumbu Y | BM27: Sumbu X | BP27: (mm²) | BS27: (mm²) | BV27: (mm) | BW27: (mm) | BX27: (mm) | BY27: (mm) | BZ27: (mm) | CA27: Balok | CC27: (kN) | CD27: Balok | CF27: (kN.m) | CG27: (mm) | CH27: (mm) | CI27: d'/h | CJ27: Sumbu Y | CK27: Sumbu X | CN27: (mm²) | CS27: (mm²) | CW27: (mm) | CX27: (mm) | CY27: (mm) | CZ27: (mm) | DA27: (mm) | DD27: (mm²) | DI27: (mm²)
A28: Rasio tulangan yang diperlukan : | B28: ρg | C28: r * β | D28: mm² | I28: A | J28: (2-3) | S28: B3 | Y28: 3(A-B) ka | Z28: 3(B-D) ki | AA28: B(2-3) ka | AB28: B(3-4) ki | AD28: 3(A-B) ka | AE28: 3(B-D) ki | AF28: B(2-3) ka | AG28: B(3-4) ki | AU28: A3 | BA28: 3(A-B) ki | BB28: A(2-3) ka | BC28: A(3-4) ki | BE28: 3(A-B) ki | BF28: A(2-3) ka | BG28: A(3-4) ki | BU28: A2 | CA28: 2(A-B) ki | CB28: A(2-3) ki | CD28: 2(A-B) ki | CE28: A(2-3) ki | CV28: A2 | DJ28: K1
A29: Luas tulangan yang diperlukan, | B29: As | C29: ρg * b * h | D29: mm² | J29: L: | K29: 1.5 | L29: ='penulangan BALOK'!O11 -> 300 | M29: ='penulangan BALOK'!P11 -> 200 | N29: ='QE & MOMEN'!AA22 -> 2.925 | O29: =N29 -> 2.925 | P29: ='QE & MOMEN'!AB22 -> 11.7 | Q29: ='QE & MOMEN'!AC22 -> 11.7 | T29: =$C$3*1000 -> 3500 | U29: 300 | V29: 250 | W29: =U29*V29 -> 75000 | X29: =$C$13 -> 50 | Y29: =Q53 -> 35.2575 | Z29: =P55 -> 34.678 | AA29: =Q37 -> 4.5315 | AB29: =P39 -> 49.342 | AC29: =SUM(Y29:AB29) -> 123.809 | AD29: =O53 -> 17.62875 | AE29: =N55 -> 20.228833 | AF29: =O37 -> 1.132875 | AG29: =N39 -> 28.782833 | AH29: =SUM(AD29:AG29) -> 67.773292 | AI29: =(AH29*1000000)/(AC29*1000) -> 547.40198 | AJ29: =15+0.03*V29 -> 22.5 | AK29: =X29/V29 -> 0.2 | AL29: =(AC29*1000)/($C$12*W29*0.85*$C$9) -> 0.11951397 | AM29: =((AC29*1000)/($C$12*W29*0.85*$C$9))*(AI29/V29) -> 0.26168873 | AN29: 0.029 | AO29: =AN29*$C$11 -> 0.029 | AP29: =AO29*U29*V29 -> 2175 | AQ29: =AP29/($C$7^2*3.14/4) -> 7.675071 | AR29: =ROUNDUP(AQ29,0) -> 8 | AS29: =($C$7^2*3.14/4)*AR29 -> 2267.08 | AV29: =$C$3*1000 -> 3500 | AW29: 200 | AX29: 250 | AY29: =AW29*AX29 -> 50000 | AZ29: =$C$13 -> 50 | BA29: =P53 -> 35.2575 | BB29: =Q29 -> 11.7 | BC29: =P31 -> 33.9105 | BD29: =SUM(BA29:BC29) -> 80.868 | BE29: =N53 -> 17.62875 | BF29: =O29 -> 2.925 | BG29: =N31 -> 19.781125 | BH29: =SUM(BE29:BG29) -> 40.334875 | BI29: =(BH29*1000000)/(BD29*1000) -> 498.77424 | BJ29: =15+0.03*AX29 -> 22.5 | BK29: =AZ29/AX29 -> 0.2 | BL29: =(BD29*1000)/($C$12*AY29*0.85*$C$9) -> 0.11709394 | BM29: =((BD29*1000)/($C$12*AY29*0.85*$C$9))*(BI29/AX29) -> 0.23361376 | BN29: 0.028 | BO29: =BN29*$C$11 -> 0.028 | BP29: =BO29*AW29*AX29 -> 1400 | BQ29: =BP29/($C$7^2*3.14/4) -> 4.9402756 | BR29: =ROUNDUP(BQ29,0) -> 5 | BS29: =($C$7^2*3.14/4)*BR29 -> 1416.925 | BV29: =$C$3*1000 -> 3500 | BW29: 300 | BX29: 150 | BY29: =BW29*BX29 -> 45000 | BZ29: =$C$15 -> 30 | CA29: =P51 -> 8.7345 | CB29: =P29 -> 11.7 | CC29: =SUM(CA29:CB29) -> 20.4345 | CD29: =N51 -> 4.36725 | CE29: =N29 -> 2.925 | CF29: =SUM(CD29:CE29) -> 7.29225 | CG29: =(CF29*1000000)/(CC29*1000) -> 356.85972 | CH29: =15+0.03*BX29 -> 19.5 | CI29: =BZ29/BX29 -> 0.2 | CJ29: =(CC29*1000)/($C$12*BY29*0.85*$C$9) -> 0.032876018 | CK29: =((CC29*1000)/($C$12*BY29*0.85*$C$9))*(CG29/BX29) -> 0.078214178 | CL29: 0.006 | CM29: =CL29*$C$11 -> 0.006 | CN29: =CM29*BW29*BX29 -> 270 | CO29: =CN29/($C$7^2*3.14/4) -> 0.95276744 | CP29: =ROUNDUP(CO29,0) -> 1 | CQ29: =MAX(CP29,CR29) -> 4 | CR29: 4 | CS29: =($C$7^2*3.14/4)*CQ29 -> 1133.54 | CW29: =$C$3*1000 -> 3500 | CX29: 300 | CY29: 150 | CZ29: =CX29*CY29 -> 45000 | DA29: =$C$15 -> 30 | DB29: 0.006 | DC29: =DB29*$C$11 -> 0.006 | DD29: =$CN$29 -> 270 | DE29: =DD29/($C$7^2*3.14/4) -> 0.95276744 | DF29: =ROUNDUP(DE29,0) -> 1 | DG29: =MAX(DF29,DH29) -> 4 | DH29: 4 | DI29: =($C$7^2*3.14/4)*DG29 -> 1133.54
A30: Jumlah tulangan yang diperlukan, | B30: n | C30: As / (π / 4 * D²) | D30: bh | J30: (3-4) | S30: B4 | Y30: 4(A-B) ka | Z30: 4(B-D) ki | AA30: B(3-4) ka | AB30: B(4-7) ki | AD30: 4(A-B) ka | AE30: 4(B-D) ki | AF30: B(3-4) ka | AG30: B(4-7) ki | AU30: A4 | BA30: 4(A-B) ki | BB30: A(3-4) ka | BC30: A(4-7) ki | BE30: 4(A-B) ki | BF30: A(3-4) ka | BG30: A(4-7) ki | BU30: A7 | CA30: 7(A-B) ki | CB30: A(4-7) ka | CD30: 7(A-B) ki | CE30: A(4-7) ka | CV30: A3 | DJ30: K2
A31: Digunakan tulangan, | B31: n | C31: → | D31: bh | J31: L: | K31: 3.5 | L31: ='penulangan BALOK'!O13 -> 250 | M31: ='penulangan BALOK'!P13 -> 200 | N31: ='QE & MOMEN'!AA24 -> 19.781125 | O31: =N31 -> 19.781125 | P31: ='QE & MOMEN'!AB24 -> 33.9105 | Q31: ='QE & MOMEN'!AC24 -> 33.9105 | T31: =$C$3*1000 -> 3500 | U31: 300 | V31: 250 | W31: =U31*V31 -> 75000 | X31: =$C$13 -> 50 | Y31: =Q57 -> 23.919704 | Z31: =P59 -> 45.218 | AA31: =Q39 -> 49.342 | AB31: =P41 -> 46.779533 | AC31: =SUM(Y31:AB31) -> 165.25924 | AD31: =O57 -> 15.156564 | AE31: =N59 -> 26.377167 | AF31: =O39 -> 28.782833 | AG31: =N41 -> 37.350224 | AH31: =SUM(AD31:AG31) -> 107.66679 | AI31: =(AH31*1000000)/(AC31*1000) -> 651.50239 | AJ31: =15+0.03*V31 -> 22.5 | AK31: =X31/V31 -> 0.2 | AL31: =(AC31*1000)/($C$12*W31*0.85*$C$9) -> 0.15952626 | AM31: =((AC31*1000)/($C$12*W31*0.85*$C$9))*(AI31/V31) -> 0.41572696 | AN31: 0.052 | AO31: =AN31*$C$11 -> 0.052 | AP31: =AO31*U31*V31 -> 3900 | AQ31: =AP31/($C$7^2*3.14/4) -> 13.762196 | AR31: =ROUNDUP(AQ31,0) -> 14 | AS31: =($C$7^2*3.14/4)*AR31 -> 3967.39 | AV31: =$C$3*1000 -> 3500 | AW31: 200 | AX31: 250 | AY31: =AW31*AX31 -> 50000 | AZ31: =$C$13 -> 50 | BA31: =P57 -> 34.165055 | BB31: =Q31 -> 33.9105 | BC31: =P33 -> 24.876 | BD31: =SUM(BA31:BC31) -> 92.951555 | BE31: =N57 -> 19.59553 | BF31: =O31 -> 19.781125 | BG31: =N33 -> 16.584 | BH31: =SUM(BE31:BG31) -> 55.960655 | BI31: =(BH31*1000000)/(BD31*1000) -> 602.04108 | BJ31: =15+0.03*AX31 -> 22.5 | BK31: =AZ31/AX31 -> 0.2 | BL31: =(BD31*1000)/($C$12*AY31*0.85*$C$9) -> 0.13459049 | BM31: =((BD31*1000)/($C$12*AY31*0.85*$C$9))*(BI31/AX31) -> 0.32411601 | BN31: 0.042 | BO31: =BN31*$C$11 -> 0.042 | BP31: =BO31*AW31*AX31 -> 2100 | BQ31: =BP31/($C$7^2*3.14/4) -> 7.4104134 | BR31: =ROUNDUP(BQ31,0) -> 8 | BS31: =($C$7^2*3.14/4)*BR31 -> 2267.08 | BV31: =$C$3*1000 -> 3500 | BW31: 200 | BX31: 250 | BY31: =BW31*BX31 -> 50000 | BZ31: =$C$13 -> 50 | CA31: =P63 -> 29.374042 | CB31: =Q33 -> 24.876 | CC31: =SUM(CA31:CB31) -> 54.250042 | CD31: =N63 -> 19.045746 | CE31: =O33 -> 16.584 | CF31: =SUM(CD31:CE31) -> 35.629746 | CG31: =(CF31*1000000)/(CC31*1000) -> 656.769 | CH31: =15+0.03*BX31 -> 22.5 | CI31: =BZ31/BX31 -> 0.2 | CJ31: =(CC31*1000)/($C$12*BY31*0.85*$C$9) -> 0.078552097 | CK31: =((CC31*1000)/($C$12*BY31*0.85*$C$9))*(CG31/BX31) -> 0.20636233 | CL31: 0.027 | CM31: =CL31*$C$11 -> 0.027 | CN31: =CM31*BW31*BX31 -> 1350 | CO31: =CN31/($C$7^2*3.14/4) -> 4.7638372 | CP31: =ROUNDUP(CO31,0) -> 5 | CQ31: =MAX(CP31,CR31) -> 5 | CR31: 4 | CS31: =($C$7^2*3.14/4)*CQ31 -> 1416.925 | CW31: =$C$3*1000 -> 3500 | CX31: 200 | CY31: 250 | CZ31: =CX31*CY31 -> 50000 | DA31: =$C$13 -> 50 | DB31: 0.028 | DC31: =DB31*$C$11 -> 0.028 | DD31: =$BP$29 -> 1400 | DE31: =DD31/($C$7^2*3.14/4) -> 4.9402756 | DG31: =ROUNDUP(DE31,0) -> 5 | DI31: =($C$7^2*3.14/4)*DG31 -> 1416.925
A32: Luas tulangan terpakai, | B32: At | C32: n * π / 4 * D² | D32: mm² | J32: (4-7) | AU32: B7 | BA32: 7(A-B) ka | BB32: 7(B-D) ki | BC32: B(4-7) ka | BE32: 7(A-B) ka | BF32: 7(B-D) ki | BG32: B(4-7) ka | BU32: B2 | CA32: 2(A-B) ka | CB32: B(2-3) ki | CD32: 2(A-B) ka | CE32: B(2-3) ki | CV32: A4 | DJ32: K6
J33: L: | K33: 4 | L33: ='penulangan BALOK'!O15 -> 300 | M33: ='penulangan BALOK'!P15 -> 200 | N33: ='QE & MOMEN'!AA26 -> 16.584 | O33: =N33 -> 16.584 | P33: ='QE & MOMEN'!AB26 -> 24.876 | Q33: ='QE & MOMEN'!AC26 -> 24.876 | AV33: =$C$3*1000 -> 3500 | AW33: 300 | AX33: 250 | AY33: =AW33*AX33 -> 75000 | AZ33: =$C$13 -> 50 | BA33: =Q63 -> 28.213467 | BB33: =P65 -> 31.538584 | BC33: =Q41 -> 71.63475 | BD33: =SUM(BA33:BC33) -> 131.3868 | BE33: =O63 -> 16.45629 | BF33: =N65 -> 20.736519 | BG33: =O41 -> 67.657158 | BH33: =SUM(BE33:BG33) -> 104.84997 | BI33: =(BH33*1000000)/(BD33*1000) -> 798.02511 | BJ33: =15+0.03*AX33 -> 22.5 | BK33: =AZ33/AX33 -> 0.2 | BL33: =(BD33*1000)/($C$12*AY33*0.85*$C$9) -> 0.12682889 | BM33: =((BD33*1000)/($C$12*AY33*0.85*$C$9))*(BI33/AX33) -> 0.40485055 | BN33: 0.054 | BO33: =BN33*$C$11 -> 0.054 | BP33: =BO33*AW33*AX33 -> 4050 | BQ33: =BP33/($C$7^2*3.14/4) -> 14.291512 | BR33: =ROUNDUP(BQ33,0) -> 15 | BS33: =($C$7^2*3.14/4)*BR33 -> 4250.775 | BV33: =$C$3*1000 -> 3500 | BW33: 300 | BX33: 150 | BY33: =BW33*BX33 -> 45000 | BZ33: =$C$15 -> 30 | CA33: =Q51 -> 8.7345 | CB33: =P37 -> 4.5315 | CC33: =SUM(CA33:CB33) -> 13.266 | CD33: =O51 -> 4.36725 | CE33: =N37 -> 1.132875 | CF33: =SUM(CD33:CE33) -> 5.500125 | CG33: =(CF33*1000000)/(CC33*1000) -> 414.60312 | CH33: =15+0.03*BX33 -> 19.5 | CI33: =BZ33/BX33 -> 0.2 | CJ33: =(CC33*1000)/($C$12*BY33*0.85*$C$9) -> 0.021342986 | CK33: =((CC33*1000)/($C$12*BY33*0.85*$C$9))*(CG33/BX33) -> 0.058992459 | CL33: 0.006 | CM33: =CL33*$C$11 -> 0.006 | CN33: =CM33*BW33*BX33 -> 270 | CO33: =CN33/($C$7^2*3.14/4) -> 0.95276744 | CP33: =ROUNDUP(CO33,0) -> 1 | CQ33: =MAX(CP33,CR33) -> 4 | CR33: 4 | CS33: =($C$7^2*3.14/4)*CQ33 -> 1133.54 | CW33: =$C$3*1000 -> 3500 | CX33: 200 | CY33: 250 | CZ33: =CX33*CY33 -> 50000 | DA33: =$C$13 -> 50 | DB33: 0.042 | DC33: =DB33*$C$11 -> 0.042 | DD33: =$BP$31 -> 2100 | DE33: =DD33/($C$7^2*3.14/4) -> 7.4104134 | DG33: =ROUNDUP(DE33,0) -> 8 | DI33: =($C$7^2*3.14/4)*DG33 -> 2267.08
I34: A' | J34: (4-7) | AU34: D4 | BA34: 4(B-D) ka | BB34: D(3-4) ka | BC34: D(4-7) ki | BE34: 4(B-D) ka | BF34: D(3-4) ka | BG34: D(4-7) ki | BU34: C8 | CA34: 8(C-D) ki | CB34: C(7-8) ka | CD34: 8(C-D) ki | CE34: C(7-8) ka | CV34: A7 | DJ34: K2
J35: L: | K35: 4 | L35: ='penulangan BALOK'!O17 -> 300 | M35: ='penulangan BALOK'!P17 -> 150 | N35: ='QE & MOMEN'!AA28 -> 9.3339275 | O35: =N35 -> 9.3339275 | P35: ='QE & MOMEN'!AB28 -> 14.000891 | Q35: ='QE & MOMEN'!AC28 -> 14.000891 | AV35: =$C$3*1000 -> 3500 | AW35: 250 | AX35: 250 | AY35: =AW35*AX35 -> 62500 | AZ35: =$C$13 -> 50 | BA35: =Q59 -> 45.218 | BB35: =Q45 -> 36.694 | BC35: =P47 -> 37.817661 | BD35: =SUM(BA35:BC35) -> 119.72966 | BE35: =O59 -> 26.377167 | BF35: =O45 -> 21.404833 | BG35: =N47 -> 31.005344 | BH35: =SUM(BE35:BG35) -> 78.787344 | BI35: =(BH35*1000000)/(BD35*1000) -> 658.04365 | BJ35: =15+0.03*AX35 -> 22.5 | BK35: =AZ35/AX35 -> 0.2 | BL35: =(BD35*1000)/($C$12*AY35*0.85*$C$9) -> 0.13869137 | BM35: =((BD35*1000)/($C$12*AY35*0.85*$C$9))*(BI35/AX35) -> 0.36505991 | BN35: 0.045 | BO35: =BN35*$C$11 -> 0.045 | BP35: =BO35*AW35*AX35 -> 2812.5 | BQ35: =BP35/($C$7^2*3.14/4) -> 9.9246608 | BR35: =ROUNDUP(BQ35,0) -> 10 | BS35: =($C$7^2*3.14/4)*BR35 -> 2833.85 | BV35: =$C$3*1000 -> 3500 | BW35: 200 | BX35: 200 | BY35: =BW35*BX35 -> 40000 | BZ35: =$C$14 -> 40 | CA35: =P67 -> 8.356 | CB35: =Q43 -> 11.499 | CC35: =SUM(CA35:CB35) -> 19.855 | CD35: =N67 -> 2.7853333 | CE35: =O43 -> 4.79125 | CF35: =SUM(CD35:CE35) -> 7.5765833 | CG35: =(CF35*1000000)/(CC35*1000) -> 381.59574 | CH35: =15+0.03*BX35 -> 21 | CI35: =BZ35/BX35 -> 0.2 | CJ35: =(CC35*1000)/($C$12*BY35*0.85*$C$9) -> 0.035936652 | CK35: =((CC35*1000)/($C$12*BY35*0.85*$C$9))*(CG35/BX35) -> 0.068566365 | CL35: 0.008 | CM35: =CL35*$C$11 -> 0.008 | CN35: =CM35*BW35*BX35 -> 320 | CO35: =CN35/($C$7^2*3.14/4) -> 1.1292059 | CP35: =ROUNDUP(CO35,0) -> 2 | CQ35: =MAX(CP35,CR35) -> 4 | CR35: 4 | CS35: =($C$7^2*3.14/4)*CQ35 -> 1133.54 | CW35: =$C$3*1000 -> 3500 | CX35: 200 | CY35: 250 | CZ35: =CX35*CY35 -> 50000 | DA35: =$C$13 -> 50 | DB35: 0.027 | DC35: =DB35*$C$11 -> 0.027 | DD35: =$CN$31 -> 1350 | DE35: =DD35/($C$7^2*3.14/4) -> 4.7638372 | DF35: =ROUNDUP(DE35,0) -> 5 | DG35: =MAX(DF35,DH35) -> 5 | DH35: 4 | DI35: =($C$7^2*3.14/4)*DG35 -> 1416.925
I36: B | J36: (2-3) | AU36: D7 | BA36: 7(B-D) ka | BB36: D(4-7) ka | BC36: D(7-8) ki | BE36: 7(B-D) ka | BF36: D(4-7) ka | BG36: D(7-8) ki | BU36: D3 | CA36: 3(B-D) ka | CB36: D(3-4) ki | CD36: 3(B-D) ka | CE36: D(3-4) ki | CV36: B2 | DJ36: K1
J37: L: | K37: 1.5 | L37: ='penulangan BALOK'!O19 -> 400 | M37: ='penulangan BALOK'!P19 -> 250 | N37: ='QE & MOMEN'!AA30 -> 1.132875 | O37: =N37 -> 1.132875 | P37: ='QE & MOMEN'!AB30 -> 4.5315 | Q37: ='QE & MOMEN'!AC30 -> 4.5315 | AV37: =$C$3*1000 -> 3500 | AW37: 250 | AX37: 250 | AY37: =AW37*AX37 -> 62500 | AZ37: =$C$13 -> 50 | BA37: =Q65 -> 21.641416 | BB37: =Q47 -> 69.928839 | BC37: =P49 -> 13.749 | BD37: =SUM(BA37:BC37) -> 105.31925 | BE37: =O65 -> 16.032224 | BF37: =O47 -> 59.759198 | BG37: =N49 -> 5.72875 | BH37: =SUM(BE37:BG37) -> 81.520172 | BI37: =(BH37*1000000)/(BD37*1000) -> 774.02914 | BJ37: =15+0.03*AX37 -> 22.5 | BK37: =AZ37/AX37 -> 0.2 | BL37: =(BD37*1000)/($C$12*AY37*0.85*$C$9) -> 0.12199877 | BM37: =((BD37*1000)/($C$12*AY37*0.85*$C$9))*(BI37/AX37) -> 0.37772243 | BN37: 0.048 | BO37: =BN37*$C$11 -> 0.048 | BP37: =BO37*AW37*AX37 -> 3000 | BQ37: =BP37/($C$7^2*3.14/4) -> 10.586305 | BR37: =ROUNDUP(BQ37,0) -> 11 | BS37: =($C$7^2*3.14/4)*BR37 -> 3117.235 | BV37: =$C$3*1000 -> 3500 | BW37: 200 | BX37: 250 | BY37: =BW37*BX37 -> 50000 | BZ37: =$C$13 -> 50 | CA37: =O55 -> 20.228833 | CB37: =P45 -> 36.694 | CC37: =SUM(CA37:CB37) -> 56.922833 | CD37: =O55 -> 20.228833 | CE37: =N45 -> 21.404833 | CF37: =SUM(CD37:CE37) -> 41.633667 | CG37: =(CF37*1000000)/(CC37*1000) -> 731.40538 | CH37: =15+0.03*BX37 -> 22.5 | CI37: =BZ37/BX37 -> 0.2 | CJ37: =(CC37*1000)/($C$12*BY37*0.85*$C$9) -> 0.082422202 | CK37: =((CC37*1000)/($C$12*BY37*0.85*$C$9))*(CG37/BX37) -> 0.24113617 | CL37: 0.031 | CM37: =CL37*$C$11 -> 0.031 | CN37: =CM37*BW37*BX37 -> 1550 | CO37: =CN37/($C$7^2*3.14/4) -> 5.4695908 | CP37: =ROUNDUP(CO37,0) -> 6 | CQ37: =MAX(CP37,CR37) -> 6 | CR37: 4 | CS37: =($C$7^2*3.14/4)*CQ37 -> 1700.31 | CW37: =$C$3*1000 -> 3500 | CX37: 300 | CY37: 150 | CZ37: =CX37*CY37 -> 45000 | DA37: =$C$15 -> 30 | DB37: 0.006 | DC37: =DB37*$C$11 -> 0.006 | DD37: =$CN$33 -> 270 | DE37: =DD37/($C$7^2*3.14/4) -> 0.95276744 | DF37: =ROUNDUP(DE37,0) -> 1 | DG37: =MAX(DF37,DH37) -> 4 | DH37: 4 | DI37: =($C$7^2*3.14/4)*DG37 -> 1133.54
J38: (3-4) | BU38: D8 | CA38: 8(C-D) ka | CB38: D(7-8) ka | CD38: 8(C-D) ka | CE38: D(7-8) ka | CV38: B3 | DJ38: K3
J39: L: | K39: 3.5 | L39: ='penulangan BALOK'!O21 -> 400 | M39: ='penulangan BALOK'!P21 -> 250 | N39: ='QE & MOMEN'!AA32 -> 28.782833 | O39: =N39 -> 28.782833 | P39: ='QE & MOMEN'!AB32 -> 49.342 | Q39: ='QE & MOMEN'!AC32 -> 49.342 | BV39: =$C$3*1000 -> 3500 | BW39: 200 | BX39: 200 | BY39: =BW39*BX39 -> 40000 | BZ39: =$C$14 -> 40 | CA39: =P67 -> 8.356 | CB39: =Q49 -> 13.749 | CC39: =SUM(CA39:CB39) -> 22.105 | CD39: =O67 -> 2.7853333 | CE39: =O49 -> 5.72875 | CF39: =SUM(CD39:CE39) -> 8.5140833 | CG39: =(CF39*1000000)/(CC39*1000) -> 385.1655 | CH39: =15+0.03*BX39 -> 21 | CI39: =BZ39/BX39 -> 0.2 | CJ39: =(CC39*1000)/($C$12*BY39*0.85*$C$9) -> 0.04000905 | CK39: =((CC39*1000)/($C$12*BY39*0.85*$C$9))*(CG39/BX39) -> 0.077050528 | CL39: 0.01 | CM39: =CL39*$C$11 -> 0.01 | CN39: =CM39*BW39*BX39 -> 400 | CO39: =CN39/($C$7^2*3.14/4) -> 1.4115073 | CP39: =ROUNDUP(CO39,0) -> 2 | CQ39: =MAX(CP39,CR39) -> 4 | CR39: 4 | CS39: =($C$7^2*3.14/4)*CQ39 -> 1133.54 | CW39: =$C$3*1000 -> 3500 | CX39: 300 | CY39: 250 | CZ39: =CX39*CY39 -> 75000 | DA39: =$C$13 -> 50 | DB39: 0.029 | DC39: =DB39*$C$11 -> 0.029 | DD39: =$AP$29 -> 2175 | DE39: =DD39/($C$7^2*3.14/4) -> 7.675071 | DG39: =ROUNDUP(DE39,0) -> 8 | DI39: =($C$7^2*3.14/4)*DG39 -> 2267.08
J40: (4-7) | CV40: B4 | DJ40: K4
J41: L: | K41: 4 | L41: ='penulangan BALOK'!O23 -> 400 | M41: ='penulangan BALOK'!P23 -> 250 | N41: ='QE & MOMEN'!BA22 -> 37.350224 | O41: ='QE & MOMEN'!BB22 -> 67.657158 | P41: ='QE & MOMEN'!BE22 -> 46.779533 | Q41: ='QE & MOMEN'!BF22 -> 71.63475 | CW41: =$C$3*1000 -> 3500 | CX41: 300 | CY41: 250 | CZ41: =CX41*CY41 -> 75000 | DA41: =$C$13 -> 50 | DB41: 0.052 | DC41: =DB41*$C$11 -> 0.052 | DD41: =$AP$31 -> 3900 | DE41: =DD41/($C$7^2*3.14/4) -> 13.762196 | DG41: =ROUNDUP(DE41,0) -> 14 | DI41: =($C$7^2*3.14/4)*DG41 -> 3967.39
I42: C | J42: (7-8) | CV42: B7 | DJ42: K4
J43: L: | K43: 2.5 | L43: ='penulangan BALOK'!O25 -> 250 | M43: ='penulangan BALOK'!P25 -> 150 | N43: ='QE & MOMEN'!AA36 -> 4.79125 | O43: =N43 -> 4.79125 | P43: ='QE & MOMEN'!AB36 -> 11.499 | Q43: ='QE & MOMEN'!AC36 -> 11.499 | CW43: =$C$3*1000 -> 3500 | CX43: 300 | CY43: 250 | CZ43: =CX43*CY43 -> 75000 | DA43: =$C$13 -> 50 | DB43: 0.054 | DC43: =DB43*$C$11 -> 0.054 | DD43: =$BP$33 -> 4050 | DE43: =DD43/($C$7^2*3.14/4) -> 14.291512 | DG43: =ROUNDUP(DE43,0) -> 15 | DI43: =($C$7^2*3.14/4)*DG43 -> 4250.775
I44: D | J44: (3-4) | CV44: C8 | DJ44: K7
J45: L: | K45: 3.5 | L45: ='penulangan BALOK'!O27 -> 400 | M45: ='penulangan BALOK'!P27 -> 250 | N45: ='QE & MOMEN'!AA38 -> 21.404833 | O45: =N45 -> 21.404833 | P45: ='QE & MOMEN'!AB38 -> 36.694 | Q45: ='QE & MOMEN'!AC38 -> 36.694 | CW45: =$C$3*1000 -> 3500 | CX45: 200 | CY45: 200 | CZ45: =CX45*CY45 -> 40000 | DA45: =$C$14 -> 40 | DB45: 0.008 | DC45: =DB45*$C$11 -> 0.008 | DD45: =$CN$35 -> 320 | DE45: =DD45/($C$7^2*3.14/4) -> 1.1292059 | DF45: =ROUNDUP(DE45,0) -> 2 | DG45: =MAX(DF45,DH45) -> 4 | DH45: 4 | DI45: =($C$7^2*3.14/4)*DG45 -> 1133.54
J46: (4-7) | CV46: D3 | DJ46: K2
J47: L: | K47: 4 | L47: ='penulangan BALOK'!O29 -> 400 | M47: ='penulangan BALOK'!P29 -> 250 | N47: ='QE & MOMEN'!BA24 -> 31.005344 | O47: ='QE & MOMEN'!BB24 -> 59.759198 | P47: ='QE & MOMEN'!BE24 -> 37.817661 | Q47: ='QE & MOMEN'!BF24 -> 69.928839 | CW47: =$C$3*1000 -> 3500 | CX47: 200 | CY47: 250 | CZ47: =CX47*CY47 -> 50000 | DA47: =$C$13 -> 50 | DB47: 0.031 | DC47: =DB47*$C$11 -> 0.031 | DD47: =$CN$37 -> 1550 | DE47: =DD47/($C$7^2*3.14/4) -> 5.4695908 | DF47: =ROUNDUP(DE47,0) -> 6 | DG47: =MAX(DF47,DH47) -> 6 | DH47: 4 | DI47: =($C$7^2*3.14/4)*DG47 -> 1700.31
J48: (7-8) | CV48: D4 | DJ48: K5
J49: L: | K49: 2.5 | L49: ='penulangan BALOK'!O31 -> 400 | M49: ='penulangan BALOK'!P31 -> 250 | N49: ='QE & MOMEN'!AA42 -> 5.72875 | O49: =N49 -> 5.72875 | P49: ='QE & MOMEN'!AB42 -> 13.749 | Q49: ='QE & MOMEN'!AC42 -> 13.749 | CW49: =$C$3*1000 -> 3500 | CX49: 250 | CY49: 250 | CZ49: =CX49*CY49 -> 62500 | DA49: =$C$13 -> 50 | DB49: 0.045 | DC49: =DB49*$C$11 -> 0.045 | DD49: =$BP$35 -> 2812.5 | DE49: =DD49/($C$7^2*3.14/4) -> 9.9246608 | DG49: =ROUNDUP(DE49,0) -> 10 | DI49: =($C$7^2*3.14/4)*DG49 -> 2833.85
I50: 2 | J50: (A-B) | CV50: D7 | DJ50: K5
J51: L: | K51: 3 | L51: ='penulangan BALOK'!O61 -> 250 | M51: ='penulangan BALOK'!P61 -> 150 | N51: ='QE & MOMEN'!AA50 -> 4.36725 | O51: =N51 -> 4.36725 | P51: ='QE & MOMEN'!AB50 -> 8.7345 | Q51: ='QE & MOMEN'!AC50 -> 8.7345 | CW51: =$C$3*1000 -> 3500 | CX51: 250 | CY51: 250 | CZ51: =CX51*CY51 -> 62500 | DA51: =$C$13 -> 50 | DB51: 0.048 | DC51: =DB51*$C$11 -> 0.048 | DD51: =$BP$37 -> 3000 | DE51: =DD51/($C$7^2*3.14/4) -> 10.586305 | DG51: =ROUNDUP(DE51,0) -> 11 | DI51: =($C$7^2*3.14/4)*DG51 -> 3117.235
I52: 3 | J52: (A-B) | CV52: D8 | DJ52: K7
J53: L: | K53: 3 | L53: ='penulangan BALOK'!O63 -> 300 | M53: ='penulangan BALOK'!P63 -> 200 | N53: ='QE & MOMEN'!AA52 -> 17.62875 | O53: =N53 -> 17.62875 | P53: ='QE & MOMEN'!AB52 -> 35.2575 | Q53: ='QE & MOMEN'!AC52 -> 35.2575 | CW53: =$C$3*1000 -> 3500 | CX53: 200 | CY53: 200 | CZ53: =CX53*CY53 -> 40000 | DA53: =$C$14 -> 40 | DB53: 0.01 | DC53: =DB53*$C$11 -> 0.01 | DD53: =$CN$39 -> 400 | DE53: =DD53/($C$7^2*3.14/4) -> 1.4115073 | DF53: =ROUNDUP(DE53,0) -> 2 | DG53: =MAX(DF53,DH53) -> 4 | DH53: 4 | DI53: =($C$7^2*3.14/4)*DG53 -> 1133.54
J54: (B-D)
J55: L: | K55: 3.5 | L55: ='penulangan BALOK'!O65 -> 300 | M55: ='penulangan BALOK'!P65 -> 200 | N55: ='QE & MOMEN'!AA54 -> 20.228833 | O55: =N55 -> 20.228833 | P55: ='QE & MOMEN'!AB54 -> 34.678 | Q55: ='QE & MOMEN'!AC54 -> 34.678
I56: 4 | J56: (A-B)
J57: L: | K57: 3 | L57: ='penulangan BALOK'!O67 -> 300 | M57: ='penulangan BALOK'!P67 -> 200 | N57: ='QE & MOMEN'!BA50 -> 19.59553 | O57: ='QE & MOMEN'!BB50 -> 15.156564 | P57: ='QE & MOMEN'!BE50 -> 34.165055 | Q57: ='QE & MOMEN'!BF50 -> 23.919704
J58: (B-D)
J59: L: | K59: 3.5 | L59: ='penulangan BALOK'!O69 -> 300 | M59: ='penulangan BALOK'!P69 -> 200 | N59: ='QE & MOMEN'!AA58 -> 26.377167 | O59: =N59 -> 26.377167 | P59: ='QE & MOMEN'!AB58 -> 45.218 | Q59: ='QE & MOMEN'!AC58 -> 45.218
I60: 6 | J60: (B-D)
J61: L: | K61: 3.5 | L61: ='penulangan BALOK'!O71 -> 300 | M61: ='penulangan BALOK'!P71 -> 200 | N61: ='QE & MOMEN'!AA60 -> 22.534458 | O61: =N61 -> 22.534458 | P61: ='QE & MOMEN'!AB60 -> 38.6305 | Q61: ='QE & MOMEN'!AC60 -> 38.6305
I62: 7 | J62: (A-B)
J63: L: | K63: 3 | L63: ='penulangan BALOK'!O73 -> 300 | M63: ='penulangan BALOK'!P73 -> 200 | N63: ='QE & MOMEN'!BA52 -> 19.045746 | O63: ='QE & MOMEN'!BB52 -> 16.45629 | P63: ='QE & MOMEN'!BE52 -> 29.374042 | Q63: ='QE & MOMEN'!BF52 -> 28.213467
J64: (B-D)
J65: L: | K65: 3.5 | L65: ='penulangan BALOK'!O75 -> 300 | M65: ='penulangan BALOK'!P75 -> 200 | N65: ='QE & MOMEN'!BA54 -> 20.736519 | O65: ='QE & MOMEN'!BB54 -> 16.032224 | P65: ='QE & MOMEN'!BE54 -> 31.538584 | Q65: ='QE & MOMEN'!BF54 -> 21.641416
I66: 8 | J66: (C-D)
J67: L: | K67: 2 | L67: ='penulangan BALOK'!O77 -> 250 | M67: ='penulangan BALOK'!P77 -> 150 | N67: ='QE & MOMEN'!AA66 -> 2.7853333 | O67: =N67 -> 2.7853333 | P67: ='QE & MOMEN'!AB66 -> 8.356 | Q67: ='QE & MOMEN'!AC66 -> 8.356
