Workbook

Sheet PLAT
A1: A. Data Bahan Struktur
A2: Kuat Tekan Beton | C2: Fc | D2: 25 | E2: Mpa
A3: Tegangan leleh baja untuk tegangan lentur | C3: Fy | D3: 240 | E3: Mpa
A4: koefisien momen plat untuk, (β) | C4: β₁ | D4: 0.85 | E4: fc ≤ 30 Mpa | O4: Plat lantai minimal 12 cm atau 0,12 m
O5: Plat atap minimal 8 cm atau 0,08 m
A6: B. Data Plat Lantai | I6: Tabel Tebal Plat Lantai
I7: Type plat | J7: Ly | K7: Lx | L7: Ln | M7: β | N7: h min | O7: h max | P7: h dipakai
J8: (m) | K8: (m) | L8: (m) | M8: Ly/Lx | N8: (m) | O8: (m) | P8: (m)
A9: Panjang bentang plat arah x, (Lx) | I9: a | J9: 3 | K9: 1.5 | L9: =MAX(J9:K9) -> 3 | M9: =J9/K9 -> 2 | N9: =((0.8+(D$3/1500))/(36+(9*D$4)))*L9 -> 0.065979381 | O9: =((0.8+(D$3/1500))/(36))*L9 -> 0.08 | P9: 0.12
A10: panjang bentang plat arah y, (Ly) | I10: b | J10: 3.5 | K10: 3 | L10: =MAX(J10:K10) -> 3.5 | M10: =J10/K10 -> 1.1666667 | N10: =((0.8+(D$3/1500))/(36+(9*D$4)))*L10 -> 0.076975945 | O10: =((0.8+(D$3/1500))/(36))*L10 -> 0.093333333 | P10: 0.12
A11: tebal plat lantai, (h) | C11: β1 | D11: = 0,85 | E11: ,untuk fc’ ≤ 30 MPa | I11: c | J11: 3.5 | K11: 3.5 | L11: =MAX(J11:K11) -> 3.5 | M11: =J11/K11 -> 1 | N11: =((0.8+(D$3/1500))/(36+(9*D$4)))*L11 -> 0.076975945 | O11: =((0.8+(D$3/1500))/(36))*L11 -> 0.093333333 | P11: 0.12
A12: koefisien momen plat untuk, (β) | C12: β1 | D12: = 0.85 – ((fc’ – 30)/7)0.05 | F12: ,untuk fc’ >30 MPa | I12: d | J12: 4 | K12: 1.725 | L12: =MAX(J12:K12) -> 4 | M12: =J12/K12 -> 2.3188406 | N12: =((0.8+(D$3/1500))/(36+(9*D$4)))*L12 -> 0.087972509 | O12: =((0.8+(D$3/1500))/(36))*L12 -> 0.10666667 | P12: 0.12
C13: β1 | D13: = 0.65 (minimum) | I13: e | J13: 3.5 | K13: 2 | L13: =MAX(J13:K13) -> 3.5 | M13: =J13/K13 -> 1.75 | N13: =((0.8+(D$3/1500))/(36+(9*D$4)))*L13 -> 0.076975945 | O13: =((0.8+(D$3/1500))/(36))*L13 -> 0.093333333 | P13: 0.12
I14: f | J14: 3.5 | K14: 1 | L14: =MAX(J14:K14) -> 3.5 | M14: =J14/K14 -> 3.5 | N14: =((0.8+(D$3/1500))/(36+(9*D$4)))*L14 -> 0.076975945 | O14: =((0.8+(D$3/1500))/(36))*L14 -> 0.093333333 | P14: 0.12
A15: C. Beban Plat Lantai | I15: g | J15: 2.5 | K15: 2 | L15: =MAX(J15:K15) -> 2.5 | M15: =J15/K15 -> 1.25 | N15: =((0.8+(D$3/1500))/(36+(9*D$4)))*L15 -> 0.054982818 | O15: =((0.8+(D$3/1500))/(36))*L15 -> 0.066666667 | P15: 0.12
A16: 1. Beban Mati (Dead Load)
A17: No | B17: Jenis Beban Mati | C17: Berat Satuan | D17: Tebal (m) | E17: q(KN/m²)
A18: 1 | B18: Berat sendiri plat lantai (KN/m³) | C18: 24 | D18: 0.12 | E18: =C18*D18 -> 2.88
A19: 2 | B19: Berat spasi lantai (KN/m³) | C19: 21 | D19: 0.03 | E19: =C19*D19 -> 0.63
A20: 3 | B20: Berat Keramik | C20: 0.24 | D20: - | E20: =C20 -> 0.24
A21: 4 | B21: Urugan Pasir | C21: 14 | D21: 0.03 | E21: =D21*C21 -> 0.42
A22: 5 | B22: Berat plafon dan rangka (KN/m³) | C22: =0.11+0.08 -> 0.19 | D22: - | E22: =C22 -> 0.19
A23: Total beban mati | C23: qD | E23: =SUM(E18:E22) -> 4.36
A25: 2. Beban Hidup (Live Load)
A26: Beban hidup pada lantai bangunan | C26: 200 | D26: kg/m²
B27: qL | C27: =C26/100 -> 2 | D27: KN/m²
A29: 3. Beban Rencana Terfaktor
A30: Beban rencana terfaktor
B31: qu | C31: 1,2*qD + 1,6*qL | D31: KN/m²
B32: qu | C32: =(1.2*E23)+(1.6*C27) -> 8.432 | D32: KN/m²
A34: 4. Momen Plat Akibat Beban Terfaktor
A36: Momen lapangan arah x, | C36: Mulx | D36: Clx*0.001*qu*Lx²
A37: Momen lapangan arah y, | C37: Muly | D37: Cly*0.001*qu*Lx² | I37: Tabel momen plat lantai
A38: Momen tumpuan arah x, | C38: Mutx | D38: Ctx*0.001*qu*Lx² | I38: Type plat | J38: Ly | K38: Lx | L38: Perb. Ly/Lx | M38: Clx | N38: Cly | O38: Ctx | P38: Cty | Q38: Mulx | R38: Muly | S38: Mutx | T38: Muty | U38: Mu Max | V38: Mu Max pakai
A39: Momen tumpuan arah y, | C39: Muty | D39: Cty*0.001*qu*Lx² | J39: (m) | K39: (m) | U39: (KNm/m) | V39: (KNm/m)
A40: Momen rencana (Maks) plat, | I40: a | J40: =J9 -> 3 | K40: =K9 -> 1.5 | L40: =J40/K40 -> 2 | M40: 41 | N40: 12 | O40: 83 | P40: 57 | Q40: =M40*0.001*C$32*K40*K40 -> 0.777852 | R40: =N40*0.001*C$32*K40*K40 -> 0.227664 | S40: =O40*0.001*C$32*K40*K40 -> 1.574676 | T40: =P40*0.001*C$32*K40*K40 -> 1.081404 | U40: =S40 -> 1.574676 | V40: =MAX(U40:U46) -> 5.371184
I41: b | J41: =J10 -> 3.5 | K41: =K10 -> 3 | L41: =J41/K41 -> 1.1666667 | M41: 28 | N41: 20 | O41: 64 | P41: 56 | Q41: =M41*0.001*C$32*K41*K41 -> 2.124864 | R41: =N41*0.001*C$32*K41*K41 -> 1.51776 | S41: =O41*0.001*C$32*K41*K41 -> 4.856832 | T41: =P41*0.001*C$32*K41*K41 -> 4.249728 | U41: =S41 -> 4.856832
A42: D. Penulangan Plat | I42: c | J42: =J11 -> 3.5 | K42: =K11 -> 3.5 | L42: =J42/K42 -> 1 | M42: 21 | N42: 21 | O42: 52 | P42: 52 | Q42: =M42*0.001*C$32*K42*K42 -> 2.169132 | R42: =N42*0.001*C$32*K42*K42 -> 2.169132 | S42: =O42*0.001*C$32*K42*K42 -> 5.371184 | T42: =P42*0.001*C$32*K42*K42 -> 5.371184 | U42: =S42 -> 5.371184
A43: Untuk : fc' ≤ 30 Mpa | I43: d | J43: =J12 -> 4 | K43: =K12 -> 1.725 | L43: =J43/K43 -> 2.3188406 | M43: 42 | N43: 11 | O43: 83 | P43: 57 | Q43: =M43*0.001*C$32*K43*K43 -> 1.0537997 | R43: =N43*0.001*C$32*K43*K43 -> 0.27599517 | S43: =O43*0.001*C$32*K43*K43 -> 2.082509 | T43: =P43*0.001*C$32*K43*K43 -> 1.4301568 | U43: =S43 -> 2.082509
A44: Diameter besi | C44: Ø | D44: 10 | I44: e | J44: =J13 -> 3.5 | K44: =K13 -> 2 | L44: =J44/K44 -> 1.75 | M44: 40 | N44: 13 | O44: 82 | P44: 57 | Q44: =M44*0.001*C$32*K44*K44 -> 1.34912 | R44: =N44*0.001*C$32*K44*K44 -> 0.438464 | S44: =O44*0.001*C$32*K44*K44 -> 2.765696 | T44: =P44*0.001*C$32*K44*K44 -> 1.922496 | U44: =S44 -> 2.765696
...

Sheet Sheet1

Sheet QE & MOMEN
W1: balok As A (3-4)
Y2: v AS 6
B3: A. Perhitungan q equivalen plat | X3: q1 | Y3: q2
H4: Tabel q eqivalen plat lantai | V4: 4
B5: qe = | C5: 0,25 * q * Lx | H5: Nama | I5: Ly | J5: Lx | K5: qu Plat | L5: qe | M5: qe | Z5: 7
H6: Plat | I6: (m) | J6: (m) | K6: kN/m2 | L6: kN/m' | M6: kN/m' | W6: M4 | Y6: M7
H7: a | I7: =PLAT!J9 -> 3 | J7: =PLAT!K9 -> 1.5 | K7: =C$11 -> 8.432 | L7: =0.25*K7*J7 -> 3.162 | M7: =(0.5*((I7/J7)-0.5)*K7*J7*J7)/I7 -> 4.743 | V7: V4 | W7: L1= 3,00M | Y7: L2=1M
B8: qe = | C8: 0,5 * ((Ly / Lx) - 0,5 )* q * Lx² | H8: b | I8: =PLAT!J10 -> 3.5 | J8: =PLAT!K10 -> 3 | K8: =C$11 -> 8.432 | L8: =0.25*K8*J8 -> 6.324 | M8: =(0.5*((I8/J8)-0.5)*K8*J8*J8)/I8 -> 7.2274286 | Z8: V7
C9: Ly | H9: c | I9: =PLAT!J11 -> 3.5 | J9: =PLAT!K11 -> 3.5 | K9: =C$11 -> 8.432 | L9: =0.25*K9*J9 -> 7.378 | M9: - | W9: Mu = 1/12 x qu x L^2 | AT9: jarak m maks | AU9: =BE22-AW22 -> -22.671804 | AV9: =BE22*AS22/(BE22-AU9) -> 2.0206753
H10: d | I10: =PLAT!J12 -> 4 | J10: =PLAT!K12 -> 1.725 | K10: =C$11 -> 8.432 | L10: =0.25*K10*J10 -> 3.6363 | M10: =(0.5*((I10/J10)-0.5)*K10*J10*J10)/I10 -> 5.7044456 | W10: baik tumpuan atau lapangan
B11: qu Plat : | C11: =PLAT!C32 -> 8.432 | D11: kN/m² | H11: e | I11: =PLAT!J13 -> 3.5 | J11: =PLAT!K13 -> 2 | K11: =C$11 -> 8.432 | L11: =0.25*K11*J11 -> 4.216 | M11: =(0.5*((I11/J11)-0.5)*K11*J11*J11)/I11 -> 6.0228571 | W11: V3=V4 = 0,5 x qu total x L | AU11: =BE24-AW24 -> -15.600339 | AV11: =BE24*AS24/(BE24-AU11) -> 2.1238718
B12: (ambil dari perhitungan beban plat) | H12: f | I12: =PLAT!J14 -> 3.5 | J12: =PLAT!K14 -> 1 | K12: =C$11 -> 8.432 | L12: =0.25*K12*J12 -> 2.108 | M12: =(0.5*((I12/J12)-0.5)*K12*J12*J12)/I12 -> 3.6137143
H13: g | I13: =PLAT!J15 -> 2.5 | J13: =PLAT!K15 -> 2 | K13: =C$11 -> 8.432 | L13: =0.25*K13*J13 -> 4.216 | M13: =(0.5*((I13/J13)-0.5)*K13*J13*J13)/I13 -> 5.0592 | W13: ΣM7 = 0 | BE13: V4=((q1.L1).(L2+0,5L1) + P.L2+ (q2.L2).0,5L2 + M4 - M7)/L
W14: V4. L -(q1.L1).(L2+0,5L1) - P.L2 - (q2.L2).0,5L2 - M4 + M7 = 0 | BA14: M tumpuan | BD14: Mki total
W15: V4=((q1.L1).(L2+0,5L1) + P.L2+ (q2.L2).0,5L2 + M4 - M7)/L | AX15: ά1=L1/L | AY15: ά2=L2/L | BA15: Mq1 | BB15: Mq2 | BC15: Mp | BF15: Vki
W16: ΣM4 = 0 | AX16: =AS24/AU24 -> 0.75 | AY16: =AT24/AU24 -> 0.25 | BA16: =AV24*AS24*AU24*AX16*(3*AX16^2-8*AX16+6)/12 -> 22.535719 | BB16: =AX22*AT22*AU22*AY16*(4-AY16)/12 -> 3.2288893 | BC16: =AZ22*AS22*AT22^2/AU22^2 -> 7.2432188 | BD16: =BA16+BB16+BC16 -> 33.007827 | BE16: Mkiri | BF16: =((AV22*AS22)*(AT22+0.5*AS22)+(AZ22*AT22)+(AX22*AT22)*0.5*AT22+BA22-BB22)/AU22 -> 46.779533
B17: B. Perhitungan Momen Pada Balok Memanjang / Arah Y | W17: V7 = ketemu | AF17: Perhitungan Momen Pada Balok Induk Memanjang / Arah Y | BA17: =AV22*AS22*AU22*AX16^2*(4-AX16)/12 -> 42.321908 | BB17: =AX22*AT22*AU22*AY16*(3*AY16^2-8*AY16+6)/12 -> 3.605593 | BC17: =AZ22*AT22*AS22^2/AU22^2 -> 21.729656 | BD17: =BA17+BB17+BC17 -> 67.657158 | BE17: Mka | BH17: Perhitungan Reaksi Tumpuan
B19: fy | C19: = | D19: =PLAT!D3 -> 240 | E19: Mpa | F19: besi polos | J19: perkiraan tinggi balok | L19: h= (1/10-1/16)L | N19: As Balok | Q19: h | R19: hmin | S19: h (dipakai) | T19: b | U19: b (min) | V19: b (dipakai) | W19: qu BS | X19: qe Plat | Y19: qu Tembok | Z19: qu total | AA19: Momen | AB19: V (ki) | AC19: V (ka) | AD19: Ket | AF19: As Balok | AI19: h | AJ19: h (dipakai) | AK19: b | AL19: b (dipakai) | AM19: qu BS | AN19: qu Tembok | AO19: qe | AQ19: qe | AS19: L1 | AT19: L2 | AU19: L total | AV19: q1 | AW19: Q1 | AX19: q2 | AY19: Q2 | AZ19: P | BA19: Momen (ki) | BB19: Momen (ka) | BC19: Momen (lap) | BD19: Perhitungan Momen Lap. pada lampiran | BE19: V (ki) | BF19: V (ka) | BH19: As Balok | BK19: V (ki) | BP19: Jumlah ↑ | BR19: V (ka) | BW19: Jumlah ↑ | CL19: BALOK AS B (4-7)
B20: d' | C20: = | D20: =PLAT!P$51 -> 30 | E20: mm | J20: b = (1/2- 3/4) h | N20: (m) | Q20: (m) | R20: (m) | S20: (m) | T20: (m) | U20: (m) | V20: (m) | W20: kN/m | X20: kN/m' | Y20: kN/m' | Z20: kN/m' | AA20: kN.m | AB20: KN | AC20: KN | AF20: (m) | AI20: (m) | AJ20: (m) | AK20: (m) | AL20: (m) | AM20: kN/m | AN20: kN/m' | AO20: kN/m' | AQ20: kN/m' | AS20: (m) | AT20: (m) | AU20: (m) | AV20: kN/m' | AW20: kN/m' | AX20: kN/m' | AY20: kN/m' | AZ20: KN | BA20: kN.m | BB20: kN.m | BC20: kN.m | BE20: KN ↑ | BF20: KN ↑ | BH20: (m)
B21: Bj Beton | C21: = | D21: 24 | E21: kN/m3 | N21: A | O21: (2-3) | X21: plat a | AF21: B | AG21: =O33 -> (4-7) | AO21: Plat e | AP21: Plat f | AQ21: Plat d | BH21: B | BI21: =AG21 -> (4-7) | BK21: P ↑ | BL21: q1 ↑ | BM21: q2 ↑ | BN21: M4 ↑ | BO21: M7↓ | BR21: P ↑ | BS21: q1 ↑ | BT21: q2 ↑ | BU21: M4 ↓ | BV21: M7 ↑
B22: fc | C22: = | D22: =PLAT!D2 -> 25 | E22: Mpa | J22: bs tembok = tebal x tinggi x bj pas | O22: L: | P22: 1.5 | Q22: 0.3 | R22: 0.2 | S22: =MAX(Q22:R22) -> 0.3 | T22: 0.2 | U22: =0.15 -> 0.15 | V22: =MAX(T22:U22) -> 0.2 | W22: =1.2*D$21*S22*V$22 -> 1.728 | X22: =L7 -> 3.162 | Y22: =1.2*D$24*D$25*D$23 -> 10.71 | Z22: =SUM(W22:Y22) -> 15.6 | AA22: =1/12*Z22*(P22)^2 -> 2.925 | AB22: =1/2*Z22*P22 -> 11.7 | AC22: =1/2*Z22*P22 -> 11.7 | AG22: =O34 -> L: | AH22: =P34 -> 4 | AI22: =Q34 -> 0.4 | AJ22: 0.35 | AK22: =T34 -> 0.25 | AL22: =V34 -> 0.25 | AM22: =1.2*AJ22*AL22*D$21 -> 2.52 | AN22: =1.2*D$23*D$24*D$25 -> 10.71 | AO22: =L11 -> 4.216 | AP22: =L12 -> 2.108 | AQ22: =M10 -> 5.7044456 | AS22: 3 | AT22: 1 | AU22: =SUM(AS22:AT22) -> 4 | AV22: =AM22+AN22+AO22+AQ22 -> 23.150446 | AW22: =AV22*AS22 -> 69.451337 | AX22: =AM22+AP22+AQ22 -> 10.332446 | AY22: =AX22*AT22 -> 10.332446 | AZ22: =AB60 -> 38.6305 | BA22: =((AV22*AS22*AU22*(AS22/AU22)/12)*((3*((AS22/AU22)^2))-(8*(AS22/AU22))+6))+((AX22*AT22*AU22*((AT22/AU22)^2)/12)*(4-(AT22/AU22)))+((AZ22*AS22*AT22^2)/AU22^2) -> 37.350224 | BB22: =((AV22*AS22*AU22*((AS22/AU22)^2)/12)*(4-(AS22/AU22)))+((AX22*AT22*AU22*(AT22/AU22)/12)*((3*(AT22/AU22)^2)-(8*(AT22/AU22))+6))+(((AZ22*AT22*AS22^2)/AU22^2)) -> 67.657158 | BC22: =(BE22*AV9)-(0.5*AV22*AV9^2)-BA22 -> 9.9128985 | BE22: =BP22 -> 46.779533 | BF22: =BW22 -> 71.63475 | BI22: =AG22 -> L: | BJ22: =AH22 -> 4 | BK22: =AZ22*AT22/AU22 -> 9.657625 | BL22: =(AW22*((1/2*AS22)+AT22))/AU22 -> 43.407086 | BM22: =(AY22*(1/2*AT22)/AU22) -> 1.2915557 | BN22: =BA22/AU22 -> 9.337556 | BO22: =BB22/AU22 -> 16.914289 | BP22: =BK22+BL22+BM22+BN22-BO22 -> 46.779533 | BR22: =(AZ22*AS22)/AU22 -> 28.972875 | BS22: =(AW22*(1/2*AS22)/AU22) -> 26.044251 | BT22: =(AY22*((1/2*AT22)+AS22)/AU22) -> 9.0408899 | BU22: =BA22/AU22 -> 9.337556 | BV22: =BB22/AU22 -> 16.914289 | BW22: =BR22+BS22+BT22-BU22+BV22 -> 71.63475
B23: Tebal Tembok | C23: = | D23: 0.15 | E23: m | J23: bs balok = b x h x bj beton | O23: (3-4) | X23: plat b | AF23: D | AG23: =O39 -> (4-7) | AO23: Plat e | AP23: Plat f | BH23: D | BI23: =AG23 -> (4-7) | BK23: P ↑ | BL23: q1 ↑ | BM23: q2 ↑ | BN23: M4 ↑ | BO23: M7 ↓ | BR23: P ↑ | BS23: q1 ↑ | BT23: q2 ↑ | BU23: M4 ↓ | BV23: M7 ↑
B24: Tinggi Tembok | C24: = | D24: 3.5 | E24: m | O24: L: | P24: 3.5 | Q24: =ROUNDUP((1/12*P24),1) -> 0.3 | R24: 0.2 | S24: 0.25 | T24: 0.2 | U24: =0.15 -> 0.15 | V24: =MAX(T24:U24) -> 0.2 | W24: =1.2*D$21*S24*V24 -> 1.44 | X24: =M8 -> 7.2274286 | Y24: =1.2*D$24*D$25*D$23 -> 10.71 | Z24: =SUM(W24:Y24) -> 19.377429 | AA24: =1/12*Z24*(P24)^2 -> 19.781125 | AB24: =1/2*Z24*P24 -> 33.9105 | AC24: =1/2*Z24*P24 -> 33.9105 | AG24: =O40 -> L: | AH24: =P40 -> 4 | AI24: =Q40 -> 0.4 | AJ24: =S40 -> 0.4 | AK24: =T40 -> 0.25 | AL24: =V40 -> 0.25 | AM24: =1.2*AJ24*AL24*D$21 -> 2.88 | AN24: =1.2*D$23*D$24*D$25 -> 10.71 | AO24: =L11 -> 4.216 | AP24: =L12 -> 2.108 | AS24: 3 | AT24: 1 | AU24: =SUM(AS24:AT24) -> 4 | AV24: =AM24+AN24+AO24 -> 17.806 | AW24: =AV24*AS24 -> 53.418 | AX24: =AM24+AN24+AP24 -> 15.698 | AY24: =AX24*AT24 -> 15.698 | AZ24: =AB60 -> 38.6305 | BA24: =((AV24*AS24*AU24*(AS24/AU24)/12)*((3*((AS24/AU24)^2))-(8*(AS24/AU24))+6))+((AX24*AT24*AU24*((AT24/AU24)^2)/12)*(4-(AT24/AU24)))+((AZ24*AS24*AT24^2)/AU24^2) -> 31.005344 | BB24: =((AV24*AS24*AU24*((AS24/AU24)^2)/12)*(4-(AS24/AU24)))+((AX24*AT24*AU24*(AT24/AU24)/12)*((3*(AT24/AU24)^2)-(8*(AT24/AU24))+6))+(((AZ24*AT24*AS24^2)/AU24^2)) -> 59.759198 | BC24: =(BE24*AV11)-(0.5*AV24*AV11^2)-BA24 -> 9.1545888 | BE24: =BP24 -> 37.817661 | BF24: =BW24 -> 69.928839 | BI24: =AG24 -> L: | BJ24: =AH24 -> 4 | BK24: =AZ24*AT24/AU24 -> 9.657625 | BL24: =(AW24*((1/2*AS24)+AT24))/AU24 -> 33.38625 | BM24: =(AY24*(1/2*AT24)/AU24) -> 1.96225 | BN24: =BA24/AU24 -> 7.7513359 | BO24: =BB24/AU24 -> 14.939799 | BP24: =BK24+BL24+BM24+BN24-BO24 -> 37.817661 | BR24: =(AZ24*AS24)/AU24 -> 28.972875 | BS24: =(AW24*(1/2*AS24)/AU24) -> 20.03175 | BT24: =(AY24*((1/2*AT24)+AS24)/AU24) -> 13.73575 | BU24: =BA24/AU24 -> 7.7513359 | BV24: =BB24/AU24 -> 14.939799 | BW24: =BR24+BS24+BT24-BU24+BV24 -> 69.928839
B25: Berat Jenis tembok | C25: = | D25: 17 | E25: kN/m3 | O25: (4-7)
O26: L: | P26: 4 | Q26: 0.3 | R26: 0.2 | S26: =MAX(Q26:R26) -> 0.3 | T26: =ROUNDUP((S26/2),1) -> 0.2 | U26: =0.15 -> 0.15 | V26: =MAX(T26:U26) -> 0.2 | W26: =1.2*D$21*S26*V26 -> 1.728 | Y26: =1.2*D$24*D$25*D$23 -> 10.71 | Z26: =SUM(W26:Y26) -> 12.438 | AA26: =1/12*Z26*(P26)^2 -> 16.584 | AB26: =1/2*Z26*P26 -> 24.876 | AC26: =1/2*Z26*P26 -> 24.876
N27: A' | O27: (4-7) | X27: plat d
B28: Note : | C28: = | D28: Balok khusus | F28: P atau V dari balok anak | O28: L: | P28: 4 | Q28: 0.3 | R28: 0.2 | S28: =MAX(Q28:R28) -> 0.3 | T28: =S28/2 -> 0.15 | U28: =0.15 -> 0.15 | V28: =MAX(T28:U28) -> 0.15 | W28: =1.2*D$21*S28*V28 -> 1.296 | X28: =M10 -> 5.7044456 | Z28: =SUM(W28:Y28) -> 7.0004456 | AA28: =1/12*Z28*(P28)^2 -> 9.3339275 | AB28: =1/2*Z28*P28 -> 14.000891 | AC28: =1/2*Z28*P28 -> 14.000891
C29: = | D29: Balok anak | N29: B | O29: (2-3) | X29: plat a
O30: L: | P30: 1.5 | Q30: 0.4 | R30: 0.2 | S30: =MAX(Q30:R30) -> 0.4 | T30: 0.25 | U30: =0.15 -> 0.15 | V30: =MAX(T30:U30) -> 0.25 | W30: =1.2*D$21*S30*V30 -> 2.88 | X30: =L7 -> 3.162 | Z30: =SUM(W30:Y30) -> 6.042 | AA30: =1/12*Z30*(P30)^2 -> 1.132875 | AB30: =1/2*Z30*P30 -> 4.5315 | AC30: =1/2*Z30*P30 -> 4.5315
O31: (3-4) | X31: plat b+c
O32: L: | P32: 3.5 | Q32: 0.4 | R32: 0.2 | S32: =MAX(Q32:R32) -> 0.4 | T32: 0.25 | U32: =0.15 -> 0.15 | V32: =MAX(T32:U32) -> 0.25 | W32: =1.2*D$21*S32*V32 -> 2.88 | X32: =M8+L9 -> 14.605429 | Y32: =1.2*D$24*D$25*D$23 -> 10.71 | Z32: =SUM(W32:Y32) -> 28.195429 | AA32: =1/12*Z32*(P32)^2 -> 28.782833 | AB32: =1/2*Z32*P32 -> 49.342 | AC32: =1/2*Z32*P32 -> 49.342
O33: (4-7)
O34: L: | P34: 4 | Q34: 0.4 | R34: 0.2 | S34: 0.4 | T34: 0.25 | U34: =0.15 -> 0.15 | V34: 0.25
N35: C | O35: (7-8) | X35: plat g
O36: L: | P36: 2.5 | Q36: 0.25 | R36: 0.2 | S36: =MAX(Q36:R36) -> 0.25 | T36: =S36/2 -> 0.125 | U36: =0.15 -> 0.15 | V36: =MAX(T36:U36) -> 0.15 | W36: =1.2*D$21*S36*V36 -> 1.08 | X36: =M13 -> 5.0592 | Y36: =1.2*1*D$25*D$23 -> 3.06 | Z36: =SUM(W36:Y36) -> 9.1992 | AA36: =1/12*Z36*(P36)^2 -> 4.79125 | AB36: =1/2*Z36*P36 -> 11.499 | AC36: =1/2*Z36*P36 -> 11.499
N37: D | O37: (3-4) | X37: plat c
O38: L: | P38: 3.5 | Q38: 0.4 | R38: 0.2 | S38: =MAX(Q38:R38) -> 0.4 | T38: 0.25 | U38: =0.15 -> 0.15 | V38: =MAX(T38:U38) -> 0.25 | W38: =1.2*D$21*S38*V38 -> 2.88 | X38: =L9 -> 7.378 | Y38: =1.2*D$24*D$25*D$23 -> 10.71 | Z38: =SUM(W38:Y38) -> 20.968 | AA38: =1/12*Z38*(P38)^2 -> 21.404833 | AB38: =1/2*Z38*P38 -> 36.694 | AC38: =1/2*Z38*P38 -> 36.694
O39: (4-7)
O40: L: | P40: 4 | Q40: 0.4 | R40: 0.2 | S40: =MAX(Q40:R40) -> 0.4 | T40: 0.25 | U40: =0.15 -> 0.15 | V40: =MAX(T40:U40) -> 0.25
O41: (7-8) | X41: plat g
...

Sheet penulangan BALOK
DI2: sengkang lapangan dipoakai besi 8-200 karena gaya geser daerah lapangan lebih kecil
A3: A. DATA BALOK | L3: PERHITUNGAN TULANGAN | AN3: ρ kurang dari rho min artinya dimensi terlalu besar harus diperkecil
A4: Faktor bentuk distribusi tegangan beton, | G4: β₁ | H4: =PLAT!D4 -> 0.85 | I4: fc ≤ 30 Mpa | L4: A . Perhitungan Penulangan Pada Balok Memanjang / Arah Y | AN4: ρ lbh besar dari rho max artinya dimensi terlalu kecil harus diperbesar | CV4: B. Perhitungan Tulangan Geser Pada Balok Memanjang / Arah Y
L5: 1. Data Balok Memanjang / Arah Y | Z5: 2. Perhitungan Tulangan Momen Positif Pada Balok Memanjang / Arah Y | BK5: 3. Perhitungan Tulangan Momen Negatif Pada Balok Memanjang / Arah Y | CV5: 1. Perhitungan Tulangan Geser | DF5: syarat???? | DW5: Tabel Rekapitulasi Penulangan Balok Memanjang / Arah Y
A6: 1. BAHAN STRUKTUR | EF6: Penulangan lapangan
A7: Kuat tekan beton, | G7: Fc' | H7: 25 | I7: Mpa | BU7: D TP | DW7: As Balok | DZ7: h (dipakai) | EA7: b (dipakai) | EB7: Ø TP | EC7: Ø (P) | ED7: ts | EK7: penulangan tumpuan | EQ7: Digunakan Sengkang | EV7: Keterangan
A8: Tegangan leleh baja (deform) untuk tulangan lentur, | G8: Fy | H8: 400 | I8: Mpa | L8: As Balok | O8: h (dipakai) | P8: b (dipakai) | Q8: Mu + | R8: Mu - | S8: Vu | T8: β₁ | U8: ρb | V8: Rmax | W8: ᶲ | Z8: As Balok | AC8: h (dipakai) | AD8: b (dipakai) | AE8: Mu + | AF8: Mn | AG8: d' | AH8: d | AI8: Rn | AJ8: D TP | AK8: Ø (P) | AL8: ts | AM8: Syarat | AN8: ρ | AO8: ρmin | AP8: ρmax | AQ8: ρ | AR8: As | AS8: n | AT8: n (dipakai min 2 bh) | AW8: At | AX8: Syarat | AY8: s | AZ8: Syarat | BA8: As' | BB8: n' | BC8: n' (dipakai Min 2 bh) | BF8: At' | BG8: Syarat | BH8: s' | BI8: Syarat | BK8: As Balok | BN8: h (dipakai) | BO8: b (dipakai) | BP8: Mu - | BQ8: Mn | BR8: d' | BS8: d | BT8: Rn | BU8: Ø TP | BV8: Ø (P) | BW8: ts | BX8: Syarat | BY8: ρ | BZ8: ρmin | CA8: ρmax | CB8: ρ | CC8: As | CD8: n | CE8: n (dipakai min 2 bh) | CH8: At | CI8: Syarat | CJ8: s | CK8: Syarat | CL8: As' | CM8: n' | CN8: n' (dipakai Min 2 bh) | CQ8: At' | CR8: Syarat | CS8: s' | CT8: Syarat | CV8: As Balok | CY8: h (dipakai) | CZ8: b (dipakai) | DA8: Vu | DB8: ᶲ | DC8: Fy | DD8: Vc | DE8: ᶲ * Vc | DF8: Syarat | DG8: ᶲ *Vs | DH8: Vs | DI8: ns | DJ8: Ø (P) | DK8: Av | DL8: s perlu | DM8: Syarat | DN8: Smax 1/2 d | DO8: Smax | DP8: s (dipakai) | DQ8: Digunakan Sengkang | DU8: Sengkanglapangan | EE8: Σ tul tarik | EH8: Σ tul tekan | EK8: Σ tul tarik | EN8: Σ tul tekan
A9: Tegangan leleh baja (polos) untuk tulangan geser, | G9: Fy | H9: =PLAT!D3 -> 240 | I9: Mpa | L9: (m) | O9: (mm) | P9: (mm) | Q9: (kN.m) | R9: (kN.m) | S9: (kN.m) | Z9: (m) | AC9: (mm) | AD9: (mm) | AE9: (kN.m) | AF9: (kN.m) | AG9: (mm) | AH9: (mm) | AJ9: (mm) | AK9: (mm) | AL9: (mm) | AM9: Rn < Rmax | AQ9: (dipakai) | AR9: (mm²) | AW9: (mm²) | AX9: As < At | AY9: (mm) | AZ9: s ≥ 25 mm | BA9: (mm²) | BF9: (mm²) | BG9: As '< At' | BH9: (mm) | BI9: s' ≥ 25 mm | BK9: (m) | BN9: (mm) | BO9: (mm) | BP9: (kN.m) | BQ9: (kN.m) | BR9: (mm) | BS9: (mm) | BU9: (mm) | BV9: (mm) | BW9: (mm) | BX9: Rn < Rmax | CB9: (dipakai) | CC9: (mm²) | CH9: (mm²) | CI9: As < At | CJ9: (mm) | CK9: s ≥ 25 mm | CL9: (mm²) | CQ9: (mm²) | CR9: As '< At' | CS9: (mm) | CT9: s' ≥ 25 mm | CV9: (mm) | CY9: (mm) | CZ9: (mm) | DA9: (kN.m) | DC9: (Mpa) | DD9: (KN) | DE9: (KN) | DG9: (KN) | DH9: (KN) | DJ9: (mm) | DK9: (mm²) | DL9: (mm) | DM9: Smax | DN9: (mm) | DO9: (mm) | DP9: (mm) | DW9: (m) | DZ9: (mm) | EA9: (mm) | EB9: (mm) | EC9: (mm) | ED9: (mm)
A10: 2. DIMENSI BALOK | L10: A | M10: (2-3) | Z10: A | AA10: (2-3) | BK10: A | BL10: (2-3) | CV10: A | CW10: (2-3) | DW10: A | DX10: (2-3) | EV10: B1
A11: Lebar balok | G11: b | H11: → | I11: mm | M11: L: | N11: 1.5 | O11: ='QE & MOMEN'!S22*1000 -> 300 | P11: ='QE & MOMEN'!V22*1000 -> 200 | Q11: ='QE & MOMEN'!AA22 -> 2.925 | R11: ='QE & MOMEN'!AA22 -> 2.925 | S11: ='QE & MOMEN'!AB22 -> 11.7 | T11: =$H$4 -> 0.85 | U11: =T11*0.85*$H$7/$H$8*600/(600+$H$8) -> 0.02709375 | V11: =0.75*U11*$H$8*(1-(0.5*0.75*U11*$H$8/(0.85*$H$7))) -> 6.5736211 | W11: =$H$27 -> 0.8 | AA11: L: | AB11: 1.5 | AC11: =O11 -> 300 | AD11: =P11 -> 200 | AE11: =Q11 -> 2.925 | AF11: =AE11/W11 -> 3.65625 | AG11: 50 | AH11: =AC11-AG11 -> 250 | AI11: =AF11*10^6/(AD11*AH11^2) -> 0.2925 | AJ11: =$H$13 -> 13 | AK11: =$H$14 -> 8 | AL11: =$H$15 -> 25 | AM11: =IF(AI11<=V11,"OK","NG") -> OK | AN11: =0.85*($H$7/$H$8)*(1-(SQRT(1-2*AI11/(0.85*$H$7)))) -> 0.00073635321 | AO11: =1.4/$H$8 -> 0.0035 | AP11: =0.5*U11 -> 0.013546875 | AQ11: =MAX(AN11:AO11) -> 0.0035 | AR11: =AQ11*AD11*AH11 -> 175 | AS11: =AR11/((22/7)/4*AJ11^2) -> 1.3179129 | AT11: =ROUNDUP(AS11,0) -> 2 | AU11: =MAX(AT11,AV11) -> 2 | AV11: 2 | AW11: =AU11*(22/7)/4*AJ11^2 -> 265.57143 | AX11: =IF(AR11<=AW11,"OK","NG") -> OK | AY11: =(AD11-(2*AL11+2*AK11+AU11*AJ11))/(AU11-1) -> 108 | AZ11: =IF(AY11>= 25,"OK","NG") -> OK | BA11: =AR11/2 -> 87.5 | BB11: =BA11/((22/7)/4*AJ11^2) -> 0.65895643 | BC11: =ROUNDUP(BB11,0) -> 1 | BD11: =MAX(BC11,BE11) -> 2 | BE11: 2 | BF11: =BD11*(22/7)/4*AJ11^2 -> 265.57143 | BG11: =IF(BA11<=BF11,"OK","NG") -> OK | BH11: =(AD11-(2*AL11+2*AK11+BD11*AJ11))/(BD11-1) -> 108 | BI11: =IF(BH11>= 25,"OK","NG") -> OK | BL11: L: | BM11: 1.5 | BN11: =O11 -> 300 | BO11: =P11 -> 200 | BP11: =R11 -> 2.925 | BQ11: =BP11/W11 -> 3.65625 | BR11: 50 | BS11: =BN11-BR11 -> 250 | BT11: =BQ11*10^6/(BO11*BS11^2) -> 0.2925 | BU11: =$H$13 -> 13 | BV11: =$H$14 -> 8 | BW11: =$H$15 -> 25 | BX11: =IF(BT11<=V11,"OK","NG") -> OK | BY11: =0.85*($H$7/$H$8)*(1-(SQRT(1-2*BT11/(0.85*$H$7)))) -> 0.00073635321 | BZ11: =1.4/$H$8 -> 0.0035 | CA11: =0.5*U11 -> 0.013546875 | CB11: =MAX(BY11:BZ11) -> 0.0035 | CC11: =CB11*BO11*BS11 -> 175 | CD11: =CC11/((22/7)/4*BU11^2) -> 1.3179129 | CE11: =ROUNDUP(CD11,0) -> 2 | CF11: =MAX(CE11,CG11) -> 2 | CG11: 2 | CH11: =CF11*(22/7)/4*BU11^2 -> 265.57143 | CI11: =IF(CC11<=CH11,"OK","NG") -> OK | CJ11: =(BO11-(2*BW11+2*BV11+CF11*BU11))/(CF11-1) -> 108 | CK11: =IF(CJ11>= 25,"OK","NG") -> OK | CL11: =CC11/2 -> 87.5 | CM11: =CL11/((22/7)/4*BU11^2) -> 0.65895643 | CN11: =ROUNDUP(CM11,0) -> 1 | CO11: =MAX(CN11,CP11) -> 2 | CP11: 2 | CQ11: =CO11*(22/7)/4*BU11^2 -> 265.57143 | CR11: =IF(CL11<=CQ11,"OK","NG") -> OK | CS11: =(BO11-(2*BW11+2*BV11+CO11*BU11))/(CO11-1) -> 108 | CT11: =IF(CS11>= 25,"OK","NG") -> OK | CW11: L: | CX11: 1.5 | CY11: =O11 -> 300 | CZ11: =P11 -> 200 | DA11: =S11 -> 11.7 | DB11: 0.6 | DC11: =$H$9 -> 240 | DD11: =1/6*SQRT($H$7)*CZ11*BS11*0.001 -> 41.666667 | DE11: =DB11*DD11 -> 25 | DF11: =IF(DA11<=DE11,"Tul. Gerser Praktis","Perlu Tul Geser") -> Tul. Gerser Praktis | DP11: 200 | DQ11: Ø | DR11: =$H$14 -> 8 | DS11: - | DT11: =DP11 -> 200 | DX11: L: | DY11: 1.5 | DZ11: =O11 -> 300 | EA11: =P11 -> 200 | EB11: =$H$13 -> 13 | EC11: =$H$14 -> 8 | ED11: =$H$15 -> 25 | EE11: =AT11 -> 2 | EF11: =MAX(EE11,EG11) -> 2 | EG11: 2 | EH11: =BC11 -> 1 | EI11: =MAX(EH11,EJ11) -> 2 | EJ11: 2 | EK11: =CE11 -> 2 | EL11: =MAX(EK11,EM11) -> 2 | EM11: 2 | EN11: =CN11 -> 1 | EO11: =MAX(EN11,EP11) -> 2 | EP11: 2 | EQ11: Ø | ER11: =$H$14 -> 8 | ES11: - | ET11: =DT11 -> 200
A12: Tinggi balok | G12: h | H12: → | I12: mm | M12: (3-4) | AA12: (3-4) | BL12: (3-4) | CW12: (3-4) | DX12: (3-4) | EE12: =AT12 -> 0 | EH12: =BC12 -> 0 | EK12: =CE12 -> 0 | EN12: =CN12 -> 0 | EV12: B1
A13: Diameter tulangan (deform) yang digunakan, | G13: D | H13: 13 | I13: mm | M13: L: | N13: 3.5 | O13: ='QE & MOMEN'!S24*1000 -> 250 | P13: ='QE & MOMEN'!V24*1000 -> 200 | Q13: ='QE & MOMEN'!AA24 -> 19.781125 | R13: ='QE & MOMEN'!AA24 -> 19.781125 | S13: ='QE & MOMEN'!AB24 -> 33.9105 | T13: =$H$4 -> 0.85 | U13: =T13*0.85*$H$7/$H$8*600/(600+$H$8) -> 0.02709375 | V13: =0.75*U13*$H$8*(1-(0.5*0.75*U13*$H$8/(0.85*$H$7))) -> 6.5736211 | W13: =$H$27 -> 0.8 | AA13: L: | AB13: 3.5 | AC13: =O13 -> 250 | AD13: =P13 -> 200 | AE13: =Q13 -> 19.781125 | AF13: =AE13/W13 -> 24.726406 | AG13: 50 | AH13: =AC13-AG13 -> 200 | AI13: =AF13*10^6/(AD13*AH13^2) -> 3.0908008 | AJ13: =$H$13 -> 13 | AK13: =$H$14 -> 8 | AL13: =$H$15 -> 25 | AM13: =IF(AI13<=V13,"OK","NG") -> OK | AN13: =0.85*($H$7/$H$8)*(1-(SQRT(1-2*AI13/(0.85*$H$7)))) -> 0.008389425 | AO13: =1.4/$H$8 -> 0.0035 | AP13: =0.5*U13 -> 0.013546875 | AQ13: =MAX(AN13:AO13) -> 0.008389425 | AR13: =AQ13*AD13*AH13 -> 335.577 | AS13: =AR13/((22/7)/4*AJ13^2) -> 2.5272071 | AT13: =ROUNDUP(AS13,0) -> 3 | AU13: =MAX(AT13,AV13) -> 3 | AV13: 2 | AW13: =AU13*(22/7)/4*AJ13^2 -> 398.35714 | AX13: =IF(AR13<=AW13,"OK","NG") -> OK | AY13: =(AD13-(2*AL13+2*AK13+AU13*AJ13))/(AU13-1) -> 47.5 | AZ13: =IF(AY13>= 25,"OK","NG") -> OK | BA13: =AR13/2 -> 167.7885 | BB13: =BA13/((22/7)/4*AJ13^2) -> 1.2636036 | BC13: =ROUNDUP(BB13,0) -> 2 | BD13: =MAX(BC13,BE13) -> 2 | BE13: 2 | BF13: =BD13*(22/7)/4*AJ13^2 -> 265.57143 | BG13: =IF(BA13<=BF13,"OK","NG") -> OK | BH13: =(AD13-(2*AL13+2*AK13+BD13*AJ13))/(BD13-1) -> 108 | BI13: =IF(BH13>= 25,"OK","NG") -> OK | BL13: L: | BM13: 3.5 | BN13: =O13 -> 250 | BO13: =P13 -> 200 | BP13: =R13 -> 19.781125 | BQ13: =BP13/W13 -> 24.726406 | BR13: 50 | BS13: =BN13-BR13 -> 200 | BT13: =BQ13*10^6/(BO13*BS13^2) -> 3.0908008 | BU13: =$H$13 -> 13 | BV13: =$H$14 -> 8 | BW13: =$H$15 -> 25 | BX13: =IF(BT13<=V13,"OK","NG") -> OK | BY13: =0.85*($H$7/$H$8)*(1-(SQRT(1-2*BT13/(0.85*$H$7)))) -> 0.008389425 | BZ13: =1.4/$H$8 -> 0.0035 | CA13: =0.5*U13 -> 0.013546875 | CB13: =MAX(BY13:BZ13) -> 0.008389425 | CC13: =CB13*BO13*BS13 -> 335.577 | CD13: =CC13/((22/7)/4*BU13^2) -> 2.5272071 | CE13: =ROUNDUP(CD13,0) -> 3 | CF13: =MAX(CE13,CG13) -> 3 | CG13: 2 | CH13: =CF13*(22/7)/4*BU13^2 -> 398.35714 | CI13: =IF(CC13<=CH13,"OK","NG") -> OK | CJ13: =(BO13-(2*BW13+2*BV13+CF13*BU13))/(CF13-1) -> 47.5 | CK13: =IF(CJ13>= 25,"OK","NG") -> OK | CL13: =CC13/2 -> 167.7885 | CM13: =CL13/((22/7)/4*BU13^2) -> 1.2636036 | CN13: =ROUNDUP(CM13,0) -> 2 | CO13: =MAX(CN13,CP13) -> 2 | CP13: 2 | CQ13: =CO13*(22/7)/4*BU13^2 -> 265.57143 | CR13: =IF(CL13<=CQ13,"OK","NG") -> OK | CS13: =(BO13-(2*BW13+2*BV13+CO13*BU13))/(CO13-1) -> 108 | CT13: =IF(CS13>= 25,"OK","NG") -> OK | CW13: L: | CX13: 3.5 | CY13: =O13 -> 250 | CZ13: =P13 -> 200 | DA13: =S13 -> 33.9105 | DB13: 0.6 | DC13: =$H$9 -> 240 | DD13: =1/6*SQRT($H$7)*CZ13*BS13*0.001 -> 33.333333 | DE13: =DB13*DD13 -> 20 | DF13: =IF(DA13<=DE13,"Tul. Gerser Praktis","Perlu Tul Geser") -> Perlu Tul Geser | DG13: =DA13-DE13 -> 13.9105 | DH13: =DG13/DB13 -> 23.184167 | DI13: 1 | DJ13: =$AK$11 -> 8 | DK13: =DI13*((22/7)/4)*DJ13^2 -> 50.285714 | DL13: =DK13*DC11*BS13/(DH13*10^3) -> 104.11046 | DM13: =IF(DH13<(1/3*SQRT($H$7)*CZ13*BS13),"1/2 D - 600","1/4D - 300") -> 1/2 D - 600 | DN13: =1/2*AH13 -> 100 | DO13: 600 | DP13: =MIN(DL13,DN13,DO13) -> 100 | DQ13: Ø | DR13: =$H$14 -> 8 | DS13: - | DT13: =DP13 -> 100 | DX13: L: | DY13: 3.5 | DZ13: =O13 -> 250 | EA13: =P13 -> 200 | EB13: =$H$13 -> 13 | EC13: =$H$14 -> 8 | ED13: =$H$15 -> 25 | EE13: =AT13 -> 3 | EF13: =MAX(EE13,EG13) -> 3 | EG13: 2 | EH13: =BC13 -> 2 | EI13: =MAX(EH13,EJ13) -> 2 | EJ13: 2 | EK13: =CE13 -> 3 | EL13: =MAX(EK13,EM13) -> 3 | EM13: 2 | EN13: =CN13 -> 2 | EO13: =MAX(EN13,EP13) -> 2 | EP13: 2 | EQ13: Ø | ER13: =$H$14 -> 8 | ES13: - | ET13: =DT13 -> 100
A14: Diameter sengkang (polos) yang digunakan, | G14: P | H14: 8 | I14: mm | M14: (4-7) | AA14: (4-7) | BL14: (4-7) | CW14: (4-7) | DX14: (4-7) | EE14: =AT14 -> 0 | EH14: =BC14 -> 0 | EK14: =CE14 -> 0 | EN14: =CN14 -> 0 | EV14: B1
A15: Tebal Bersih Selimut Beton, | G15: ts | H15: 25 | I15: mm | M15: L: | N15: 4 | O15: ='QE & MOMEN'!S26*1000 -> 300 | P15: ='QE & MOMEN'!V26*1000 -> 200 | Q15: ='QE & MOMEN'!AA26 -> 16.584 | R15: ='QE & MOMEN'!AA26 -> 16.584 | S15: ='QE & MOMEN'!AB26 -> 24.876 | T15: =$H$4 -> 0.85 | U15: =T15*0.85*$H$7/$H$8*600/(600+$H$8) -> 0.02709375 | V15: =0.75*U15*$H$8*(1-(0.5*0.75*U15*$H$8/(0.85*$H$7))) -> 6.5736211 | W15: =$H$27 -> 0.8 | AA15: L: | AB15: 4 | AC15: =O15 -> 300 | AD15: =P15 -> 200 | AE15: =Q15 -> 16.584 | AF15: =AE15/W15 -> 20.73 | AG15: 50 | AH15: =AC15-AG15 -> 250 | AI15: =AF15*10^6/(AD15*AH15^2) -> 1.6584 | AJ15: =$H$13 -> 13 | AK15: =$H$14 -> 8 | AL15: =$H$15 -> 25 | AM15: =IF(AI15<=V15,"OK","NG") -> OK | AN15: =0.85*($H$7/$H$8)*(1-(SQRT(1-2*AI15/(0.85*$H$7)))) -> 0.0043217919 | AO15: =1.4/$H$8 -> 0.0035 | AP15: =0.5*U15 -> 0.013546875 | AQ15: =MAX(AN15:AO15) -> 0.0043217919 | AR15: =AQ15*AD15*AH15 -> 216.08959 | AS15: =AR15/((22/7)/4*AJ15^2) -> 1.6273557 | AT15: =ROUNDUP(AS15,0) -> 2 | AU15: =MAX(AT15,AV15) -> 2 | AV15: 2 | AW15: =AU15*(22/7)/4*AJ15^2 -> 265.57143 | AX15: =IF(AR15<=AW15,"OK","NG") -> OK | AY15: =(AD15-(2*AL15+2*AK15+AU15*AJ15))/(AU15-1) -> 108 | AZ15: =IF(AY15>= 25,"OK","NG") -> OK | BA15: =AR15/2 -> 108.0448 | BB15: =BA15/((22/7)/4*AJ15^2) -> 0.81367786 | BC15: =ROUNDUP(BB15,0) -> 1 | BD15: =MAX(BC15,BE15) -> 2 | BE15: 2 | BF15: =BD15*(22/7)/4*AJ15^2 -> 265.57143 | BG15: =IF(BA15<=BF15,"OK","NG") -> OK | BH15: =(AD15-(2*AL15+2*AK15+BD15*AJ15))/(BD15-1) -> 108 | BI15: =IF(BH15>= 25,"OK","NG") -> OK | BL15: L: | BM15: 4 | BN15: =O15 -> 300 | BO15: =P15 -> 200 | BP15: =R15 -> 16.584 | BQ15: =BP15/W15 -> 20.73 | BR15: 50 | BS15: =BN15-BR15 -> 250 | BT15: =BQ15*10^6/(BO15*BS15^2) -> 1.6584 | BU15: =$H$13 -> 13 | BV15: =$H$14 -> 8 | BW15: =$H$15 -> 25 | BX15: =IF(BT15<=V15,"OK","NG") -> OK | BY15: =0.85*($H$7/$H$8)*(1-(SQRT(1-2*BT15/(0.85*$H$7)))) -> 0.0043217919 | BZ15: =1.4/$H$8 -> 0.0035 | CA15: =0.5*U15 -> 0.013546875 | CB15: =MAX(BY15:BZ15) -> 0.0043217919 | CC15: =CB15*BO15*BS15 -> 216.08959 | CD15: =CC15/((22/7)/4*BU15^2) -> 1.6273557 | CE15: =ROUNDUP(CD15,0) -> 2 | CF15: =MAX(CE15,CG15) -> 2 | CG15: 2 | CH15: =CF15*(22/7)/4*BU15^2 -> 265.57143 | CI15: =IF(CC15<=CH15,"OK","NG") -> OK | CJ15: =(BO15-(2*BW15+2*BV15+CF15*BU15))/(CF15-1) -> 108 | CK15: =IF(CJ15>= 25,"OK","NG") -> OK | CL15: =CC15/2 -> 108.0448 | CM15: =CL15/((22/7)/4*BU15^2) -> 0.81367786 | CN15: =ROUNDUP(CM15,0) -> 1 | CO15: =MAX(CN15,CP15) -> 2 | CP15: 2 | CQ15: =CO15*(22/7)/4*BU15^2 -> 265.57143 | CR15: =IF(CL15<=CQ15,"OK","NG") -> OK | CS15: =(BO15-(2*BW15+2*BV15+CO15*BU15))/(CO15-1) -> 108 | CT15: =IF(CS15>= 25,"OK","NG") -> OK | CW15: L: | CX15: 4 | CY15: =O15 -> 300 | CZ15: =P15 -> 200 | DA15: =S15 -> 24.876 | DB15: 0.6 | DC15: =$H$9 -> 240 | DD15: =1/6*SQRT($H$7)*CZ15*BS15*0.001 -> 41.666667 | DE15: =DB15*DD15 -> 25 | DF15: =IF(DA15<=DE15,"Tul. Gerser Praktis","Perlu Tul Geser") -> Tul. Gerser Praktis | DP15: 200 | DQ15: Ø | DR15: =$H$14 -> 8 | DS15: - | DT15: =DP15 -> 200 | DX15: L: | DY15: 4 | DZ15: =O15 -> 300 | EA15: =P15 -> 200 | EB15: =$H$13 -> 13 | EC15: =$H$14 -> 8 | ED15: =$H$15 -> 25 | EE15: =AT15 -> 2 | EF15: =MAX(EE15,EG15) -> 2 | EG15: 2 | EH15: =BC15 -> 1 | EI15: =MAX(EH15,EJ15) -> 2 | EJ15: 2 | EK15: =CE15 -> 2 | EL15: =MAX(EK15,EM15) -> 2 | EM15: 2 | EN15: =CN15 -> 1 | EO15: =MAX(EN15,EP15) -> 2 | EP15: 2 | EQ15: Ø | ER15: =$H$14 -> 8 | ES15: - | ET15: =DT15 -> 200
A16: 3. MOMEN DAN GAYA GESER RENCANA | L16: A' | M16: (4-7) | Z16: A' | AA16: (4-7) | BK16: A' | BL16: (4-7) | CV16: A' | CW16: (4-7) | DW16: A' | DX16: (4-7) | EE16: =AT16 -> 0 | EH16: =BC16 -> 0 | EK16: =CE16 -> 0 | EN16: =CN16 -> 0 | EV16: BA1
A17: Momen Rencana positif akibat beban terfaktor, | G17: Mu + | H17: → | I17: kN.m | M17: L: | N17: 4 | O17: ='QE & MOMEN'!S28*1000 -> 300 | P17: ='QE & MOMEN'!V28*1000 -> 150 | Q17: ='QE & MOMEN'!AA28 -> 9.3339275 | R17: ='QE & MOMEN'!AA28 -> 9.3339275 | S17: ='QE & MOMEN'!AB28 -> 14.000891 | T17: =$H$4 -> 0.85 | U17: =T17*0.85*$H$7/$H$8*600/(600+$H$8) -> 0.02709375 | V17: =0.75*U17*$H$8*(1-(0.5*0.75*U17*$H$8/(0.85*$H$7))) -> 6.5736211 | W17: =$H$27 -> 0.8 | AA17: L: | AB17: 4 | AC17: =O17 -> 300 | AD17: =P17 -> 150 | AE17: =Q17 -> 9.3339275 | AF17: =AE17/W17 -> 11.667409 | AG17: 50 | AH17: =AC17-AG17 -> 250 | AI17: =AF17*10^6/(AD17*AH17^2) -> 1.2445237 | AJ17: =$H$13 -> 13 | AK17: =$H$14 -> 8 | AL17: =$H$15 -> 25 | AM17: =IF(AI17<=V17,"OK","NG") -> OK | AN17: =0.85*($H$7/$H$8)*(1-(SQRT(1-2*AI17/(0.85*$H$7)))) -> 0.0032081789 | AO17: =1.4/$H$8 -> 0.0035 | AP17: =0.5*U17 -> 0.013546875 | AQ17: =MAX(AN17:AO17) -> 0.0035 | AR17: =AQ17*AD17*AH17 -> 131.25 | AS17: =AR17/((22/7)/4*AJ17^2) -> 0.98843464 | AT17: =ROUNDUP(AS17,0) -> 1 | AU17: =MAX(AT17,AV17) -> 2 | AV17: 2 | AW17: =AU17*(22/7)/4*AJ17^2 -> 265.57143 | AX17: =IF(AR17<=AW17,"OK","NG") -> OK | AY17: =(AD17-(2*AL17+2*AK17+AU17*AJ17))/(AU17-1) -> 58 | AZ17: =IF(AY17>= 25,"OK","NG") -> OK | BA17: =AR17/2 -> 65.625 | BB17: =BA17/((22/7)/4*AJ17^2) -> 0.49421732 | BC17: =ROUNDUP(BB17,0) -> 1 | BD17: =MAX(BC17,BE17) -> 2 | BE17: 2 | BF17: =BD17*(22/7)/4*AJ17^2 -> 265.57143 | BG17: =IF(BA17<=BF17,"OK","NG") -> OK | BH17: =(AD17-(2*AL17+2*AK17+BD17*AJ17))/(BD17-1) -> 58 | BI17: =IF(BH17>= 25,"OK","NG") -> OK | BL17: L: | BM17: 4 | BN17: =O17 -> 300 | BO17: =P17 -> 150 | BP17: =R17 -> 9.3339275 | BQ17: =BP17/W17 -> 11.667409 | BR17: 50 | BS17: =BN17-BR17 -> 250 | BT17: =BQ17*10^6/(BO17*BS17^2) -> 1.2445237 | BU17: =$H$13 -> 13 | BV17: =$H$14 -> 8 | BW17: =$H$15 -> 25 | BX17: =IF(BT17<=V17,"OK","NG") -> OK | BY17: =0.85*($H$7/$H$8)*(1-(SQRT(1-2*BT17/(0.85*$H$7)))) -> 0.0032081789 | BZ17: =1.4/$H$8 -> 0.0035 | CA17: =0.5*U17 -> 0.013546875 | CB17: =MAX(BY17:BZ17) -> 0.0035 | CC17: =CB17*BO17*BS17 -> 131.25 | CD17: =CC17/((22/7)/4*BU17^2) -> 0.98843464 | CE17: =ROUNDUP(CD17,0) -> 1 | CF17: =MAX(CE17,CG17) -> 2 | CG17: 2 | CH17: =CF17*(22/7)/4*BU17^2 -> 265.57143 | CI17: =IF(CC17<=CH17,"OK","NG") -> OK | CJ17: =(BO17-(2*BW17+2*BV17+CF17*BU17))/(CF17-1) -> 58 | CK17: =IF(CJ17>= 25,"OK","NG") -> OK | CL17: =CC17/2 -> 65.625 | CM17: =CL17/((22/7)/4*BU17^2) -> 0.49421732 | CN17: =ROUNDUP(CM17,0) -> 1 | CO17: =MAX(CN17,CP17) -> 2 | CP17: 2 | CQ17: =CO17*(22/7)/4*BU17^2 -> 265.57143 | CR17: =IF(CL17<=CQ17,"OK","NG") -> OK | CS17: =(BO17-(2*BW17+2*BV17+CO17*BU17))/(CO17-1) -> 58 | CT17: =IF(CS17>= 25,"OK","NG") -> OK | CW17: L: | CX17: 4 | CY17: =O17 -> 300 | CZ17: =P17 -> 150 | DA17: =S17 -> 14.000891 | DB17: 0.6 | DC17: =$H$9 -> 240 | DD17: =1/6*SQRT($H$7)*CZ17*BS17*0.001 -> 31.25 | DE17: =DB17*DD17 -> 18.75 | DF17: =IF(DA17<=DE17,"Tul. Gerser Praktis","Perlu Tul Geser") -> Tul. Gerser Praktis | DP17: 200 | DQ17: Ø | DR17: =$H$14 -> 8 | DS17: - | DT17: =DP17 -> 200 | DX17: L: | DY17: 4 | DZ17: =O17 -> 300 | EA17: =P17 -> 150 | EB17: =$H$13 -> 13 | EC17: =$H$14 -> 8 | ED17: =$H$15 -> 25 | EE17: =AT17 -> 1 | EF17: =MAX(EE17,EG17) -> 2 | EG17: 2 | EH17: =BC17 -> 1 | EI17: =MAX(EH17,EJ17) -> 2 | EJ17: 2 | EK17: =CE17 -> 1 | EL17: =MAX(EK17,EM17) -> 2 | EM17: 2 | EN17: =CN17 -> 1 | EO17: =MAX(EN17,EP17) -> 2 | EP17: 2 | EQ17: Ø | ER17: =$H$14 -> 8 | ES17: - | ET17: =DT17 -> 200
A18: Momen rencana negatif akibat beban terfaktor, | G18: Mu - | H18: → | I18: kN.m | L18: B | M18: (2-3) | Z18: B | AA18: (2-3) | BK18: B | BL18: (2-3) | CV18: B | CW18: (2-3) | DW18: B | DX18: (2-3) | EE18: =AT18 -> 0 | EH18: =BC18 -> 0 | EK18: =CE18 -> 0 | EN18: =CN18 -> 0 | EV18: B2
A19: Gaya geser rencana akibat beban terfaktor, | G19: Vu | H19: → | I19: kN | M19: L: | N19: 1.5 | O19: ='QE & MOMEN'!S30*1000 -> 400 | P19: ='QE & MOMEN'!V30*1000 -> 250 | Q19: ='QE & MOMEN'!AA30 -> 1.132875 | R19: ='QE & MOMEN'!AA30 -> 1.132875 | S19: ='QE & MOMEN'!AB30 -> 4.5315 | T19: =$H$4 -> 0.85 | U19: =T19*0.85*$H$7/$H$8*600/(600+$H$8) -> 0.02709375 | V19: =0.75*U19*$H$8*(1-(0.5*0.75*U19*$H$8/(0.85*$H$7))) -> 6.5736211 | W19: =$H$27 -> 0.8 | AA19: L: | AB19: 1.5 | AC19: =O19 -> 400 | AD19: =P19 -> 250 | AE19: =Q19 -> 1.132875 | AF19: =AE19/W19 -> 1.4160937 | AG19: 50 | AH19: =AC19-AG19 -> 350 | AI19: =AF19*10^6/(AD19*AH19^2) -> 0.046239796 | AJ19: =$H$13 -> 13 | AK19: =$H$14 -> 8 | AL19: =$H$15 -> 25 | AM19: =IF(AI19<=V19,"OK","NG") -> OK | AN19: =0.85*($H$7/$H$8)*(1-(SQRT(1-2*AI19/(0.85*$H$7)))) -> 0.00011572554 | AO19: =1.4/$H$8 -> 0.0035 | AP19: =0.5*U19 -> 0.013546875 | AQ19: =MAX(AN19:AO19) -> 0.0035 | AR19: =AQ19*AD19*AH19 -> 306.25 | AS19: =AR19/((22/7)/4*AJ19^2) -> 2.3063475 | AT19: =ROUNDUP(AS19,0) -> 3 | AU19: =MAX(AT19,AV19) -> 3 | AV19: 2 | AW19: =AU19*(22/7)/4*AJ19^2 -> 398.35714 | AX19: =IF(AR19<=AW19,"OK","NG") -> OK | AY19: =(AD19-(2*AL19+2*AK19+AU19*AJ19))/(AU19-1) -> 72.5 | AZ19: =IF(AY19>= 25,"OK","NG") -> OK | BA19: =AR19/2 -> 153.125 | BB19: =BA19/((22/7)/4*AJ19^2) -> 1.1531737 | BC19: =ROUNDUP(BB19,0) -> 2 | BD19: =MAX(BC19,BE19) -> 2 | BE19: 2 | BF19: =BD19*(22/7)/4*AJ19^2 -> 265.57143 | BG19: =IF(BA19<=BF19,"OK","NG") -> OK | BH19: =(AD19-(2*AL19+2*AK19+BD19*AJ19))/(BD19-1) -> 158 | BI19: =IF(BH19>= 25,"OK","NG") -> OK | BL19: L: | BM19: 1.5 | BN19: =O19 -> 400 | BO19: =P19 -> 250 | BP19: =R19 -> 1.132875 | BQ19: =BP19/W19 -> 1.4160937 | BR19: 50 | BS19: =BN19-BR19 -> 350 | BT19: =BQ19*10^6/(BO19*BS19^2) -> 0.046239796 | BU19: =$H$13 -> 13 | BV19: =$H$14 -> 8 | BW19: =$H$15 -> 25 | BX19: =IF(BT19<=V19,"OK","NG") -> OK | BY19: =0.85*($H$7/$H$8)*(1-(SQRT(1-2*BT19/(0.85*$H$7)))) -> 0.00011572554 | BZ19: =1.4/$H$8 -> 0.0035 | CA19: =0.5*U19 -> 0.013546875 | CB19: =MAX(BY19:BZ19) -> 0.0035 | CC19: =CB19*BO19*BS19 -> 306.25 | CD19: =CC19/((22/7)/4*BU19^2) -> 2.3063475 | CE19: =ROUNDUP(CD19,0) -> 3 | CF19: =MAX(CE19,CG19) -> 3 | CG19: 2 | CH19: =CF19*(22/7)/4*BU19^2 -> 398.35714 | CI19: =IF(CC19<=CH19,"OK","NG") -> OK | CJ19: =(BO19-(2*BW19+2*BV19+CF19*BU19))/(CF19-1) -> 72.5 | CK19: =IF(CJ19>= 25,"OK","NG") -> OK | CL19: =CC19/2 -> 153.125 | CM19: =CL19/((22/7)/4*BU19^2) -> 1.1531737 | CN19: =ROUNDUP(CM19,0) -> 2 | CO19: =MAX(CN19,CP19) -> 2 | CP19: 2 | CQ19: =CO19*(22/7)/4*BU19^2 -> 265.57143 | CR19: =IF(CL19<=CQ19,"OK","NG") -> OK | CS19: =(BO19-(2*BW19+2*BV19+CO19*BU19))/(CO19-1) -> 158 | CT19: =IF(CS19>= 25,"OK","NG") -> OK | CW19: L: | CX19: 1.5 | CY19: =O19 -> 400 | CZ19: =P19 -> 250 | DA19: =S19 -> 4.5315 | DB19: 0.6 | DC19: =$H$9 -> 240 | DD19: =1/6*SQRT($H$7)*CZ19*BS19*0.001 -> 72.916667 | DE19: =DB19*DD19 -> 43.75 | DF19: =IF(DA19<=DE19,"Tul. Gerser Praktis","Perlu Tul Geser") -> Tul. Gerser Praktis | DP19: 200 | DQ19: Ø | DR19: =$H$14 -> 8 | DS19: - | DT19: =DP19 -> 200 | DX19: L: | DY19: 1.5 | DZ19: =O19 -> 400 | EA19: =P19 -> 250 | EB19: =$H$13 -> 13 | EC19: =$H$14 -> 8 | ED19: =$H$15 -> 25 | EE19: =AT19 -> 3 | EF19: =MAX(EE19,EG19) -> 3 | EG19: 2 | EH19: =BC19 -> 2 | EI19: =MAX(EH19,EJ19) -> 2 | EJ19: 2 | EK19: =CE19 -> 3 | EL19: =MAX(EK19,EM19) -> 3 | EM19: 2 | EN19: =CN19 -> 2 | EO19: =MAX(EN19,EP19) -> 2 | EP19: 2 | EQ19: Ø | ER19: =$H$14 -> 8 | ES19: - | ET19: =DT19 -> 200
M20: (3-4) | AA20: (3-4) | BL20: (3-4) | CW20: (3-4) | DX20: (3-4) | EE20: =AT20 -> 0 | EH20: =BC20 -> 0 | EK20: =CE20 -> 0 | EN20: =CN20 -> 0 | EV20: B2
A21: B. PERHITUNGAN TULANGAN | M21: L: | N21: 3.5 | O21: ='QE & MOMEN'!S32*1000 -> 400 | P21: ='QE & MOMEN'!V32*1000 -> 250 | Q21: ='QE & MOMEN'!AA32 -> 28.782833 | R21: ='QE & MOMEN'!AA32 -> 28.782833 | S21: ='QE & MOMEN'!AB32 -> 49.342 | T21: =$H$4 -> 0.85 | U21: =T21*0.85*$H$7/$H$8*600/(600+$H$8) -> 0.02709375 | V21: =0.75*U21*$H$8*(1-(0.5*0.75*U21*$H$8/(0.85*$H$7))) -> 6.5736211 | W21: =$H$27 -> 0.8 | AA21: L: | AB21: 3.5 | AC21: =O21 -> 400 | AD21: =P21 -> 250 | AE21: =Q21 -> 28.782833 | AF21: =AE21/W21 -> 35.978542 | AG21: 50 | AH21: =AC21-AG21 -> 350 | AI21: =AF21*10^6/(AD21*AH21^2) -> 1.1748095 | AJ21: =$H$13 -> 13 | AK21: =$H$14 -> 8 | AL21: =$H$15 -> 25 | AM21: =IF(AI21<=V21,"OK","NG") -> OK | AN21: =0.85*($H$7/$H$8)*(1-(SQRT(1-2*AI21/(0.85*$H$7)))) -> 0.0030230355 | AO21: =1.4/$H$8 -> 0.0035 | AP21: =0.5*U21 -> 0.013546875 | AQ21: =MAX(AN21:AO21) -> 0.0035 | AR21: =AQ21*AD21*AH21 -> 306.25 | AS21: =AR21/((22/7)/4*AJ21^2) -> 2.3063475 | AT21: =ROUNDUP(AS21,0) -> 3 | AU21: =MAX(AT21,AV21) -> 3 | AV21: 2 | AW21: =AU21*(22/7)/4*AJ21^2 -> 398.35714 | AX21: =IF(AR21<=AW21,"OK","NG") -> OK | AY21: =(AD21-(2*AL21+2*AK21+AU21*AJ21))/(AU21-1) -> 72.5 | AZ21: =IF(AY21>= 25,"OK","NG") -> OK | BA21: =AR21/2 -> 153.125 | BB21: =BA21/((22/7)/4*AJ21^2) -> 1.1531737 | BC21: =ROUNDUP(BB21,0) -> 2 | BD21: =MAX(BC21,BE21) -> 2 | BE21: 2 | BF21: =BD21*(22/7)/4*AJ21^2 -> 265.57143 | BG21: =IF(BA21<=BF21,"OK","NG") -> OK | BH21: =(AD21-(2*AL21+2*AK21+BD21*AJ21))/(BD21-1) -> 158 | BI21: =IF(BH21>= 25,"OK","NG") -> OK | BL21: L: | BM21: 3.5 | BN21: =O21 -> 400 | BO21: =P21 -> 250 | BP21: =R21 -> 28.782833 | BQ21: =BP21/W21 -> 35.978542 | BR21: 50 | BS21: =BN21-BR21 -> 350 | BT21: =BQ21*10^6/(BO21*BS21^2) -> 1.1748095 | BU21: =$H$13 -> 13 | BV21: =$H$14 -> 8 | BW21: =$H$15 -> 25 | BX21: =IF(BT21<=V21,"OK","NG") -> OK | BY21: =0.85*($H$7/$H$8)*(1-(SQRT(1-2*BT21/(0.85*$H$7)))) -> 0.0030230355 | BZ21: =1.4/$H$8 -> 0.0035 | CA21: =0.5*U21 -> 0.013546875 | CB21: =MAX(BY21:BZ21) -> 0.0035 | CC21: =CB21*BO21*BS21 -> 306.25 | CD21: =CC21/((22/7)/4*BU21^2) -> 2.3063475 | CE21: =ROUNDUP(CD21,0) -> 3 | CF21: =MAX(CE21,CG21) -> 3 | CG21: 2 | CH21: =CF21*(22/7)/4*BU21^2 -> 398.35714 | CI21: =IF(CC21<=CH21,"OK","NG") -> OK | CJ21: =(BO21-(2*BW21+2*BV21+CF21*BU21))/(CF21-1) -> 72.5 | CK21: =IF(CJ21>= 25,"OK","NG") -> OK | CL21: =CC21/2 -> 153.125 | CM21: =CL21/((22/7)/4*BU21^2) -> 1.1531737 | CN21: =ROUNDUP(CM21,0) -> 2 | CO21: =MAX(CN21,CP21) -> 2 | CP21: 2 | CQ21: =CO21*(22/7)/4*BU21^2 -> 265.57143 | CR21: =IF(CL21<=CQ21,"OK","NG") -> OK | CS21: =(BO21-(2*BW21+2*BV21+CO21*BU21))/(CO21-1) -> 158 | CT21: =IF(CS21>= 25,"OK","NG") -> OK | CW21: L: | CX21: 3.5 | CY21: =O21 -> 400 | CZ21: =P21 -> 250 | DA21: =S21 -> 49.342 | DB21: 0.6 | DC21: =$H$9 -> 240 | DD21: =1/6*SQRT($H$7)*CZ21*BS21*0.001 -> 72.916667 | DE21: =DB21*DD21 -> 43.75 | DF21: =IF(DA21<=DE21,"Tul. Gerser Praktis","Perlu Tul Geser") -> Perlu Tul Geser | DG21: =DA21-DE21 -> 5.592 | DH21: =DG21/DB21 -> 9.32 | DI21: 1 | DJ21: =$AK$11 -> 8 | DK21: =DI21*((22/7)/4)*DJ21^2 -> 50.285714 | DL21: =DK21*DC19*BS21/(DH21*10^3) -> 453.21888 | DM21: =IF(DH21<(1/3*SQRT($H$7)*CZ21*BS21),"1/2 D - 600","1/4D - 300") -> 1/2 D - 600 | DN21: =1/2*AH21 -> 175 | DO21: 600 | DP21: =MIN(DL21,DN21,DO21) -> 175 | DQ21: Ø | DR21: =$H$14 -> 8 | DS21: - | DT21: =DP21 -> 175 | DX21: L: | DY21: 3.5 | DZ21: =O21 -> 400 | EA21: =P21 -> 250 | EB21: =$H$13 -> 13 | EC21: =$H$14 -> 8 | ED21: =$H$15 -> 25 | EE21: =AT21 -> 3 | EF21: =MAX(EE21,EG21) -> 3 | EG21: 2 | EH21: =BC21 -> 2 | EI21: =MAX(EH21,EJ21) -> 2 | EJ21: 2 | EK21: =CE21 -> 3 | EL21: =MAX(EK21,EM21) -> 3 | EM21: 2 | EN21: =CN21 -> 2 | EO21: =MAX(EN21,EP21) -> 2 | EP21: 2 | EQ21: Ø | ER21: =$H$14 -> 8 | ES21: - | ET21: =DT21 -> 175
M22: (4-7) | AA22: (4-7) | BL22: (4-7) | CW22: (4-7) | DX22: (4-7) | EE22: =AT22 -> 0 | EH22: =BC22 -> 0 | EK22: =CE22 -> 0 | EN22: =CN22 -> 0 | EV22: B3
A23: Untuk : fc' ≤ 30 Mpa | M23: L: | N23: 4 | O23: ='QE & MOMEN'!S34*1000 -> 400 | P23: ='QE & MOMEN'!V34*1000 -> 250 | Q23: ='QE & MOMEN'!BC22 -> 9.9128985 | R23: ='QE & MOMEN'!BB22 -> 67.657158 | S23: ='QE & MOMEN'!BF22 -> 71.63475 | T23: =$H$4 -> 0.85 | U23: =T23*0.85*$H$7/$H$8*600/(600+$H$8) -> 0.02709375 | V23: =0.75*U23*$H$8*(1-(0.5*0.75*U23*$H$8/(0.85*$H$7))) -> 6.5736211 | W23: =$H$27 -> 0.8 | AA23: L: | AB23: 4 | AC23: =O23 -> 400 | AD23: =P23 -> 250 | AE23: =Q23 -> 9.9128985 | AF23: =AE23/W23 -> 12.391123 | AG23: 50 | AH23: =AC23-AG23 -> 350 | AI23: =AF23*1000000/(AD23*AH23^2) -> 0.4046081 | AJ23: =$H$13 -> 13 | AK23: =$H$14 -> 8 | AL23: =$H$15 -> 25 | AM23: =IF(AI23<=V23,"OK","NG") -> OK | AN23: =0.85*($H$7/$H$8)*(1-(SQRT(1-2*AI23/(0.85*$H$7)))) -> 0.001021338 | AO23: =1.4/$H$8 -> 0.0035 | AP23: =0.5*U23 -> 0.013546875 | AQ23: =MAX(AN23:AO23) -> 0.0035 | AR23: =AQ23*AD23*AH23 -> 306.25 | AS23: =AR23/((22/7)/4*AJ23^2) -> 2.3063475 | AT23: =ROUNDUP(AS23,0) -> 3 | AU23: =MAX(AT23,AV23) -> 3 | AV23: 2 | AW23: =AU23*(22/7)/4*AJ23^2 -> 398.35714 | AX23: =IF(AR23<=AW23,"OK","NG") -> OK | AY23: =(AD23-(2*AL23+2*AK23+AU23*AJ23))/(AU23-1) -> 72.5 | AZ23: =IF(AY23>= 25,"OK","NG") -> OK | BA23: =AR23/2 -> 153.125 | BB23: =BA23/((22/7)/4*AJ23^2) -> 1.1531737 | BC23: =ROUNDUP(BB23,0) -> 2 | BD23: =MAX(BC23,BE23) -> 2 | BE23: 2 | BF23: =BD23*(22/7)/4*AJ23^2 -> 265.57143 | BG23: =IF(BA23<=BF23,"OK","NG") -> OK | BH23: =(AD23-(2*AL23+2*AK23+BD23*AJ23))/(BD23-1) -> 158 | BI23: =IF(BH23>= 25,"OK","NG") -> OK | BL23: L: | BM23: 4 | BN23: =O23 -> 400 | BO23: =P23 -> 250 | BP23: =R23 -> 67.657158 | BQ23: =BP23/W23 -> 84.571447 | BR23: 50 | BS23: =BN23-BR23 -> 350 | BT23: =BQ23*10^6/(BO23*BS23^2) -> 2.7615166 | BU23: =$H$13 -> 13 | BV23: =$H$14 -> 8 | BW23: =$H$15 -> 25 | BX23: =IF(BT23<=V23,"OK","NG") -> OK | BY23: =0.85*($H$7/$H$8)*(1-(SQRT(1-2*BT23/(0.85*$H$7)))) -> 0.0074222893 | BZ23: =1.4/$H$8 -> 0.0035 | CA23: =0.5*U23 -> 0.013546875 | CB23: =MAX(BY23:BZ23) -> 0.0074222893 | CC23: =CB23*BO23*BS23 -> 649.45031 | CD23: =CC23/((22/7)/4*BU23^2) -> 4.8909652 | CE23: =ROUNDUP(CD23,0) -> 5 | CF23: =MAX(CE23,CG23) -> 5 | CG23: 2 | CH23: =CF23*(22/7)/4*BU23^2 -> 663.92857 | CI23: =IF(CC23<=CH23,"OK","NG") -> OK | CJ23: =(BO23-(2*BW23+2*BV23+CF23*BU23))/(CF23-1) -> 29.75 | CK23: =IF(CJ23>= 25,"OK","NG") -> OK | CL23: =CC23/2 -> 324.72516 | CM23: =CL23/((22/7)/4*BU23^2) -> 2.4454826 | CN23: =ROUNDUP(CM23,0) -> 3 | CO23: =MAX(CN23,CP23) -> 3 | CP23: 2 | CQ23: =CO23*(22/7)/4*BU23^2 -> 398.35714 | CR23: =IF(CL23<=CQ23,"OK","NG") -> OK | CS23: =(BO23-(2*BW23+2*BV23+CO23*BU23))/(CO23-1) -> 72.5 | CT23: =IF(CS23>= 25,"OK","NG") -> OK | CW23: L: | CX23: 4 | CY23: =O23 -> 400 | CZ23: =P23 -> 250 | DA23: =S23 -> 71.63475 | DB23: 0.6 | DC23: =$H$9 -> 240 | DD23: =1/6*SQRT($H$7)*CZ23*BS23*0.001 -> 72.916667 | DE23: =DB23*DD23 -> 43.75 | DF23: =IF(DA23<=DE23,"Tul. Gerser Praktis","Perlu Tul Geser") -> Perlu Tul Geser | DG23: =DA23-DE23 -> 27.88475 | DH23: =DG23/DB23 -> 46.474583 | DI23: 1 | DJ23: =$AK$11 -> 8 | DK23: =DI23*((22/7)/4)*DJ23^2 -> 50.285714 | DL23: =DK23*DC21*BS23/(DH23*10^3) -> 90.88839 | DM23: =IF(DH23<(1/3*SQRT($H$7)*CZ23*BS23),"1/2 D - 600","1/4D - 300") -> 1/2 D - 600 | DN23: =1/2*AH23 -> 175 | DO23: 600 | DP23: =MIN(DL23,DN23,DO23) -> 90.88839 | DQ23: Ø | DR23: =$H$14 -> 8 | DS23: - | DT23: =ROUNDDOWN(DP23,-1) -> 90 | DX23: L: | DY23: 4 | DZ23: =O23 -> 400 | EA23: =P23 -> 250 | EB23: =$H$13 -> 13 | EC23: =$H$14 -> 8 | ED23: =$H$15 -> 25 | EE23: =AT23 -> 3 | EF23: =MAX(EE23,EG23) -> 3 | EG23: 2 | EH23: =BC23 -> 2 | EI23: =MAX(EH23,EJ23) -> 2 | EJ23: 2 | EK23: =CE23 -> 5 | EL23: =MAX(EK23,EM23) -> 5 | EM23: 2 | EN23: =CN23 -> 3 | EO23: =MAX(EN23,EP23) -> 3 | EP23: 2 | EQ23: Ø | ER23: =$H$14 -> 8 | ES23: - | ET23: =DT23 -> 90
A24: Faktor bentuk distribusi tegangan beton, | G24: β₁ | H24: =H4 -> 0.85 | L24: C | M24: (7-8) | Z24: C | AA24: (7-8) | BK24: C | BL24: (7-8) | CV24: C | CW24: (7-8) | DW24: C | DX24: (7-8) | EE24: =AT24 -> 0 | EH24: =BC24 -> 0 | EK24: =CE24 -> 0 | EN24: =CN24 -> 0 | EV24: BA2
A25: Rasio tulangan pada kondisi balance, | G25: ρb | H25: β₁* 0.85 * fc’/ fy * 600 / ( 600 + fy ) | M25: L: | N25: 2.5 | O25: ='QE & MOMEN'!S36*1000 -> 250 | P25: ='QE & MOMEN'!V36*1000 -> 150 | Q25: ='QE & MOMEN'!AA36 -> 4.79125 | R25: ='QE & MOMEN'!AA36 -> 4.79125 | S25: ='QE & MOMEN'!AB36 -> 11.499 | T25: =$H$4 -> 0.85 | U25: =T25*0.85*$H$7/$H$8*600/(600+$H$8) -> 0.02709375 | V25: =0.75*U25*$H$8*(1-(0.5*0.75*U25*$H$8/(0.85*$H$7))) -> 6.5736211 | W25: =$H$27 -> 0.8 | AA25: L: | AB25: 2.5 | AC25: =O25 -> 250 | AD25: =P25 -> 150 | AE25: =Q25 -> 4.79125 | AF25: =AE25/W25 -> 5.9890625 | AG25: 50 | AH25: =AC25-AG25 -> 200 | AI25: =AF25*10^6/(AD25*AH25^2) -> 0.99817708 | AJ25: =$H$13 -> 13 | AK25: =$H$14 -> 8 | AL25: =$H$15 -> 25 | AM25: =IF(AI25<=V25,"OK","NG") -> OK | AN25: =0.85*($H$7/$H$8)*(1-(SQRT(1-2*AI25/(0.85*$H$7)))) -> 0.0025569781 | AO25: =1.4/$H$8 -> 0.0035 | AP25: =0.5*U25 -> 0.013546875 | AQ25: =MAX(AN25:AO25) -> 0.0035 | AR25: =AQ25*AD25*AH25 -> 105 | AS25: =AR25/((22/7)/4*AJ25^2) -> 0.79074771 | AT25: =ROUNDUP(AS25,0) -> 1 | AU25: =MAX(AT25,AV25) -> 2 | AV25: 2 | AW25: =AU25*(22/7)/4*AJ25^2 -> 265.57143 | AX25: =IF(AR25<=AW25,"OK","NG") -> OK | AY25: =(AD25-(2*AL25+2*AK25+AU25*AJ25))/(AU25-1) -> 58 | AZ25: =IF(AY25>= 25,"OK","NG") -> OK | BA25: =AR25/2 -> 52.5 | BB25: =BA25/((22/7)/4*AJ25^2) -> 0.39537386 | BC25: =ROUNDUP(BB25,0) -> 1 | BD25: =MAX(BC25,BE25) -> 2 | BE25: 2 | BF25: =BD25*(22/7)/4*AJ25^2 -> 265.57143 | BG25: =IF(BA25<=BF25,"OK","NG") -> OK | BH25: =(AD25-(2*AL25+2*AK25+BD25*AJ25))/(BD25-1) -> 58 | BI25: =IF(BH25>= 25,"OK","NG") -> OK | BL25: L: | BM25: 2.5 | BN25: =O25 -> 250 | BO25: =P25 -> 150 | BP25: =R25 -> 4.79125 | BQ25: =BP25/W25 -> 5.9890625 | BR25: 50 | BS25: =BN25-BR25 -> 200 | BT25: =BQ25*10^6/(BO25*BS25^2) -> 0.99817708 | BU25: =$H$13 -> 13 | BV25: =$H$14 -> 8 | BW25: =$H$15 -> 25 | BX25: =IF(BT25<=V25,"OK","NG") -> OK | BY25: =0.85*($H$7/$H$8)*(1-(SQRT(1-2*BT25/(0.85*$H$7)))) -> 0.0025569781 | BZ25: =1.4/$H$8 -> 0.0035 | CA25: =0.5*U25 -> 0.013546875 | CB25: =MAX(BY25:BZ25) -> 0.0035 | CC25: =CB25*BO25*BS25 -> 105 | CD25: =CC25/((22/7)/4*BU25^2) -> 0.79074771 | CE25: =ROUNDUP(CD25,0) -> 1 | CF25: =MAX(CE25,CG25) -> 2 | CG25: 2 | CH25: =CF25*(22/7)/4*BU25^2 -> 265.57143 | CI25: =IF(CC25<=CH25,"OK","NG") -> OK | CJ25: =(BO25-(2*BW25+2*BV25+CF25*BU25))/(CF25-1) -> 58 | CK25: =IF(CJ25>= 25,"OK","NG") -> OK | CL25: =CC25/2 -> 52.5 | CM25: =CL25/((22/7)/4*BU25^2) -> 0.39537386 | CN25: =ROUNDUP(CM25,0) -> 1 | CO25: =MAX(CN25,CP25) -> 2 | CP25: 2 | CQ25: =CO25*(22/7)/4*BU25^2 -> 265.57143 | CR25: =IF(CL25<=CQ25,"OK","NG") -> OK | CS25: =(BO25-(2*BW25+2*BV25+CO25*BU25))/(CO25-1) -> 58 | CT25: =IF(CS25>= 25,"OK","NG") -> OK | CW25: L: | CX25: 2.5 | CY25: =O25 -> 250 | CZ25: =P25 -> 150 | DA25: =S25 -> 11.499 | DB25: 0.6 | DC25: =$H$9 -> 240 | DD25: =1/6*SQRT($H$7)*CZ25*BS25*0.001 -> 25 | DE25: =DB25*DD25 -> 15 | DF25: =IF(DA25<=DE25,"Tul. Gerser Praktis","Perlu Tul Geser") -> Tul. Gerser Praktis | DP25: 200 | DQ25: Ø | DR25: =$H$14 -> 8 | DS25: - | DT25: =DP25 -> 200 | DX25: L: | DY25: 2.5 | DZ25: =O25 -> 250 | EA25: =P25 -> 150 | EB25: =$H$13 -> 13 | EC25: =$H$14 -> 8 | ED25: =$H$15 -> 25 | EE25: =AT25 -> 1 | EF25: =MAX(EE25,EG25) -> 2 | EG25: 2 | EH25: =BC25 -> 1 | EI25: =MAX(EH25,EJ25) -> 2 | EJ25: 2 | EK25: =CE25 -> 1 | EL25: =MAX(EK25,EM25) -> 2 | EM25: 2 | EN25: =CN25 -> 1 | EO25: =MAX(EN25,EP25) -> 2 | EP25: 2 | EQ25: Ø | ER25: =$H$14 -> 8 | ES25: - | ET25: =DT25 -> 200
A26: Faktor Tahanan momen Maksimum, | G26: Rmax | H26: 0.75 * ρb * fy * [1 – ½*0.75* ρb * fy / ( 0.85 * fc’ ) | L26: D | M26: (3-4) | Z26: D | AA26: (3-4) | BK26: D | BL26: (3-4) | CV26: D | CW26: (3-4) | DW26: D | DX26: (3-4) | EE26: =AT26 -> 0 | EH26: =BC26 -> 0 | EK26: =CE26 -> 0 | EN26: =CN26 -> 0 | EV26: B2
A27: Faktor Reduksi Kekuatan lentur, | G27: ᶲ | H27: 0.8 | M27: L: | N27: 3.5 | O27: ='QE & MOMEN'!S38*1000 -> 400 | P27: ='QE & MOMEN'!V38*1000 -> 250 | Q27: ='QE & MOMEN'!AA38 -> 21.404833 | R27: ='QE & MOMEN'!AA38 -> 21.404833 | S27: ='QE & MOMEN'!AB38 -> 36.694 | T27: =$H$4 -> 0.85 | U27: =T27*0.85*$H$7/$H$8*600/(600+$H$8) -> 0.02709375 | V27: =0.75*U27*$H$8*(1-(0.5*0.75*U27*$H$8/(0.85*$H$7))) -> 6.5736211 | W27: =$H$27 -> 0.8 | AA27: L: | AB27: 3.5 | AC27: =O27 -> 400 | AD27: =P27 -> 250 | AE27: =Q27 -> 21.404833 | AF27: =AE27/W27 -> 26.756042 | AG27: 50 | AH27: =AC27-AG27 -> 350 | AI27: =AF27*10^6/(AD27*AH27^2) -> 0.87366667 | AJ27: =$H$13 -> 13 | AK27: =$H$14 -> 8 | AL27: =$H$15 -> 25 | AM27: =IF(AI27<=V27,"OK","NG") -> OK | AN27: =0.85*($H$7/$H$8)*(1-(SQRT(1-2*AI27/(0.85*$H$7)))) -> 0.002231013 | AO27: =1.4/$H$8 -> 0.0035 | AP27: =0.5*U27 -> 0.013546875 | AQ27: =MAX(AN27:AO27) -> 0.0035 | AR27: =AQ27*AD27*AH27 -> 306.25 | AS27: =AR27/((22/7)/4*AJ27^2) -> 2.3063475 | AT27: =ROUNDUP(AS27,0) -> 3 | AU27: =MAX(AT27,AV27) -> 3 | AV27: 2 | AW27: =AU27*(22/7)/4*AJ27^2 -> 398.35714 | AX27: =IF(AR27<=AW27,"OK","NG") -> OK | AY27: =(AD27-(2*AL27+2*AK27+AU27*AJ27))/(AU27-1) -> 72.5 | AZ27: =IF(AY27>= 25,"OK","NG") -> OK | BA27: =AR27/2 -> 153.125 | BB27: =BA27/((22/7)/4*AJ27^2) -> 1.1531737 | BC27: =ROUNDUP(BB27,0) -> 2 | BD27: =MAX(BC27,BE27) -> 2 | BE27: 2 | BF27: =BD27*(22/7)/4*AJ27^2 -> 265.57143 | BG27: =IF(BA27<=BF27,"OK","NG") -> OK | BH27: =(AD27-(2*AL27+2*AK27+BD27*AJ27))/(BD27-1) -> 158 | BI27: =IF(BH27>= 25,"OK","NG") -> OK | BL27: L: | BM27: 3.5 | BN27: =O27 -> 400 | BO27: =P27 -> 250 | BP27: =R27 -> 21.404833 | BQ27: =BP27/W27 -> 26.756042 | BR27: 50 | BS27: =BN27-BR27 -> 350 | BT27: =BQ27*10^6/(BO27*BS27^2) -> 0.87366667 | BU27: =$H$13 -> 13 | BV27: =$H$14 -> 8 | BW27: =$H$15 -> 25 | BX27: =IF(BT27<=V27,"OK","NG") -> OK | BY27: =0.85*($H$7/$H$8)*(1-(SQRT(1-2*BT27/(0.85*$H$7)))) -> 0.002231013 | BZ27: =1.4/$H$8 -> 0.0035 | CA27: =0.5*U27 -> 0.013546875 | CB27: =MAX(BY27:BZ27) -> 0.0035 | CC27: =CB27*BO27*BS27 -> 306.25 | CD27: =CC27/((22/7)/4*BU27^2) -> 2.3063475 | CE27: =ROUNDUP(CD27,0) -> 3 | CF27: =MAX(CE27,CG27) -> 3 | CG27: 2 | CH27: =CF27*(22/7)/4*BU27^2 -> 398.35714 | CI27: =IF(CC27<=CH27,"OK","NG") -> OK | CJ27: =(BO27-(2*BW27+2*BV27+CF27*BU27))/(CF27-1) -> 72.5 | CK27: =IF(CJ27>= 25,"OK","NG") -> OK | CL27: =CC27/2 -> 153.125 | CM27: =CL27/((22/7)/4*BU27^2) -> 1.1531737 | CN27: =ROUNDUP(CM27,0) -> 2 | CO27: =MAX(CN27,CP27) -> 2 | CP27: 2 | CQ27: =CO27*(22/7)/4*BU27^2 -> 265.57143 | CR27: =IF(CL27<=CQ27,"OK","NG") -> OK | CS27: =(BO27-(2*BW27+2*BV27+CO27*BU27))/(CO27-1) -> 158 | CT27: =IF(CS27>= 25,"OK","NG") -> OK | CW27: L: | CX27: 3.5 | CY27: =O27 -> 400 | CZ27: =P27 -> 250 | DA27: =S27 -> 36.694 | DB27: 0.6 | DC27: =$H$9 -> 240 | DD27: =1/6*SQRT($H$7)*CZ27*BS27*0.001 -> 72.916667 | DE27: =DB27*DD27 -> 43.75 | DF27: =IF(DA27<=DE27,"Tul. Gerser Praktis","Perlu Tul Geser") -> Tul. Gerser Praktis | DP27: 200 | DQ27: Ø | DR27: =$H$14 -> 8 | DS27: - | DT27: =DP27 -> 200 | DX27: L: | DY27: 3.5 | DZ27: =O27 -> 400 | EA27: =P27 -> 250 | EB27: =$H$13 -> 13 | EC27: =$H$14 -> 8 | ED27: =$H$15 -> 25 | EE27: =AT27 -> 3 | EF27: =MAX(EE27,EG27) -> 3 | EG27: 2 | EH27: =BC27 -> 2 | EI27: =MAX(EH27,EJ27) -> 2 | EJ27: 2 | EK27: =CE27 -> 3 | EL27: =MAX(EK27,EM27) -> 3 | EM27: 2 | EN27: =CN27 -> 2 | EO27: =MAX(EN27,EP27) -> 2 | EP27: 2 | EQ27: Ø | ER27: =$H$14 -> 8 | ES27: - | ET27: =DT27 -> 200
M28: (4-7) | AA28: (4-7) | BL28: (4-7) | CW28: (4-7) | DX28: (4-7) | EE28: =AT28 -> 0 | EH28: =BC28 -> 0 | EK28: =CE28 -> 0 | EN28: =CN28 -> 0 | EV28: B3
A29: 1. TULANGAN MOMEN POSITIF | M29: L: | N29: 4 | O29: ='QE & MOMEN'!S40*1000 -> 400 | P29: ='QE & MOMEN'!V40*1000 -> 250 | Q29: ='QE & MOMEN'!BC24 -> 9.1545888 | R29: ='QE & MOMEN'!BB24 -> 59.759198 | S29: ='QE & MOMEN'!BF24 -> 69.928839 | T29: =$H$4 -> 0.85 | U29: =T29*0.85*$H$7/$H$8*600/(600+$H$8) -> 0.02709375 | V29: =0.75*U29*$H$8*(1-(0.5*0.75*U29*$H$8/(0.85*$H$7))) -> 6.5736211 | W29: =$H$27 -> 0.8 | AA29: L: | AB29: 4 | AC29: =O29 -> 400 | AD29: =P29 -> 250 | AE29: =Q29 -> 9.1545888 | AF29: =AE29/W29 -> 11.443236 | AG29: 50 | AH29: =AC29-AG29 -> 350 | AI29: =AF29*10^6/(AD29*AH29^2) -> 0.37365669 | AJ29: =$H$13 -> 13 | AK29: =$H$14 -> 8 | AL29: =$H$15 -> 25 | AM29: =IF(AI29<=V29,"OK","NG") -> OK | AN29: =0.85*($H$7/$H$8)*(1-(SQRT(1-2*AI29/(0.85*$H$7)))) -> 0.00094250228 | AO29: =1.4/$H$8 -> 0.0035 | AP29: =0.5*U29 -> 0.013546875 | AQ29: =MAX(AN29:AO29) -> 0.0035 | AR29: =AQ29*AD29*AH29 -> 306.25 | AS29: =AR29/((22/7)/4*AJ29^2) -> 2.3063475 | AT29: =ROUNDUP(AS29,0) -> 3 | AU29: =MAX(AT29,AV29) -> 3 | AV29: 2 | AW29: =AU29*(22/7)/4*AJ29^2 -> 398.35714 | AX29: =IF(AR29<=AW29,"OK","NG") -> OK | AY29: =(AD29-(2*AL29+2*AK29+AU29*AJ29))/(AU29-1) -> 72.5 | AZ29: =IF(AY29>= 25,"OK","NG") -> OK | BA29: =AR29/2 -> 153.125 | BB29: =BA29/((22/7)/4*AJ29^2) -> 1.1531737 | BC29: =ROUNDUP(BB29,0) -> 2 | BD29: =MAX(BC29,BE29) -> 2 | BE29: 2 | BF29: =BD29*(22/7)/4*AJ29^2 -> 265.57143 | BG29: =IF(BA29<=BF29,"OK","NG") -> OK | BH29: =(AD29-(2*AL29+2*AK29+BD29*AJ29))/(BD29-1) -> 158 | BI29: =IF(BH29>= 25,"OK","NG") -> OK | BL29: L: | BM29: 4 | BN29: =O29 -> 400 | BO29: =P29 -> 250 | BP29: =R29 -> 59.759198 | BQ29: =BP29/W29 -> 74.698997 | BR29: 50 | BS29: =BN29-BR29 -> 350 | BT29: =BQ29*10^6/(BO29*BS29^2) -> 2.4391509 | BU29: =$H$13 -> 13 | BV29: =$H$14 -> 8 | BW29: =$H$15 -> 25 | BX29: =IF(BT29<=V29,"OK","NG") -> OK | BY29: =0.85*($H$7/$H$8)*(1-(SQRT(1-2*BT29/(0.85*$H$7)))) -> 0.0064949007 | BZ29: =1.4/$H$8 -> 0.0035 | CA29: =0.5*U29 -> 0.013546875 | CB29: =MAX(BY29:BZ29) -> 0.0064949007 | CC29: =CB29*BO29*BS29 -> 568.30381 | CD29: =CC29/((22/7)/4*BU29^2) -> 4.2798566 | CE29: =ROUNDUP(CD29,0) -> 5 | CF29: =MAX(CE29,CG29) -> 5 | CG29: 2 | CH29: =CF29*(22/7)/4*BU29^2 -> 663.92857 | CI29: =IF(CC29<=CH29,"OK","NG") -> OK | CJ29: =(BO29-(2*BW29+2*BV29+CF29*BU29))/(CF29-1) -> 29.75 | CK29: =IF(CJ29>= 25,"OK","NG") -> OK | CL29: =CC29/2 -> 284.15191 | CM29: =CL29/((22/7)/4*BU29^2) -> 2.1399283 | CN29: =ROUNDUP(CM29,0) -> 3 | CO29: =MAX(CN29,CP29) -> 3 | CP29: 2 | CQ29: =CO29*(22/7)/4*BU29^2 -> 398.35714 | CR29: =IF(CL29<=CQ29,"OK","NG") -> OK | CS29: =(BO29-(2*BW29+2*BV29+CO29*BU29))/(CO29-1) -> 72.5 | CT29: =IF(CS29>= 25,"OK","NG") -> OK | CW29: L: | CX29: 4 | CY29: =O29 -> 400 | CZ29: =P29 -> 250 | DA29: =S29 -> 69.928839 | DB29: 0.6 | DC29: =$H$9 -> 240 | DD29: =1/6*SQRT($H$7)*CZ29*BS29*0.001 -> 72.916667 | DE29: =DB29*DD29 -> 43.75 | DF29: =IF(DA29<=DE29,"Tul. Gerser Praktis","Perlu Tul Geser") -> Perlu Tul Geser | DG29: =DA29-DE29 -> 26.178839 | DH29: =DG29/DB29 -> 43.631398 | DI29: 1 | DJ29: =$AK$11 -> 8 | DK29: =DI29*((22/7)/4)*DJ29^2 -> 50.285714 | DL29: =DK29*DC27*BS29/(DH29*10^3) -> 96.811018 | DM29: =IF(DH29<(1/3*SQRT($H$7)*CZ29*BS29),"1/2 D - 600","1/4D - 300") -> 1/2 D - 600 | DN29: =1/2*AH29 -> 175 | DO29: 600 | DP29: =MIN(DL29,DN29,DO29) -> 96.811018 | DQ29: Ø | DR29: =$H$14 -> 8 | DS29: - | DT29: =ROUNDDOWN(DP29,-1) -> 90 | DX29: L: | DY29: 4 | DZ29: =O29 -> 400 | EA29: =P29 -> 250 | EB29: =$H$13 -> 13 | EC29: =$H$14 -> 8 | ED29: =$H$15 -> 25 | EE29: =AT29 -> 3 | EF29: =MAX(EE29,EG29) -> 3 | EG29: 2 | EH29: =BC29 -> 2 | EI29: =MAX(EH29,EJ29) -> 2 | EJ29: 2 | EK29: =CE29 -> 5 | EL29: =MAX(EK29,EM29) -> 5 | EM29: 2 | EN29: =CN29 -> 3 | EO29: =MAX(EN29,EP29) -> 3 | EP29: 2 | EQ29: Ø | ER29: =$H$14 -> 8 | ES29: - | ET29: =DT29 -> 90
A30: Momen positif nominal rencana, | G30: Mn | H30: Muᶧ/ᶲ | M30: (7-8) | AA30: (7-8) | BL30: (7-8) | CW30: (7-8) | DX30: (7-8) | EE30: =AT30 -> 0 | EH30: =BC30 -> 0 | EK30: =CE30 -> 0 | EN30: =CN30 -> 0 | EV30: B2
