Workbook

Sheet Tarif Pajak
A1: Tarif pajak PPh 21
A2: Penghasilan | B2: Tarif
B3: NPWP | C3: Tanpa NPWP
A4: Penghasilan s.d Rp 50.000.000 | B4: 0.05 | C4: =120/100*B4 -> 0.06
A5: 50.000.000 s.d 250.000.000 | B5: 0.15 | C5: =120/100*B5 -> 0.18
A6: 250.000.000 s.d 500.000.000 | B6: 0.25 | C6: =120/100*B6 -> 0.3
A7: di atas 500.000.000 | B7: 0.3 | C7: =120/100*B7 -> 0.36
A8: *note: WP tanpa NPWP dikenakan tarif pajak 20% lebih tinggi.
A10: PTKP
A11: Wajib Pajak Tidak Kawin (TK)
A12: Status | B12: PTKP | C12: PTKP /bulan | D12: PTKP /hari
A13: TK/0 | B13: 54000000 | C13: =B13/12 -> 4500000 | D13: =B13/360 -> 150000
A14: TK/1 | B14: 58500000
A15: TK/2 | B15: 63000000
A16: TK/3 | B16: 67500000
A17: Wajib Pajak Kawin (K)
A18: Status | B18: PTKP
A19: K/0 | B19: 58500000
A20: K/1 | B20: 63000000
A21: K/2 | B21: 67500000
A22: K/3 | B22: 72000000
A23: Wajib Pajak kawin, penghasilan suami istri digabung
A24: Status | B24: PTKP
A25: K/I/0 | B25: =(54000000*2)+(4500000*1) -> 112500000
A26: K/I/1 | B26: =(54000000*2)+(4500000*2) -> 117000000
A27: K/I/2 | B27: =(54000000*2)+(4500000*3) -> 121500000
A28: K/I/3 | B28: =(54000000*2)+(4500000*4) -> 126000000

Sheet SOAL A dan B
A1: A | B1: PPh 21 Tn. Nobita 2017 | G1: B | H1: PPh 21 Tn. Oskar 2017
C2: Gaji per bulan Tn. Nobita | E2: 7500000 | H2: 1 | I2: Perhitungan PPh 21 jika dg 1 NPWP
C3: Gaji bruto per bln | E3: =E2 -> 7500000 | I3: OSKAR/ Suami
C4: Gaji bruto per tahun | E4: =E3*12 -> 90000000 | I4: Gaji per bulan Oskar | K4: 12000000
B5: Dikurangi: | I5: Tambahan transport | K5: 500000
C6: Biaya Jabatan (5%*Gbruto) | D6: =5%*E4 -> 4500000 | I6: Gaji bruto per bulan | K6: =K4+K5 -> 12500000
C7: Iuran pensiun(1%*Gpokok)x12 | D7: =1%*E2*12 -> 900000 | I7: Gaji bruto per tahun | K7: =K6*12 -> 150000000
E8: =-D6-D7 -> -5400000 | H8: Dikurangi
C9: Gaji bersih per tahun | E9: =SUM(E4:E8) -> 84600000 | I9: Biaya jabatan (5%) | J9: 6000000
C10: PTKP: | I10: Iuran hari tua | J10: 150000
C11: TK/1 | E11: ='Tarif Pajak'!B14 -> 58500000 | I11: Iuran pensiun | J11: 100000
C12: PKP | E12: =E9-E11 -> 26100000 | K12: =-J9-J10-J11 -> -6250000
C13: PPh 21 terutang per tahun | D13: =5%*E12 -> 1305000 | I13: Gaji neto setahun | K13: =SUM(K7:K12) -> 143750000
C14: PPh 21 terutang per bulan | D14: =D13/12 -> 108750 | I14: PTKP
B15: 1 | C15: PPh 21 dengan NPWP | D15: 108000 | I15: WP pribadi, K/3 | K15: ='Tarif Pajak'!B22 -> 72000000
C16: PPh 21 dengan tanpa NPWP | D16: ='Tarif Pajak'!C4*'SOAL A dan B'!E12 -> 1566000 | I16: PKP | K16: =K13-K15 -> 71750000
B17: 2 | C17: PPh 21 dengan tanpa NPWP per bulan | D17: =D16/12 -> 130500 | I17: PPh 21 terutang per tahun | J17: =5%*50000000 -> 2500000
J18: =15%*21750000 -> 3262500
J19: =SUM(J17:J18) -> 5762500
I20: PPh 21 terutang per bulan | J20: 480000
I22: Istri
I23: Gaji per bulan | K23: 6000000
I24: Gaji bruto per tahun | K24: =12*K23 -> 72000000
H25: Dikurangi
I26: Biaya jabatan (5%) | K26: =5%*K24 -> 3600000
I27: Gaji neto per tahun | K27: =K24-K26 -> 68400000
I28: PTKP
I29: WP pribadi | K29: ='Tarif Pajak'!B13 -> 54000000
I30: PKP | K30: =K27-K29 -> 14400000
I31: PPh 21 terutang istri per tahun | J31: =5%*K30 -> 720000
I32: PPh 21 perbulan | J32: =J31/12 -> 60000
H33: *Note: tidak terdapat kurang pajak yang harus diangsur (PPh 25) pd thn pajak brktnya.
G35: 2 | H35: Jika terdapat 2 NPWP (Perhitugan PPh 21 dengan menggabungkan penghasilan suami dan istri).
I36: Gaji suami | K36: 12000000
I37: Gaji istri | K37: 6000000
I38: Uang transport | K38: 500000
I39: Gaji bruto sebulan | K39: =SUM(K36:K38) -> 18500000
I40: Gaji bruto setahun | K40: =K39*12 -> 222000000
H41: Dikurangi
I42: Biaya jabatan (5%) | J42: 6000000
...

Sheet Contoh Soal
A1: Aldo adalah pegawai baru PT.DELMAN terhitung bulan Juni 2017. Gaji Aldo per bulan sebesar Rp 8.000.000,-, selain itu ia masih menerima tunjangan keselamatan kerja sebesar Rp 500.000/bulan, membayar iuran jaminan hari tua Rp 150.000/bulan. Aldo belum menikah. Hitunglah PPh 21 terutang Aldo pd tahun 2017!
A2: Diketahui :
A3: Masa kerja tahun 2017 | B3: Juni s.d Desember | D3: 7 bulan
A5: Penyelesaian Soal
A6: Gaji Aldo 1 bulan | C6: 8000000
A7: Tunjangan KK | C7: 500000
A8: Gaji bruto 1 bulan | C8: =C6+C7 -> 8500000 | G8: Tidak perlu lagi dijadikan tahun
A9: Dikurangi
A10: Biaya jabatan (5%) | B10: =5%*C8 -> 425000 | G10: Tidak perlu dijadikan tahun
A11: Iuran jaminan hari tua | B11: 150000
C12: =B10+B11 -> 575000
A13: Gaji neto sebulan | C13: =C8-C12 -> 7925000
A14: Gaji neto setahun | C14: =C13*7 -> 55475000 | D14: → Besar gaji per tahun yakni gaji per bulan dikali masa kerja
A15: PTKP | D15: =C13 -> 7925000 | E15: 7 | F15: =D15*7 -> 55475000
A16: WP | C16: ='Tarif Pajak'!B13 -> 54000000
A17: PKP | C17: =C14-C16 -> 1475000
A18: PPh 21
A19: 0.05 | B19: =C17 -> 1475000 | C19: =A19*B19 -> 73750
A20: PPh 21 terutang per bln | C20: =C19/7 -> 10535.714
A21: PPh terutang per bulan | C21: 10000
