Workbook

Sheet beban-reksi tumpuan-Mmax
B2: SOAL : | E2: P
G3: Wd (sudah termasuk berat sendiri balok)
G4: Wl
B5: A | G5: B
B7: RA | G7: RB
C9: 4 | F9: 1
B11: Data-data :
B12: L = | C12: =C9+E9+F9 -> 5 | D12: m
F13: P1 dan P2 adalah beban mati terpusat
B14: P= | C14: 8 | D14: ton
B15: Wd= | C15: 4 | D15: t/m' | E15: Wd dan Wl adalah dari beban mati dan beban hidup plat lantai
B16: Wl= | C16: 2 | D16: t/m'
B17: fc = | C17: 25 | D17: Mpa
B18: fy = | C18: 400 | D18: Mpa | F18: Bj Beton = | G18: 2400 | H18: kg/m3
B19: φ = | C19: 0.8 | G19: =G18/100 -> 24 | H19: KN/m3
B20: d' = | C20: 50 | D20: mm
B23: Hitung : | C23: 1. Momen ultimite max
C24: 2. Dimensi dan Penulangan balok
C25: 3. Gambar penulangan
B27: Penyelesaian
B28: 1. Dimensi Balok
B29: h = | C29: (1/8 s.d 1/16) L | F29: b = | G29: ( 1/2 s.d 2/3 ) h
B30: h = | C30: 0.8 | D30: m | F30: b = | G30: 0.3 | H30: m
B31: h = | C31: =C30*1000 -> 800 | D31: mm | F31: b = | G31: =G30*1000 -> 300 | H31: mm
B33: berat sendiri balok = | D33: b x h x Bj beton | M33: Pu
B34: Wbs balok = | D34: =G30*C30*G18 -> 576 | E34: kg/m' | F34: tidak perlu dihitung | O34: Wu
D35: =D34/1000 -> 0.576 | E35: ton/m'
J36: A | O36: B
B37: 2. Pembebanan Balok ( Wu )
C38: Wu = | D38: 1,2 Wd + 1,6 Wl | G38: Wu = | H38: =1.2*C15+1.6*C16 -> 8 | I38: ton/m | J38: RA | O38: RB
C39: Pu= | D39: 1,2 x P | G39: Pu = | H39: =1.2*C14 -> 9.6 | I39: ton
K40: 4 | N40: 1
B42: 3. Reaksi Tumpuan | I42: Gambar Bidang gaya Lintang (Bidang D)
B43: a. | C43: Σ M B = 0
C44: RA . 5 -(Wu . 5. 2,5) - (Pu . 1) = 0 | H44: =D45 -> 21.92 | K44: (4-x)
C45: RA = | D45: =(H38*C12*0.5*C12+H39*N40)/C12 -> 21.92 | E45: ton
H46: A | M46: B
C47: Σ M A = 0 | K47: =D45-H38*C9 -> -10.08
C48: -RB . 5 +(Wu . 5 . 2,5) + (Pu. 4) = 0 | I48: x
C49: RB = | D49: =(H38*C12*0.5*C12+H39*K40)/C12 -> 27.68 | E49: ton | K49: =K47-H39 -> -19.68
M50: =K49-H38*F9 -> -27.68
C51: Kontrol
C52: RA + RB = (Wu* L) + Pu
C53: =D45+D49 -> 49.6 | D53: = | E53: =H38*C12+H39 -> 49.6 | I53: 4 | L53: 1
B55: 4. Momen Maximum terjadi sejauh x | J55: Mencari x
C56: M max = RA . x - 0,5*Wu*x^2 | J56: x/21,92 = (4-x)/10,08
J57: 10,08.x | K57: = | L57: =H44*I53 -> 87.68 | M57: -21,92.x
C58: M max = | D58: =D45*K59-0.5*H38*K59^2 -> 30.0304 | E58: ton.m | J58: 32.x | K58: = | L58: 87.68
C59: atau | D59: =D58*1000 -> 30030.4 | E59: kg.m | G59: 1 kg = | H59: 10 | I59: N | J59: x = | K59: =L58/32 -> 2.74 | L59: m
C60: atau | D60: =D59*H59 -> 300304 | E60: N.m
C61: atau | D61: =D60*1000 -> 300304000 | E61: N.mm
C62: atau | D62: =D61 -> 300304000 | E62: N.mm
B64: 5. Syarat2 Batas
C65: rmin = | D65: 1,4 / fy
C66: rmin = | D66: =1.4/C18 -> 0.0035
C68: fc = | D68: 25 | E68: Mpa | G68: β1= 0.85 – ((fc’ – 30)/7)0.05
C69: fc > 30 Mpa
C71: Kalau fc' < atau = 30 , maka β1 = 0,85 | F71: β1 = | G71: 0.85
C77: r b= | D77: =0.85*C17*G71/C18*(600/(600+C18)) -> 0.02709375
C78: r max= | D78: 0,5 * rb
C79: r max= | D79: =0.5*D77 -> 0.013546875
C81: syarat ==> | D81: rmin < r < rmax
C83: =D66 -> 0.0035 | D83: < r < | E83: =D79 -> 0.013546875

Sheet Penulangan
B2: ANALISA PENULANGAN BALOK
B4: Data :
B5: h = | C5: ='beban-reksi tumpuan-Mmax'!C31 -> 800 | D5: mm
B6: b = | C6: ='beban-reksi tumpuan-Mmax'!G31 -> 300 | D6: mm
B7: d' = | C7: ='beban-reksi tumpuan-Mmax'!C20 -> 50 | D7: mm
B8: d = h-d'= | C8: =C5-C7 -> 750 | D8: mm
B9: f = | C9: ='beban-reksi tumpuan-Mmax'!C19 -> 0.8
B10: fc = | C10: ='beban-reksi tumpuan-Mmax'!C17 -> 25 | D10: MPa
B11: fy= | C11: ='beban-reksi tumpuan-Mmax'!C18 -> 400 | D11: MPa
B12: rmin = | C12: ='beban-reksi tumpuan-Mmax'!D66 -> 0.0035 | F12: s= ( b - (2p+2 f skg + nf TP))/(n-1)
B13: r max= | C13: ='beban-reksi tumpuan-Mmax'!D79 -> 0.013546875
B14: p = | C14: 25 | D14: mm (selimut beton) | F14: Syarat : | G14: rmin < r < rmax
B15: f sengkang= | C15: 8 | D15: mm | F15: rmin < | G15: r | H15: < rmax
F17: =C12 -> 0.0035 | G17: =G25 -> 0.01112237 | H17: =C13 -> 0.013546875
B18: TABEL PENULANGAN
B20: BALOK | C20: Mu | D20: Mn= | E20: Rn = | F20: m= | G20: r= | H20: Tulangan Tarik | N20: Tulangan Tekan | T20: Gambar
D21: Mu/f | E21: Mn/(b.d^2) | F21: fy/(0,85.fc) | G21: 1/m (1- (1-(2mRn)/fy)^(1/2) | H21: As = r . b.d | I21: Dipakai Tul | K21: At= | L21: At > As | M21: Kontrol S = | N21: As' = | O21: Dipakai Tul | Q21: At'= | R21: At' > As' | S21: Kontrol S =
I22: n | J22: f | M22: s > = 25 mm | N22: 0,5 * As | O22: n | P22: f | S22: s > = 25 mm
C23: (N.mm) | D23: (N.mm) | E23: (N/mm^2) | H23: (mm^2) | I23: (bh) | K23: (mm^2) | L23: (+) | M23: (mm) | N23: (mm^2) | O23: (bh) | Q23: (mm^2) | R23: (+) | S23: (mm)
B25: Balok A-B | C25: ='beban-reksi tumpuan-Mmax'!D61 -> 300304000 | D25: =C25/C9 -> 375380000 | E25: =D25/(C6*C8^2) -> 2.2244741 | F25: =C11/(0.85*C10) -> 18.823529 | G25: =G29*H29 -> 0.01112237 | H25: =G25*C6*C8 -> 2502.5333 | I25: 2 | J25: 25 | K25: =0.25*3.14*J25^2*I25+0.25*3.15*J26^2*I26 -> 2950 | L25: =K25-H25 -> 447.46667 | M25: =($C$6-(2*$C$14+2*$C$15+I25*J25))/(I25-1) -> 184 | N25: =0.5*H25 -> 1251.2667 | O25: 3 | P25: 25 | Q25: =0.25*3.14*P25^2*O25+0.25*3.15*P26^2*O26 -> 1471.875 | R25: =Q25-N25 -> 220.60833 | S25: =($C$6-(2*$C$14+2*$C$15+O25*P25))/(O25-1) -> 79.5
B26: L= 4,00 m | I26: 4 | J26: 25 | M26: =($C$6-(2*$C$14+2*$C$15+I26*J26))/(I26-1) -> 44.666667
G29: =1/F25 -> 0.053125 | H29: =1-(1-2*F25*E25/C11)^(1/1) -> 0.20936227

Sheet Sheet3
