Workbook

Sheet Halaman Awal
K3: Kode Sheet | L3: Keterangan
K4: 1.1 | L4: Transaksi
K5: 2.1 | L5: Jurnal umum
K6: 3.1 | L6: Jurnal khusus
K7: 4.1 | L7: Buku besar harta
K8: 4.2 | L8: Buku besar utang
K9: 4.3 | L9: Buku besar modal
A10: KLIK GAMBAR BERIKUT UNTUK MENGISI | K10: 4.4 | L10: Buku besar pendapatan
A11: BUKU BESAR | K11: 4.5 | L11: Buku besar beban
K13: Nama mahasiswa | M13: : …………………..
K14: Kelas | M14: : …………………..
K15: Semester | M15: : …………………..
K16: Waktu penyelesaian siklus | M16: : …………………..

Sheet 1.1
A3: Transaksi 1
A4: Toko "EDI"
A7: NOTA KONTAN
A8: Nama cutomer | B8: : Salon SIDA | C8: Tanggal | D8: : 3/12/2017
A9: Alamat | B9: : Pucakwangi | C9: Nomor | D9: : 001
A11: Jumlah barang | B11: Deskripsi barang/jasa | C11: Harga per unit | D11: Total harga
A12: 1 | B12: Cermin | C12: 100000 | D12: =A12*C12 -> 100000
A13: 1 | B13: meja kursi cukur | C13: 200000 | D13: =A13*C13 -> 200000
A14: 1 | B14: Gunting elektrik | C14: 250000 | D14: =A14*C14 -> 250000
A15: 1 | B15: Gunting tangan | C15: 70000 | D15: =A15*C15 -> 70000
A16: 1 | B16: Peralatan lain | C16: 100000 | D16: =A16*C16 -> 100000
A17: Total pembelian | D17: =SUM(D12:D16) -> 720000
A18: Total pembelian
A19: Pajak pertambahan nilai | C19: 0
A20: Asuransi | C20: 0
A21: Total bayar | C21: =D17 -> 720000
C22: Bagian penjualan
C23: Andi
A24: Transaksi 2
A25: Toko "EDI"
A28: NOTA KONTAN
A29: Nama cutomer | B29: : Salon SIDA | C29: Tanggal | D29: : 4/12/2017
A30: Alamat | B30: : Pucakwangi | C30: Nomor | D30: : 001
A32: Jumlah barang | B32: Deskripsi barang/jasa | C32: Harga per unit | D32: Total harga
A33: 1 | B33: Perlengkapan salon | C33: 100000 | D33: =A33*C33 -> 100000
A34: Total pembelian | D34: =SUM(D33:D33) -> 100000
A35: Total pembelian
A36: Pajak pertambahan nilai | C36: 0
A37: Asuransi | C37: 0
A38: Total bayar | C38: =D34 -> 100000
C39: Bagian penjualan
C40: Andi
A42: Transaksi 3
A43: SALON "SIDA"
A46: BUKTI KAS MASUK
A48: No. Bukti | B48: BKM-001
A49: Tanggal | B49: 43020
A50: Diterima dari | B50: Kasir
A51: Banyaknya uang | B51: Sembilan ratus lima puluh ribu rupiah
B52: 950000
A53: Rincian pemasukan | B53: Pendapatan salon dari tanggal 4/12/2017 – 10/12/2017
A54: Jumlah barang | B54: Deskripsi barang/jasa | C54: Harga per unit | D54: Total harga
B55: Pendapatan salon | D55: =B52 -> 950000
A57: Total kas masuk | D57: =SUM(D55:D56) -> 950000
A59: Keterangan | B59: : .....................................................................................................................
A61: Disetujui oleh, | B61: Diketahui oleh, | D61: Dibukukan oleh,
A64: Redi | B64: Habib | D64: Sahid
A65: General manajer | B65: Bagian keuangan | D65: Bagian pembukuan
A67: Transaksi 4
A68: Toko "EDI"
A71: NOTA KONTAN
A72: Nama cutomer | B72: : Salon SIDA | C72: Tanggal | D72: : 12/12/2017
A73: Alamat | B73: : Pucakwangi | C73: Nomor | D73: : 002
A75: Jumlah barang | B75: Deskripsi barang/jasa | C75: Harga per unit | D75: Total harga
A76: 1 | B76: meja kursi cukur Rp. 200.000 | C76: 200000 | D76: =A76*C76 -> 200000
A77: 1 | B77: Gunting elektrik Rp. 250.000 | C77: 250000 | D77: =A77*C77 -> 250000
A78: 1 | B78: Gunting tangan Rp.70.000 | C78: 70000 | D78: =A78*C78 -> 70000
A79: 1 | B79: Peralatan lain Rp.100.000 | C79: 100000 | D79: =A79*C79 -> 100000
A80: Total pembelian | D80: =SUM(D76:D79) -> 620000
A81: Total pembelian
A82: Pajak pertambahan nilai | C82: 0
A83: Asuransi | C83: 0
A84: Total bayar | C84: =D80 -> 620000
C85: Bagian penjualan
C86: Andi
A88: Transaksi 5
A89: SALON "SIDA"
A92: BUKTI KAS MASUK
A94: No. Bukti | B94: BKM-002
A95: Tanggal | B95: 20/12/2017
A96: Diterima dari | B96: Kasir
A97: Banyaknya uang | B97: Satu juta sembilan ratus lima puluh ribu rupiah
B98: 1950000
A99: Rincian pemasukan | B99: Pendapatan salon dari tanggal 11/12/2017 – 20/12/2017
A100: Jumlah barang | B100: Deskripsi barang/jasa | C100: Harga per unit | D100: Total harga
B101: Pendapatan salon | D101: =B98 -> 1950000
A103: Total kas masuk | D103: =SUM(D101:D102) -> 1950000
A105: Keterangan | B105: : .....................................................................................................................
A107: Disetujui oleh, | B107: Diketahui oleh, | D107: Dibukukan oleh,
A110: Redi | B110: Habib | D110: Sahid
A111: General manajer | B111: Bagian keuangan | D111: Bagian pembukuan
A114: Transaksi 6
A115: SALON "SIDA"
A118: BUKTI KAS KELUAR
A120: No. Bukti | B120: BKK-001
A121: Tanggal | B121: 23/12/2017
A122: Digunakan untuk | B122: Kantor pos
A123: Banyaknya uang | B123: Seratus ribu rupiah
B124: 100000
A125: Rincian pengeluaran | B125: Pembelian token listrik
A126: Jumlah barang | B126: Deskripsi barang/jasa | C126: Harga per unit | D126: Total harga
B127: Token listrik | D127: =B124 -> 100000
A129: Total kas masuk | D129: =SUM(D127:D128) -> 100000
A131: Keterangan | B131: : .....................................................................................................................
A133: Disetujui oleh, | B133: Diketahui oleh, | D133: Dibukukan oleh,
A136: Redi | B136: Habib | D136: Sahid
A137: General manajer | B137: Bagian keuangan | D137: Bagian pembukuan
A139: Transaksi 7
A140: SALON "SIDA"
A143: BUKTI KAS KELUAR
...

Sheet 2.1
A1: LEMBAR KERJA SISWA
D2: : ...................................................
D3: : ...................................................
D4: : ...................................................
A6: REFERENSI
A7: Nama Perusahaan | D7: : ................
A8: Jurnal Umum (JU) Halaman | D8: : 1
A11: JURNAL UMUM
A13: Tanggal | B13: Nomor bukti | C13: Keterangan | D13: Ref | E13: D | F13: K
E48: =SUM(E15:E47) -> 0 | F48: =SUM(F15:F47) -> 0
A49: REFERENSI
A50: Nama Perusahaan | D50: : ................
A51: Jurnal Penyesuaian (JPe) Halaman | D51: : 1
A52: JURNAL PENYESUAIAN
A53: Tanggal | D53: Ref | E53: D | F53: K
A59: REFERENSI
A60: Nama Perusahaan | D60: : ................
A61: Jurnal Penyesuaian (JPen) Halaman | D61: : 1
A62: JURNAL PENUTUP
A63: Tanggal | D63: Ref | E63: D | F63: K

Sheet 3.1
A3: JURNAL PENERIMAAN KAS | J3: JURNAL PENGELUARAN KAS | S3: JURNAL KHUSUS PENJUALAN | AA3: JURNAL KHUSUS PEMBELIAN
F4: JK. Kas Masuk | H4: Hal : | O4: JK. Kas Keluar | Q4: Hal : | S4: Jpen. Hal : | AA4: JP. Hal :
A5: Tgl | B5: No Bukti | C5: Keterangan | D5: D | F5: K | J5: Tgl | K5: No Bukti | L5: Keterangan | M5: D | P5: K | S5: Tgl | T5: No. Faktur | U5: Akun yang di debit (Nama customer) | V5: D | W5: K | AA5: Tgl | AB5: No. Faktur | AC5: Akun yang di debit (Nama Suplayer) | AD5: D | AG5: K
D6: Kas | E6: Potongan | F6: Piutang | G6: Penjualan | H6: Serba serbi | M6: Utang | N6: Pembelian | O6: Serba serbi | P6: Kas | Q6: Potongan | V6: Piutang | W6: Perkiraan (Nama Akun) | X6: Ref | Y6: Nominal | AD6: Perkiraan (Nama Akun) | AE6: Ref | AF6: Nominal | AG6: Utang

Sheet 4.1
A3: BUKU BESAR
A4: Nama akun | B4: : Kas | D4: Nomor akun | E4: : 1.1
A5: Tanggal | B5: Keterangan | C5: Ref | D5: Debit | E5: Kredit | F5: Saldo
F6: Debit | G6: Kredit
A21: BUKU BESAR
A22: Nama akun | B22: : Komputer | D22: Nomor akun | E22: : 1.2
A23: Tanggal | B23: Keterangan | C23: Ref | D23: Debit | E23: Kredit | F23: Saldo
F24: Debit | G24: Kredit
A28: BUKU BESAR
A29: Nama akun | B29: : Meja dan bilik komputer | D29: Nomor akun | E29: : 1.3
A30: Tanggal | B30: Keterangan | C30: Ref | D30: Debit | E30: Kredit | F30: Saldo
F31: Debit | G31: Kredit
A35: BUKU BESAR
A36: Nama akun | B36: : Printer | D36: Nomor akun | E36: : 1.4
A37: Tanggal | B37: Keterangan | C37: Ref | D37: Debit | E37: Kredit | F37: Saldo
F38: Debit | G38: Kredit
C39: JU.hal 1 | D39: ='2.1'!E21 -> 0 | F39: =D39 -> 0
A41: BUKU BESAR
A42: Nama akun | B42: : Scaner | D42: Nomor akun | E42: : 1.5
A43: Tanggal | B43: Keterangan | C43: Ref | D43: Debit | E43: Kredit | F43: Saldo
F44: Debit | G44: Kredit
D45: ='2.1'!E22 -> 0 | F45: =D45 -> 0
A47: BUKU BESAR
A48: Nama akun | B48: : Almari etalase | D48: Nomor akun | E48: : 1.6
A49: Tanggal | B49: Keterangan | C49: Ref | D49: Debit | E49: Kredit | F49: Saldo
F50: Debit | G50: Kredit
D51: ='2.1'!E23 -> 0 | F51: =D51 -> 0
A53: BUKU BESAR
A54: Nama akun | B54: : Akses internet | D54: Nomor akun | E54: : 1.7
A55: Tanggal | B55: Keterangan | C55: Ref | D55: Debit | E55: Kredit | F55: Saldo
F56: Debit | G56: Kredit
D57: ='2.1'!E24 -> 0 | F57: =D57 -> 0
A59: BUKU BESAR
A60: Nama akun | B60: : Perlengkapan | D60: Nomor akun | E60: : 1.8
A61: Tanggal | B61: Keterangan | C61: Ref | D61: Debit | E61: Kredit | F61: Saldo
F62: Debit | G62: Kredit

Sheet 4.2
A3: BUKU BESAR
A4: Nama akun | B4: : Hutang | D4: Nomor akun | E4: : 2.1
A5: Tanggal | B5: Keterangan | C5: Ref | D5: Debit | E5: Kredit | F5: Saldo
F6: Debit | G6: Kredit

Sheet 4.3
A3: BUKU BESAR
A4: Nama akun | B4: : Modal | D4: Nomor akun | E4: : 3.1
A5: Tanggal | B5: Keterangan | C5: Ref | D5: Debit | E5: Kredit | F5: Saldo
F6: Debit | G6: Kredit

Sheet 4.4
A3: BUKU BESAR
A4: Nama akun | B4: : Pendapatan | D4: Nomor akun | E4: : 4.1
A5: Tanggal | B5: Keterangan | C5: Ref | D5: Debit | E5: Kredit | F5: Saldo
F6: Debit | G6: Kredit

Sheet 4.5
A3: BUKU BESAR
A4: Nama akun | B4: : Beban listrik | D4: Nomor akun | E4: : 5.1
A5: Tanggal | B5: Keterangan | C5: Ref | D5: Debit | E5: Kredit | F5: Saldo
F6: Debit | G6: Kredit
A10: BUKU BESAR
A11: Nama akun | B11: : Beban internet | D11: Nomor akun | E11: : 5.2
A12: Tanggal | B12: Keterangan | C12: Ref | D12: Debit | E12: Kredit | F12: Saldo
F13: Debit | G13: Kredit
A17: BUKU BESAR
A18: Nama akun | B18: : Beban bunga | D18: Nomor akun | E18: : 5.3
A19: Tanggal | B19: Keterangan | C19: Ref | D19: Debit | E19: Kredit | F19: Saldo
F20: Debit | G20: Kredit
A24: BUKU BESAR
A25: Nama akun | B25: : Beban gaji | D25: Nomor akun | E25: : 5.4
A26: Tanggal | B26: Keterangan | C26: Ref | D26: Debit | E26: Kredit | F26: Saldo
F27: Debit | G27: Kredit
A31: BUKU BESAR
A32: Nama akun | B32: : Beban lain-lain | D32: Nomor akun | E32: : 5.5
A33: Tanggal | B33: Keterangan | C33: Ref | D33: Debit | E33: Kredit | F33: Saldo
F34: Debit | G34: Kredit
B35: Modifikasi garasi | D35: ='2.1'!E17 -> 0 | F35: =D35 -> 0
A38: BUKU BESAR
A39: Nama akun | B39: : Beban perlengkapan | D39: Nomor akun | E39: : 5.6
A40: Tanggal | B40: Keterangan | C40: Ref | D40: Debit | E40: Kredit | F40: Saldo
F41: Debit | G41: Kredit

Sheet 5.1
A1: Salon SIDA
A2: Kertas Kerja
A3: Periode 31 Desember 2017
A5: Nomor Akun | B5: Nama Akun | C5: Neraca saldo | E5: Penyesuaian | G5: Neraca saldo setelah penyesuaian | I5: Laporan laba rugi | K5: Neraca
C6: D | D6: K | E6: D | F6: K | G6: D | H6: K | I6: D | J6: K | K6: D | L6: K
C7: 1 | D7: 2 | E7: 3 | F7: 4 | G7: 5 | H7: 6 | I7: 7 | J7: 8 | K7: 11 | L7: 12
A8: 1.1 | B8: Kas
A9: 1.2 | B9: Komputer
A10: 1.3 | B10: Meja dan bilik komputer
A11: 1.4 | B11: Printer
A12: 1.5 | B12: Scaner
A13: 1.6 | B13: Almari etalase
A14: 1.7 | B14: Akses internet
A15: 1.8 | B15: Perlengkapan
A16: 2.1 | B16: Hutang
A17: 3.1 | B17: Modal David
A18: 3.2 | B18: Prive
A19: 4.1 | B19: Pendapatan
... A25: 5.7 | B25: Beban perlengkapan
A27: Laba bersih | I27: =J26-I26 -> 0 | L27: =K28-L26 -> 0
I28: =I26+I27 -> 0 | J28: =J26 -> 0 | K28: =K26 -> 0 | L28: =L26+L27 -> 0

Sheet 6.1
A1: NERACA SALON SIDA
A2: Per 31 Desember 2017
A4: Nomor Akun | B4: Nama Akun | C4: Neraca saldo
C5: D | D5: K
C6: 1 | D6: 2
A7: 1-000 | B7: Harta
A9: 2-000 | B9: Utang
A12: 3-000 | B12: Modal

Sheet 6.2
A1: LAPORAN LABA RUGI
A2: PERUSAHAAN……. Per 31 DESEMBER 2018
A4: Pendapatan
A5: Pendapatan rental
A7: Total pendapatan | C7: =SUM(B5:B6) -> 0
A9: Beban
A10: Beban listrik
A12: Total Beban | C12: =SUM(B10:B11) -> 0 | D12: -
A13: Laba/Rugi sebelum pajak | C13: =C7+C12 -> 0
A14: Pajak penghasilan | C14: 0
A15: Laba/Rugi setelah pajak | D15: =C13-C14 -> 0

Sheet 6.3
A1: LAPORAN PERUBAHAN MODAL
A2: Per 31 Desember 2017
A4: Modal awal | B4: 16050000
A5: Prive | B5: 0
C6: =B4-B5 -> 16050000
A7: Laba | C7: 2050000
A8: Modal Akhir | D8: =C6+C7 -> 18100000

Sheet 6.4
