Workbook

Sheet Data base
B1: Metode | C1: Tugas | D1: Alat | E1: Bahan | F1: SKS (menit) | J1: Sikap | K1: Keterampilan umum | L1: Keterampilan khusus | M1: Pengetahuan
A2: Mengingat | B2: Ceramah | C2: Terstruktur individu | D2: Pensil, kertas, penggaris | E2: Lembar soal | F2: TM (tatap muka) | G2: TT (tugas terstruktur) | H2: TM (Tugas mandiri) | L2: Mengaplikasikan IPTEKS dalam menyelesaikan masalah prosedural. | M2: Menguasai konsep teoritis bidang pengetahuan tertentu secara umum dan konsep teoritis bagian khusus dalam bidang pengetahuan tersebut secara mendalam, serta mampu memformulasikan penyelesaian masalah prosedural.
A3: Mengenal | B3: Tanya jawab | C3: Terstruktur kelompok | D3: Pensil, kertas, penggaris dan alat hitung | E3: Contoh kasus | F3: 100 | G3: 100 | H3: 150 | L3: Mengkaji IPTEKS dalam menyelesaikan masalah prosedural.
A4: Mengingat kembali | B4: Diskusi | C4: Tidak terstruktur individu | D4: Personal komputer dan MYOB accounting | E4: Material lain | F4: 150 | G4: 100 | H4: 150 | L4: Membuat desain IPTEKS dalam menyelesaikan masalah prosedural.
A5: Mengidentifikasi | B5: Penugasan | C5: Tidak terstruktur kelompok | D5: Personal komputer dan Microsoft office power point | L5: Manfaatkan IPTEKS dalam menyelesaikan masalah prosedural.
A6: Mendefinisikan | B6: Demonstrasi | D6: Personal komputer dan Microsoft office exell
A7: Menyebutkan | B7: Simulasi | D7: Personal komputer dan Microsoft office word
A8: Menentukan | B8: Praktikum
A9: Menemukan
A10: Mengetahui proses
A11: Mencocokkan
A12: Menghilangkan
A13: Mengaitkan
A14: Menunjukkan
A15: Mengeja
A16: Menyampaikan alasan
A17: Menyeleksi
A18: Memberi label
A19: Memberi nama
A20: Mengutip
... A203: Mengarahkan

Sheet Home

Sheet RPS
D1: FORMULIR | K1: No.Dokumen | L1: : FM-02-AKD-1516
D2: RPS | K2: No. Revisi | L2: : -
K3: Tanggal Berlaku | L3: : 01/03/2016
K4: Halaman | L4: : 1 dari 2
B5: UNIVERSITAS PGRI SEMARANG
B7: RENCANA PERKULIAHAN SEMESTER (RPS)
B9: Fakultas/Prodi | E9: FPIPSKR/ Pendidikan Ekonomi
B10: Mata Kuliah | E10: Perencanaan Pembelajaran
B11: Kode Mata Kuliah | E11: 2216320548
B12: Semester | E12: 5
B13: SKS | E13: 2
B14: Deskripsi Mata Kuliah | E14: Interaksi antara siswa dengan guru, siswa dengan siswa dan siswa dengan lingkungan pembelajaran dipengaruhi oleh berbagai faktor. Kurangnya perhatian terhadap berbagai faktor tersebut akan membawa dampak pada penurunan efisiensi dan efektivitas sumberdaya sehingga tujuan pembelajaran tidak tercapai secara optimal. Salah satu cara yang dapat digunakan oleh guru (desainer instruksional) untuk mengatasi permasalahan tersebut adalah membuat desain instruksional atau perencanaan pembelajaran. Mata kuliah desain instruksional ini berisi pengetahuan mengenai (1) Melakukan pemeriksaan terhadap situasi pembelajaran yaitu, melakukan analisis terhadap kebutuhan, tugas dan siswa yang terlibat dalam pembelajaran, (2) Membuat perencanaan yang dibagi menjadi 4 proses yaitu, perencanaan, merancang dan menerapkan intervensi, (3) melakukan evaluasi yaitu menentukan dampak yang ditimbulkan oleh intervensi guru dalam pembelajaran (Brown & Green, 2006). Melalui tiga hal tersebut, mahasiswa diharapkan dapat memiliki kemampuan dalam membuat perencanaan pembelajaran sehingga tujuan pembelajaran dapat tercapai.
B15: Dosen Pengampu | E15: David Firna Setiawan, S.Pd, M.Pd
B16: Capaian pembelajaran | E16: Sikap (sesuai visi misi PT dan Prodi)
E17: Keterampilan umum (sesuai kesepakatan prodi) | G17: Setelah menyelesaikan program perkuliahan, mahasiswa diharapkan memiliki keterampilan dalam, membuat perencanaan pembelajaran secara efektif dan efisien
E18: Keterampilan khusus | G18: Membuat desain IPTEKS dalam menyelesaikan masalah prosedural.
E19: Pengetahuan | G19: Menguasai konsep teoritis bidang pengetahuan tertentu secara umum dan konsep teoritis bagian khusus dalam merencanakan pembelajaran secara mendalam, serta mampu memformulasikan penyelesaian masalah prosedural.
B20: Pengalaman belajar
B21: Pertemuan | C21: Kompetensi dasar | E21: Tujuan pembelajaran | G21: Kriteria ketuntasan | I21: Materi | J21: Metode | K21: Alat yang dibutuhkan siswa | L21: Bahan yang dibutuhkan siswa | M21: Estimasi Waktu (dalam menit) | P21: Komposisi Pengetahuan | Q21: Dimensi berpikir ke
M22: TM* | N22: TT* | O22: BM*
B23: 1 | C23: Mencermati | D23: kontrak kuliah | E23: Mengevaluasi | F23: kontrak kuliah | G23: kontrak kuliah disepakati | I23: =F23 -> kontrak kuliah | J23: Ceramah | K23: Pensil, kertas, penggaris | L23: Material lain | M23: 100 | P23: Mengevaluasi | Q23: 5
B24: 2 | C24: Menerapkan | D24: model desain instruksional untuk mengatasi masalah kesenjangan status sosial ekonomi siswa | E24: Menjelaskan | F24: pengertian desain instruksional | G24: Pengertian desain instruksional dapat dijelaskan | H24: dengan tepat | I24: =F24 -> pengertian desain instruksional | J24: Ceramah | K24: Pensil, kertas, penggaris | L24: Lembar soal | M24: 20 | P24: Memahami | Q24: 2
E25: Menyebutkan | F25: 4 dimensi desain instruksional | G25: 4 dimensi desain instruksional dapat disebutkan | H25: dengan tepat | I25: =F25 -> 4 dimensi desain instruksional | J25: Ceramah | K25: Pensil, kertas, penggaris | L25: Lembar soal | M25: 20 | P25: Mengingat | Q25: 1
E26: Menerapkan | F26: model ADDIE untuk mengatasi masalah kesenjangan status sosial ekonomi siswa | G26: Model ADDIE untuk mengatasi masalah kesenjangan status sosial ekonomi siswa dapat diterapkan | I26: =F26 -> model ADDIE untuk mengatasi masalah kesenjangan status sosial ekonomi siswa | J26: Penugasan | K26: Pensil, kertas, penggaris | L26: Contoh kasus | M26: 60 | P26: Memahami | Q26: 2
B27: 3 | C27: Menghitung | D27: minggu efektif dalam kalender akademik | E27: Menjelaskan | F27: pengertian kalender akademik | G27: Pengertian kalender akademik dapat dijelaskan | I27: =F27 -> pengertian kalender akademik | J27: Ceramah | K27: Pensil, kertas, penggaris | L27: Lembar soal | M27: 10 | P27: Memahami | Q27: 1
E28: Mengenal | F28: karakteristik kalender akademik | G28: Karakteristik kalender akademik dapat dikenal | I28: =F28 -> karakteristik kalender akademik | J28: Ceramah | K28: Pensil, kertas, penggaris | L28: Lembar soal | M28: 10 | P28: Memahami | Q28: 2
E29: Menyimpulkan | F29: fungsi kalender akademik dalam perencanaan pembelajaran | G29: Fungsi kalender akademik dalam perencanaan pembelajaran dapat disimpulkan | I29: =F29 -> fungsi kalender akademik dalam perencanaan pembelajaran | J29: Diskusi | K29: Pensil, kertas, penggaris | L29: Contoh kasus | M29: 10 | P29: Menerapkan | Q29: 3
E30: Menghitung | F30: Jumlah minggu efektif berdasarkan perpektif sekolah | G30: Jumlah minggu efektif berdasarkan perpektif sekolah dapat dihitung | I30: =F30 -> Jumlah minggu efektif berdasarkan perpektif sekolah | J30: Simulasi | K30: Personal komputer dan Microsoft office exell | L30: Contoh kasus | M30: 30 | P30: Menerapkan | Q30: 3
B31: 4 | C31: Mengembangkan | D31: program tahunan (PROTA) | E31: Menjelaskan | F31: pengertian PROTA | G31: pengertian PROTA dapat dijelaskan | I31: =F31 -> pengertian PROTA | J31: Ceramah | K31: Pensil, kertas, penggaris | L31: Lembar soal | M31: 10 | P31: Memahami | Q31: 2
E32: Mengenal | F32: karakteristik PROTA | G32: karakteristik PROTA dapat dikenal | I32: =F32 -> karakteristik PROTA | J32: Ceramah | K32: Pensil, kertas, penggaris | L32: Lembar soal | M32: 10 | P32: Mengingat | Q32: 1
E33: Membuat | F33: PROTA | G33: PROTA dapat dibuat | I33: =F33 -> PROTA | J33: Simulasi | K33: Personal komputer dan Microsoft office exell | L33: Contoh kasus | M33: 80 | P33: Menciptakan | Q33: 6
B34: 5 | C34: Mengembangkan | D34: program semester (PROMES) | E34: Menjelaskan | F34: pengertian PROMES | G34: Pengertian PROMES dapat dijelaskan | I34: =F34 -> pengertian PROMES | J34: Ceramah | K34: Pensil, kertas, penggaris | L34: Lembar soal | M34: 10 | P34: Memahami | Q34: 2
E35: Mengenal | F35: karakteristik PROMES | G35: Karakteristik PROMES dapat dikenal | I35: =F35 -> karakteristik PROMES | J35: Ceramah | K35: Pensil, kertas, penggaris | L35: Lembar soal | M35: 10 | P35: Mengingat | Q35: 1
E36: Mengembangkan | F36: konten pembelajaran dalam PROMES | G36: konten pembelajaran dalam PROMES dapat dikembangkan | I36: =F36 -> konten pembelajaran dalam PROMES | J36: Ceramah | K36: Pensil, kertas, penggaris dan alat hitung | L36: Lembar soal | M36: 10 | P36: Menganalisis | Q36: 4
E37: Membuat | F37: PROMES | G37: PROMES dapat dibuat | I37: =F37 -> PROMES | J37: Simulasi | K37: Personal komputer dan Microsoft office exell | L37: Contoh kasus | M37: 70 | N37: 100 | P37: Menciptakan | Q37: 6
B38: 6 | C38: Mengembangkan | D38: rencana pelaksanaan pembelajaran (RPP) | E38: Menjelaskan | F38: pengertian RPP | G38: Pengertian RPP dapat dijelaskan | I38: =F38 -> pengertian RPP | J38: Ceramah | K38: Pensil, kertas, penggaris | L38: Lembar soal | M38: 10 | P38: Memahami | Q38: 2
E39: Mengenal | F39: karakteristik RPP | G39: Karakteristik RPP dapat dikenal | I39: =F39 -> karakteristik RPP | J39: Ceramah | K39: Pensil, kertas, penggaris | L39: Lembar soal | M39: 10 | P39: Mengingat | Q39: 1
E40: Membuat | F40: RPP | G40: RPP dapat dibuat | I40: =F40 -> RPP | J40: Simulasi | K40: Personal komputer dan Microsoft office word | L40: Contoh kasus | M40: 80 | N40: 100 | P40: Menciptakan | Q40: 6
B41: 7 | C41: Menentukan | D41: alat, bahan dan informasi yang dibutuhkan siswa dalam pembelajaran | E41: Menjelaskan | F41: pengertian analisis kebutuhan | G41: Pengertian analisis kebutuhan dapat dijelaskan | I41: =F41 -> pengertian analisis kebutuhan | J41: Ceramah | K41: Pensil, kertas, penggaris | L41: Lembar soal | M41: 10 | P41: Memahami | Q41: 2
E42: Menerapkan | F42: analisis kebutuhan dalam pembelajaran menurut Mager | G42: Analisis kebutuhan dalam pembelajaran menurut Mager dapat diterapkan | I42: =F42 -> analisis kebutuhan dalam pembelajaran menurut Mager | J42: Ceramah | K42: Pensil, kertas, penggaris | L42: Lembar soal | M42: 30 | P42: Menerapkan | Q42: 3
E43: Menerapkan | F43: analisis kebutuhan dalam pembelajaran menurut Morison dkk | G43: Analisis kebutuhan dalam pembelajaran menurut Morison dkk dapat diterapkan | I43: =F43 -> analisis kebutuhan dalam pembelajaran menurut Morison dkk | J43: Ceramah | K43: Pensil, kertas, penggaris | L43: Lembar soal | M43: 30 | P43: Menerapkan | Q43: 3
E44: Mengkritisi | F44: kesesuaian alat, bahan dan informasi dengan tujuan pembelajaran | G44: Kesesuaian alat, bahan dan informasi dengan tujuan pembelajaran dapat dikritisi | I44: =F44 -> kesesuaian alat, bahan dan informasi dengan tujuan pembelajaran | J44: Penugasan | K44: Pensil, kertas, penggaris | L44: Contoh kasus | M44: 10 | P44: Mengevaluasi | Q44: 5
B45: 8 | D45: Ujian tengah semester (UTS) | E45: Membuat | F45: program dan perencanaan pembelajaran | G45: Program dan perencanaan pembelajaran untuk 1 kompetensi dasardapat dibuat dalam sesuai template yang telah disediakan | I45: =D45 -> Ujian tengah semester (UTS) | J45: Penugasan | K45: Pensil, kertas, penggaris | L45: Lembar soal
B46: 9 | C46: Mengembangkan | D46: modul pembelajaran | E46: Menjelaskan | F46: pengertian modul pembelajaran | G46: Pengertian modul pembelajaran dapat dijelaskan | I46: =F46 -> pengertian modul pembelajaran | J46: Ceramah | K46: Pensil, kertas, penggaris | L46: Lembar soal | M46: 10 | P46: Memahami | Q46: 2
E47: Mengenal | F47: karakteristik modul pembelajaran | G47: Karakteristik modul pembelajaran dapat dikenal | I47: =F47 -> karakteristik modul pembelajaran | J47: Ceramah | K47: Pensil, kertas, penggaris | L47: Lembar soal | M47: 10 | P47: Mengingat | Q47: 2
E48: Membuat | F48: modul pembelajaran | G48: Modul pembelajaran dapat dibuat | I48: =F48 -> modul pembelajaran | J48: Penugasan | K48: Personal komputer dan Microsoft office word | L48: Contoh kasus | M48: 80 | N48: 100 | P48: Menciptakan | Q48: 6
B49: 10 | C49: Menemukan | D49: pemecahan masalah tingginya siswa sebagai penonton dalam pembelajaran | E49: Membedakan | F49: karakteristik siswa sebagai pelaku dan siswa sebagai penonton | G49: Karakteristik siswa sebagai pelaku dan siswa sebagai penonton dapat dibedakan | I49: =F49 -> karakteristik siswa sebagai pelaku dan siswa sebagai penonton | J49: Diskusi | K49: Pensil, kertas, penggaris | L49: Contoh kasus | M49: 20 | P49: Menganalisis | Q49: 4
E50: Mengidentifikasi | F50: faktor-faktor yang menyebabkan siswa menjadi penonton | G50: Faktor-faktor yang menyebabkan siswa menjadi penonton dapat diidentifikasi | I50: =F50 -> faktor-faktor yang menyebabkan siswa menjadi penonton | J50: Diskusi | K50: Pensil, kertas, penggaris | L50: Contoh kasus | M50: 20 | P50: Memahami | Q50: 2
E51: Mengidentifikasi | F51: faktor-faktor yang menyebabkan siswa menjadi pelaku | G51: Faktor-faktor yang menyebabkan siswa menjadi pelaku dapat diidentifikasi | I51: =F51 -> faktor-faktor yang menyebabkan siswa menjadi pelaku | J51: Diskusi | K51: Pensil, kertas, penggaris | L51: Contoh kasus | M51: 20 | P51: Memahami | Q51: 2
E52: Merancang | F52: bentuk aktivitas (tugas) siswa dalam pembelajaran | G52: Bentuk aktivitas (tugas) siswa dalam pembelajaran dapat dirancang | I52: =F52 -> bentuk aktivitas (tugas) siswa dalam pembelajaran | J52: Diskusi | K52: Pensil, kertas, penggaris | L52: Contoh kasus | M52: 40 | P52: Menciptakan | Q52: 6
B53: 11 | C53: Menerapkan | D53: penggunaan kata kerja operasional dalam menulis kompetensi dan tujuan pembelajaran | E53: Membedakan | F53: tujuan dan kompetensi pembelajaran | G53: Tujuan dan kompetensi pembelajaran dapat dibedakan | I53: =F53 -> tujuan dan kompetensi pembelajaran | J53: Diskusi | K53: Pensil, kertas, penggaris | L53: Material lain | M53: 10 | P53: Memahami | Q53: 2
E54: Menetapkan | F54: kerja operasional yang sesuai pada kompetensi pembelajaran | G54: kerja operasional yang sesuai pada kompetensi pembelajaran dapat ditetapkan | I54: =F54 -> kerja operasional yang sesuai pada kompetensi pembelajaran | J54: Demonstrasi | K54: Pensil, kertas, penggaris | L54: Contoh kasus | M54: 30 | P54: Menciptakan | Q54: 6
E55: Menetapkan | F55: kerja operasional yang sesuai pada tujuan pembelajaran | G55: kerja operasional yang sesuai pada tujuan pembelajaran dapat ditetapkan | I55: =F55 -> kerja operasional yang sesuai pada tujuan pembelajaran | J55: Demonstrasi | K55: Pensil, kertas, penggaris | L55: Contoh kasus | M55: 30 | P55: Menciptakan | Q55: 6
E56: Mengkritisi | F56: ketepatan penulisan tujuan pembelajaran dalam sebuah RPP | G56: Ketepatan penulisan tujuan pembelajaran dalam sebuah RPP dapat dikritisi | I56: =F56 -> ketepatan penulisan tujuan pembelajaran dalam sebuah RPP | J56: Diskusi | K56: Pensil, kertas, penggaris | L56: Contoh kasus | M56: 20 | P56: Mengevaluasi | Q56: 5
E57: Mengkaitkan | F57: high order thinking skill (HOTS) dengan kata kerja operasional | G57: High order thinking skill (HOTS) dengan kata kerja operasional dapat dikaitkan | I57: =F57 -> high order thinking skill (HOTS) dengan kata kerja operasional | J57: Ceramah | K57: Pensil, kertas, penggaris | L57: Material lain | M57: 10 | P57: Memahami | Q57: 2
B58: 12 | C58: Mengembangkan | D58: pembelajaran berbasis pengalaman | E58: Menyebutkan | F58: 10 tingkat pengalaman yang digunakan untuk menyelenggarakan pembelajaran | G58: 10 tingkat pengalaman yang digunakan untuk menyelenggarakan pembelajaran dapat disebutkan | I58: =F58 -> 10 tingkat pengalaman yang digunakan untuk menyelenggarakan pembelajaran | J58: Ceramah | K58: Pensil, kertas, penggaris | L58: Lembar soal | M58: 10 | P58: Mengingat | Q58: 1
E59: Mengilustrasikan | F59: contoh pengalaman belajar dari yang paling abstrak hingga yang paling nyata | G59: Contoh pengalaman belajar dari yang paling abstrak hingga yang paling nyata dapat diilustrasikan | I59: =F59 -> contoh pengalaman belajar dari yang paling abstrak hingga yang paling nyata | J59: Diskusi | K59: Pensil, kertas, penggaris | L59: Contoh kasus | M59: 20 | P59: Memahami | Q59: 2
E60: Mengembangkan | F60: desain penyelenggaraan pembelajaran yang memuat pengalaman abstrak hingga yang paling nyata | G60: Desain penyelenggaraan pembelajaran yang memuat pengalaman abstrak hingga yang paling nyata dapat dikembangkan | I60: =F60 -> desain penyelenggaraan pembelajaran yang memuat pengalaman abstrak hingga yang paling nyata | J60: Diskusi | K60: Personal komputer dan Microsoft office power point | L60: Contoh kasus | M60: 70 | P60: Menciptakan | Q60: 6
B61: 13 | C61: Mengembangkan | D61: program dan perencanaan pembelajaran pada kompetensi dasar memahami konsep ilmu ekonomi | E61: Mengevaluasi | F61: program dan perencanaan pembelajaran pada kompetensi dasar memahami konsep ilmu ekonomi | G61: program dan perencanaan pembelajaran pada kompetensi dasar memahami konsep ilmu ekonomi dapat dievaluasi | I61: =F61 -> program dan perencanaan pembelajaran pada kompetensi dasar memahami konsep ilmu ekonomi | J61: Penugasan | K61: Personal komputer dan Microsoft office word | L61: Material lain | M61: 100 | P61: Mengevaluasi | Q61: 5
B62: 14 | C62: Mengembangkan | D62: program dan perencanaan pembelajaran pada kompetensi dasar memahami prinsip ekonomi, | E62: Mengevaluasi | F62: program dan perencanaan pembelajaran pada kompetensi dasar memahami prinsip ekonomi, | G62: program dan perencanaan pembelajaran pada kompetensi dasar memahami prinsip ekonomi dapat dievaluasi | I62: =F62 -> program dan perencanaan pembelajaran pada kompetensi dasar memahami prinsip ekonomi, | J62: Penugasan | K62: Personal komputer dan Microsoft office word | L62: Material lain | M62: 100 | P62: Mengevaluasi | Q62: 5
B63: 15 | C63: Mengembangkan | D63: program dan perencanaan pembelajaran pada kompetensi dasar memahami permasalahan ekonomi, | E63: Mengevaluasi | F63: program dan perencanaan pembelajaran pada kompetensi dasar memahami permasalahan ekonomi, | G63: program dan perencanaan pembelajaran pada kompetensi dasar memahami permasalahan ekonomi dapat dievaluasi | I63: =F63 -> program dan perencanaan pembelajaran pada kompetensi dasar memahami permasalahan ekonomi, | J63: Penugasan | K63: Personal komputer dan Microsoft office word | L63: Material lain | M63: 100 | P63: Mengevaluasi | Q63: 5
B64: 16 | D64: Ujian akhir semester
D66: Komposisi pengetahuan | G66: Keterangan
C67: No | D67: Dimensi berpikir (DP) | E67: Jumlah | G67: *TM | I67: Tatap muka
C68: 1 | D68: Mengingat | E68: =COUNTIF(Q23:Q64,1) -> 6 | G68: *TT | I68: Tugas terstruktur
C69: 2 | D69: Memahami | E69: =COUNTIF(Q23:Q64,2) -> 14 | G69: *BM | I69: Belajar mandiri
C70: 3 | D70: Menerapkan | E70: =COUNTIF(Q23:Q64,3) -> 4
C71: 4 | D71: Menganalisis | E71: =COUNTIF(Q23:Q64,4) -> 2
C72: 5 | D72: Mengevaluasi | E72: =COUNTIF(Q23:Q64,5) -> 6
C73: 6 | D73: Menciptakan | E73: =COUNTIF(Q23:Q64,6) -> 8

Sheet Kontrak kuliah
B1: KONTRAK PERKULIAHAN
B2: SEMESTER GENAP 2018-2019
B4: Program Studi | E4: =RPS!E9 -> FPIPSKR/ Pendidikan Ekonomi
B5: Mata Kuliah | E5: =RPS!E10 -> Perencanaan Pembelajaran
B6: Kode Mata Kuliah | E6: =RPS!E11 -> 2216320548
B7: Dosen Pengampu | E7: David Firna Setiawan, S.Pd, M.Pd.
B8: Jumlah SKS | E8: =RPS!E13 -> 2
B9: Semester | E9: =RPS!E12 -> 5
B11: I. | C11: Deskripsi Mata Kuliah
C12: =RPS!E14 -> Interaksi antara siswa dengan guru, siswa dengan siswa dan siswa dengan lingkungan pembelajaran dipengaruhi oleh berbagai faktor. Kurangnya perhatian terhadap berbagai faktor tersebut akan membawa dampak pada penurunan efisiensi dan efektivitas sumberdaya sehingga tujuan pembelajaran tidak tercapai secara optimal. Salah satu cara yang dapat digunakan oleh guru (desainer instruksional) untuk mengatasi permasalahan tersebut adalah membuat desain instruksional atau perencanaan pembelajaran. Mata kuliah desain instruksional ini berisi pengetahuan mengenai (1) Melakukan pemeriksaan terhadap situasi pembelajaran yaitu, melakukan analisis terhadap kebutuhan, tugas dan siswa yang terlibat dalam pembelajaran, (2) Membuat perencanaan yang dibagi menjadi 4 proses yaitu, perencanaan, merancang dan menerapkan intervensi, (3) melakukan evaluasi yaitu menentukan dampak yang ditimbulkan oleh intervensi guru dalam pembelajaran (Brown & Green, 2006). Melalui tiga hal tersebut, mahasiswa diharapkan dapat memiliki kemampuan dalam membuat perencanaan pembelajaran sehingga tujuan pembelajaran dapat tercapai.
B13: II. | C13: Capaian Pembelajaran Mata Kuliah
B14: - | C14: =RPS!#REF! -> #REF!
B15: III. | C15: Jadwal Perkuliahan
C16: Semester | D16: Kelas | E16: Hari | F16: Jam
C17: V | D17: A
C18: V | D18: B
C19: V | D19: C
B21: Pertemuan ke | C21: Kompetensi dasar | E21: Materi | F21: Metode pembelajaran | G21: Tugas | I21: Penilaian | O21: Kriteria kompetensi
G22: Jenis tugas | H22: Bobot nilai | I22: 1. Pengetahuan | J22: Total | K22: 2. Sikap | L22: Total | M22: 3. Keterampilan | N22: Total | O22: Prosentase | P22: Keterangan
B23: =RPS!B23 -> 1 | C23: =RPS!C23 -> Mencermati | D23: =RPS!D23 -> kontrak kuliah | E23: =RPS!I23 -> kontrak kuliah | F23: =RPS!J23 -> Ceramah | G23: Terstruktur individu | I23: 1.1 Ulangan harian | J23: 5 | K23: 2.1 Kehadiran | L23: 20 | M23: 3.1 Keterampilan menggunakan alat, bahan | N23: 10 | O23: 0 % - 59,9% | P23: Tidak kompeten
B24: =RPS!B24 -> 2 | C24: =RPS!C24 -> Menerapkan | D24: =RPS!D24 -> model desain instruksional untuk mengatasi masalah kesenjangan status sosial ekonomi siswa | E24: =RPS!I24 -> pengertian desain instruksional | F24: =RPS!J25 -> Ceramah | G24: Terstruktur individu | H24: 0.05 | I24: 1.2 Ujian tengah semester (UTS) | J24: 15 | K24: 2.2 Partisipasi dalam pembelajaran | L24: 20 | M24: 3.2 Keterampilan menyampaikan informasi | N24: 10 | O24: 60% - 65,9% | P24: Kurang kompeten
B25: =RPS!B25 -> 0 | C25: =RPS!C25 -> 0 | D25: =RPS!D25 -> 0 | E25: =RPS!I25 -> 4 dimensi desain instruksional | F25: =RPS!J26 -> Penugasan | G25: Terstruktur individu | I25: 1.3 Ujian akhir semester (UAS) | J25: 20 | O25: 66% - 74,9% | P25: Cukup kompeten
B26: =RPS!B26 -> 0 | C26: =RPS!C26 -> 0 | D26: =RPS!D26 -> 0 | E26: =RPS!I26 -> model ADDIE untuk mengatasi masalah kesenjangan status sosial ekonomi siswa | F26: =RPS!J27 -> Ceramah | G26: Terstruktur individu | H26: 0.05 | I26: Total pengetahuan | J26: =SUM(J23:J25) -> 40 | K26: Total sikap | L26: =SUM(L23:L25) -> 40 | M26: Total keterampilan | N26: =SUM(N23:N24) -> 20 | O26: 75% - 84,9% | P26: Kompeten
B27: =RPS!B27 -> 3 | C27: =RPS!C27 -> Menghitung | D27: =RPS!D27 -> minggu efektif dalam kalender akademik | E27: =RPS!I27 -> pengertian kalender akademik | F27: =RPS!J28 -> Ceramah | G27: Terstruktur individu | O27: 85% - 100% | P27: Sangat kompeten
B28: =RPS!B28 -> 0 | C28: =RPS!C28 -> 0 | D28: =RPS!D28 -> 0 | E28: =RPS!I28 -> karakteristik kalender akademik | F28: =RPS!J29 -> Diskusi | G28: Terstruktur individu
B29: =RPS!B29 -> 0 | C29: =RPS!C29 -> 0 | D29: =RPS!D29 -> 0 | E29: =RPS!I29 -> fungsi kalender akademik dalam perencanaan pembelajaran | F29: =RPS!J30 -> Simulasi | G29: Terstruktur individu
B30: =RPS!B30 -> 0 | C30: =RPS!C30 -> 0 | D30: =RPS!D30 -> 0 | E30: =RPS!I30 -> Jumlah minggu efektif berdasarkan perpektif sekolah | F30: =RPS!J31 -> Ceramah | G30: Terstruktur individu
B31: =RPS!B31 -> 4 | C31: =RPS!C31 -> Mengembangkan | D31: =RPS!D31 -> program tahunan (PROTA) | E31: =RPS!I31 -> pengertian PROTA | F31: =RPS!J32 -> Ceramah | G31: Terstruktur individu | H31: 0.05
B32: =RPS!B32 -> 0 | C32: =RPS!C32 -> 0 | D32: =RPS!D32 -> 0 | E32: =RPS!I32 -> karakteristik PROTA | F32: =RPS!J33 -> Simulasi | G32: Terstruktur individu
B33: =RPS!B33 -> 0 | C33: =RPS!C33 -> 0 | D33: =RPS!D33 -> 0 | E33: =RPS!I33 -> PROTA | F33: =RPS!J34 -> Ceramah | G33: Terstruktur individu
B34: =RPS!B34 -> 5 | C34: =RPS!C34 -> Mengembangkan | D34: =RPS!D34 -> program semester (PROMES) | E34: =RPS!I34 -> pengertian PROMES | F34: =RPS!J35 -> Ceramah | G34: Terstruktur individu | H34: 0.05
B35: =RPS!B35 -> 0 | C35: =RPS!C35 -> 0 | D35: =RPS!D35 -> 0 | E35: =RPS!I35 -> karakteristik PROMES | F35: =RPS!J37 -> Simulasi | G35: Terstruktur individu
B36: =RPS!B37 -> 0 | C36: =RPS!C37 -> 0 | D36: =RPS!D37 -> 0 | E36: =RPS!I37 -> PROMES | F36: =RPS!J38 -> Ceramah | G36: Terstruktur individu
B37: =RPS!B38 -> 6 | C37: =RPS!C38 -> Mengembangkan | D37: =RPS!D38 -> rencana pelaksanaan pembelajaran (RPP) | E37: =RPS!I38 -> pengertian RPP | F37: =RPS!J39 -> Ceramah | G37: Terstruktur individu | H37: 0.05
B38: =RPS!B39 -> 0 | C38: =RPS!C39 -> 0 | D38: =RPS!D39 -> 0 | E38: =RPS!I39 -> karakteristik RPP | F38: =RPS!J40 -> Simulasi | G38: Terstruktur individu
B39: =RPS!B40 -> 0 | C39: =RPS!C40 -> 0 | D39: =RPS!D40 -> 0 | E39: =RPS!I40 -> RPP | F39: =RPS!J41 -> Ceramah | G39: Terstruktur individu
B40: =RPS!B41 -> 7 | C40: =RPS!C41 -> Menentukan | D40: =RPS!D41 -> alat, bahan dan informasi yang dibutuhkan siswa dalam pembelajaran | E40: =RPS!I41 -> pengertian analisis kebutuhan | F40: =RPS!J42 -> Ceramah | G40: Terstruktur individu | H40: 0.05
B41: =RPS!B42 -> 0 | C41: =RPS!C42 -> 0 | D41: =RPS!D42 -> 0 | E41: =RPS!I42 -> analisis kebutuhan dalam pembelajaran menurut Mager | F41: =RPS!J43 -> Ceramah | G41: Terstruktur individu
B42: =RPS!B43 -> 0 | C42: =RPS!C43 -> 0 | D42: =RPS!D43 -> 0 | E42: =RPS!I43 -> analisis kebutuhan dalam pembelajaran menurut Morison dkk | F42: =RPS!J44 -> Penugasan | G42: Terstruktur individu
B43: =RPS!B44 -> 0 | C43: =RPS!C44 -> 0 | D43: =RPS!D44 -> 0 | E43: =RPS!I44 -> kesesuaian alat, bahan dan informasi dengan tujuan pembelajaran | F43: =RPS!J45 -> Penugasan | G43: Terstruktur individu
B44: =RPS!B45 -> 8 | C44: =RPS!C45 -> 0 | D44: =RPS!D45 -> Ujian tengah semester (UTS) | E44: =RPS!I45 -> Ujian tengah semester (UTS) | F44: =RPS!J46 -> Ceramah | G44: Terstruktur individu | H44: 0.1
B45: =RPS!B46 -> 9 | C45: =RPS!C46 -> Mengembangkan | D45: =RPS!D46 -> modul pembelajaran | E45: =RPS!I46 -> pengertian modul pembelajaran | F45: =RPS!J47 -> Ceramah | G45: Terstruktur individu | H45: 0.05
B46: =RPS!B47 -> 0 | C46: =RPS!C47 -> 0 | D46: =RPS!D47 -> 0 | E46: =RPS!I47 -> karakteristik modul pembelajaran | F46: =RPS!J48 -> Penugasan | G46: Terstruktur individu
B47: =RPS!B48 -> 0 | C47: =RPS!C48 -> 0 | D47: =RPS!D48 -> 0 | E47: =RPS!I48 -> modul pembelajaran | F47: =RPS!J49 -> Diskusi | G47: Terstruktur individu
B48: =RPS!B49 -> 10 | C48: =RPS!C49 -> Menemukan | D48: =RPS!D49 -> pemecahan masalah tingginya siswa sebagai penonton dalam pembelajaran | E48: =RPS!I49 -> karakteristik siswa sebagai pelaku dan siswa sebagai penonton | F48: =RPS!J50 -> Diskusi | G48: Terstruktur individu
B49: =RPS!B50 -> 0 | C49: =RPS!C50 -> 0 | D49: =RPS!D50 -> 0 | E49: =RPS!I50 -> faktor-faktor yang menyebabkan siswa menjadi penonton | F49: =RPS!J51 -> Diskusi | G49: Terstruktur individu
B50: =RPS!B51 -> 0 | C50: =RPS!C51 -> 0 | D50: =RPS!D51 -> 0 | E50: =RPS!I51 -> faktor-faktor yang menyebabkan siswa menjadi pelaku | F50: =RPS!J52 -> Diskusi | G50: Terstruktur individu
B51: =RPS!B52 -> 0 | C51: =RPS!C52 -> 0 | D51: =RPS!D52 -> 0 | E51: =RPS!I52 -> bentuk aktivitas (tugas) siswa dalam pembelajaran | F51: =RPS!J53 -> Diskusi | G51: Terstruktur individu
B52: =RPS!B53 -> 11 | C52: =RPS!C53 -> Menerapkan | D52: =RPS!D53 -> penggunaan kata kerja operasional dalam menulis kompetensi dan tujuan pembelajaran | E52: =RPS!I53 -> tujuan dan kompetensi pembelajaran | F52: =RPS!J54 -> Demonstrasi | G52: Terstruktur individu | H52: 0.05
B53: =RPS!B54 -> 0 | C53: =RPS!C54 -> 0 | D53: =RPS!D54 -> 0 | E53: =RPS!I54 -> kerja operasional yang sesuai pada kompetensi pembelajaran | F53: =RPS!J55 -> Demonstrasi | G53: Terstruktur individu
B54: =RPS!B55 -> 0 | C54: =RPS!C55 -> 0 | D54: =RPS!D55 -> 0 | E54: =RPS!I55 -> kerja operasional yang sesuai pada tujuan pembelajaran | F54: =RPS!J56 -> Diskusi | G54: Terstruktur individu
B55: =RPS!B56 -> 0 | C55: =RPS!C56 -> 0 | D55: =RPS!D56 -> 0 | E55: =RPS!I56 -> ketepatan penulisan tujuan pembelajaran dalam sebuah RPP | F55: =RPS!J57 -> Ceramah | G55: Terstruktur individu
B56: =RPS!B57 -> 0 | C56: =RPS!C57 -> 0 | D56: =RPS!D57 -> 0 | E56: =RPS!I57 -> high order thinking skill (HOTS) dengan kata kerja operasional | F56: =RPS!J58 -> Ceramah | G56: Terstruktur individu
B57: =RPS!B58 -> 12 | C57: =RPS!C58 -> Mengembangkan | D57: =RPS!D58 -> pembelajaran berbasis pengalaman | E57: =RPS!I58 -> 10 tingkat pengalaman yang digunakan untuk menyelenggarakan pembelajaran | F57: =RPS!J59 -> Diskusi | G57: Terstruktur individu | H57: 0.05
B58: =RPS!B59 -> 0 | C58: =RPS!C59 -> 0 | D58: =RPS!D59 -> 0 | E58: =RPS!I59 -> contoh pengalaman belajar dari yang paling abstrak hingga yang paling nyata | F58: =RPS!J60 -> Diskusi | G58: Terstruktur individu
B59: =RPS!B60 -> 0 | C59: =RPS!C60 -> 0 | D59: =RPS!D60 -> 0 | E59: =RPS!I60 -> desain penyelenggaraan pembelajaran yang memuat pengalaman abstrak hingga yang paling nyata | F59: =RPS!J61 -> Penugasan | G59: Terstruktur individu
B60: =RPS!B61 -> 13 | C60: =RPS!C61 -> Mengembangkan | D60: =RPS!D61 -> program dan perencanaan pembelajaran pada kompetensi dasar memahami konsep ilmu ekonomi | E60: =RPS!I61 -> program dan perencanaan pembelajaran pada kompetensi dasar memahami konsep ilmu ekonomi | F60: =RPS!J62 -> Penugasan | G60: Terstruktur individu | H60: 0.05
B61: =RPS!B62 -> 14 | C61: =RPS!C62 -> Mengembangkan | D61: =RPS!D62 -> program dan perencanaan pembelajaran pada kompetensi dasar memahami prinsip ekonomi, | E61: =RPS!I62 -> program dan perencanaan pembelajaran pada kompetensi dasar memahami prinsip ekonomi, | F61: =RPS!J63 -> Penugasan | G61: Terstruktur individu | H61: 0.05
B62: =RPS!B63 -> 15 | C62: =RPS!C63 -> Mengembangkan | D62: =RPS!D63 -> program dan perencanaan pembelajaran pada kompetensi dasar memahami permasalahan ekonomi, | E62: =RPS!I63 -> program dan perencanaan pembelajaran pada kompetensi dasar memahami permasalahan ekonomi, | F62: =RPS!J64 -> 0 | G62: Terstruktur individu | H62: 0.05
B63: =RPS!B64 -> 16 | C63: =RPS!C64 -> 0 | D63: =RPS!D64 -> Ujian akhir semester | E63: =RPS!I64 -> 0 | F63: =RPS!J65 -> 0 | G63: Terstruktur individu | H63: 0.2
B64: Total | H64: =SUM(H23:H63) -> 0.9
B67: Kesepakatan lain
B68: No | C68: Kesepakatan
G79: Semarang,...................
B80: Dosen pengampu | E80: Penanggung jawab mata kuliah | G80: Ka. Prodi Pendidikan Ekonomi
B84: =RPS!E15 -> David Firna Setiawan, S.Pd, M.Pd | G84: Dr. Endang Wuryandini, M.Pd
E85: HP....................................
