Workbook

Sheet Data base
B1: Metode | C1: Tugas | D1: Alat | E1: Bahan | F1: SKS (menit) | J1: Sikap | K1: Keterampilan umum | L1: Keterampilan khusus | M1: Pengetahuan
A2: Mengingat | B2: Ceramah | C2: Terstruktur individu | D2: Pensil, kertas, penggaris | E2: Lembar soal | F2: TM (tatap muka) | G2: TT (tugas terstruktur) | H2: TM (Tugas mandiri) | L2: Mengaplikasikan IPTEKS dalam menyelesaikan masalah prosedural. | M2: Menguasai konsep teoritis bidang pengetahuan tertentu secara umum dan konsep teoritis bagian khusus dalam bidang pengetahuan tersebut secara mendalam, serta mampu memformulasikan penyelesaian masalah prosedural.
A3: Mengenal | B3: Tanya jawab | C3: Terstruktur kelompok | D3: Pensil, kertas, penggaris dan alat hitung | E3: Contoh kasus | F3: 100 | G3: 100 | H3: 150 | L3: Mengkaji IPTEKS dalam menyelesaikan masalah prosedural.
A4: Mengingat kembali | B4: Diskusi | C4: Tidak terstruktur individu | D4: Personal komputer dan MYOB accounting | E4: Material lain | F4: 150 | G4: 100 | H4: 150 | L4: Membuat desain IPTEKS dalam menyelesaikan masalah prosedural.
A5: Mengidentifikasi | B5: Penugasan | C5: Tidak terstruktur kelompok | D5: Personal komputer dan Microsoft office power point | L5: Manfaatkan IPTEKS dalam menyelesaikan masalah prosedural.
A6: Mendefinisikan | B6: Demonstrasi | D6: Personal komputer dan Microsoft office exell
A7: Menyebutkan | B7: Simulasi | D7: Personal komputer dan Microsoft office word
A8: Menentukan | B8: Praktikum
A9: Menemukan
A10: Mengetahui proses
A11: Mencocokkan
A12: Menghilangkan
A13: Mengaitkan
A14: Menunjukkan
A15: Mengeja
A16: Menyampaikan alasan
A17: Menyeleksi
A18: Memberi label
A19: Memberi nama
A20: Mengutip
... A203: Mengarahkan

Sheet Home

Sheet RPS
D1: FORMULIR | K1: No.Dokumen | L1: : FM-02-AKD-1516
D2: RPS | K2: No. Revisi | L2: : -
K3: Tanggal Berlaku | L3: : 01/03/2016
K4: Halaman | L4: : 1 dari 2
B5: UNIVERSITAS PGRI SEMARANG
B7: RENCANA PERKULIAHAN SEMESTER (RPS)
B9: Fakultas/Prodi | E9: FPIPSKR/ Pendidikan Ekonomi
B10: Mata Kuliah | E10: Perencanaan Pembelajaran
B11: Kode Mata Kuliah | E11: 2216320548
B12: Semester | E12: 5
B13: SKS | E13: 2
B14: Deskripsi Mata Kuliah | E14: Interaksi antara siswa dengan guru, siswa dengan siswa dan siswa dengan lingkungan pembelajaran dipengaruhi oleh berbagai faktor. Kurangnya perhatian terhadap berbagai faktor tersebut akan membawa dampak pada penurunan efisiensi dan efektivitas sumberdaya sehingga tujuan pembelajaran tidak tercapai secara optimal. Salah satu cara yang dapat digunakan oleh guru (desainer instruksional) untuk mengatasi permasalahan tersebut adalah membuat desain instruksional atau perencanaan pembelajaran. Mata kuliah desain instruksional ini berisi pengetahuan mengenai (1) Melakukan pemeriksaan terhadap situasi pembelajaran yaitu, melakukan analisis terhadap kebutuhan, tugas dan siswa yang terlibat dalam pembelajaran, (2) Membuat perencanaan yang dibagi menjadi 4 proses yaitu, perencanaan, merancang dan menerapkan intervensi, (3) melakukan evaluasi yaitu menentukan dampak yang ditimbulkan oleh intervensi guru dalam pembelajaran (Brown & Green, 2006). Melalui tiga hal tersebut, mahasiswa diharapkan dapat memiliki kemampuan dalam membuat perencanaan pembelajaran sehingga tujuan pembelajaran dapat tercapai.
B15: Dosen Pengampu | E15: David Firna Setiawan, S.Pd, M.Pd
B16: Capaian pembelajaran | E16: Sikap (sesuai visi misi PT dan Prodi)
E17: Keterampilan umum (sesuai kesepakatan prodi) | G17: Setelah menyelesaikan program perkuliahan, mahasiswa diharapkan memiliki keterampilan dalam, membuat perencanaan pembelajaran secara efektif dan efisien
E18: Keterampilan khusus | G18: Membuat desain IPTEKS dalam menyelesaikan masalah prosedural.
E19: Pengetahuan | G19: Menguasai konsep teoritis bidang pengetahuan tertentu secara umum dan konsep teoritis bagian khusus dalam merencanakan pembelajaran secara mendalam, serta mampu memformulasikan penyelesaian masalah prosedural.
B20: Pengalaman belajar
B21: Pertemuan | C21: Kompetensi dasar | E21: Tujuan pembelajaran | G21: Kriteria ketuntasan | I21: Materi | J21: Metode | K21: Alat yang dibutuhkan siswa | L21: Bahan yang dibutuhkan siswa | M21: Estimasi Waktu (dalam menit) | P21: Komposisi Pengetahuan | Q21: Dimensi berpikir ke
M22: TM* | N22: TT* | O22: BM*
B23: 1 | C23: Mencermati | D23: kontrak kuliah | E23: Mengevaluasi | F23: kontrak kuliah | G23: kontrak kuliah disepakati | I23: =F23 -> kontrak kuliah | J23: Ceramah | K23: Pensil, kertas, penggaris | L23: Material lain | M23: 100 | P23: Mengevaluasi | Q23: 5
B24: 2 | C24: Menerapkan | D24: model desain instruksional untuk mengatasi masalah kesenjangan status sosial ekonomi siswa | E24: Menjelaskan | F24: pengertian desain instruksional | G24: Pengertian desain instruksional dapat dijelaskan | H24: dengan tepat | I24: =F24 -> pengertian desain instruksional | J24: Ceramah | K24: Pensil, kertas, penggaris | L24: Lembar soal | M24: 20 | P24: Memahami | Q24: 2
E25: Menyebutkan | F25: 4 dimensi desain instruksional | G25: 4 dimensi desain instruksional dapat disebutkan | H25: dengan tepat | I25: =F25 -> 4 dimensi desain instruksional | J25: Ceramah | K25: Pensil, kertas, penggaris | L25: Lembar soal | M25: 20 | P25: Mengingat | Q25: 1
E26: Menerapkan | F26: model ADDIE untuk mengatasi masalah kesenjangan status sosial ekonomi siswa | G26: Model ADDIE untuk mengatasi masalah kesenjangan status sosial ekonomi siswa dapat diterapkan | I26: =F26 -> model ADDIE untuk mengatasi masalah kesenjangan status sosial ekonomi siswa | J26: Penugasan | K26: Pensil, kertas, penggaris | L26: Contoh kasus | M26: 60 | P26: Memahami | Q26: 2
B27: 3 | C27: Menghitung | D27: minggu efektif dalam kalender akademik | E27: Menjelaskan | F27: pengertian kalender akademik | G27: Pengertian kalender akademik dapat dijelaskan | I27: =F27 -> pengertian kalender akademik | J27: Ceramah | K27: Pensil, kertas, penggaris | L27: Lembar soal | M27: 10 | P27: Memahami | Q27: 1
E28: Mengenal | F28: karakteristik kalender akademik | G28: Karakteristik kalender akademik dapat dikenal | I28: =F28 -> karakteristik kalender akademik | J28: Ceramah | K28: Pensil, kertas, penggaris | L28: Lembar soal | M28: 10 | P28: Memahami | Q28: 2
E29: Menyimpulkan | F29: fungsi kalender akademik dalam perencanaan pembelajaran | G29: Fungsi kalender akademik dalam perencanaan pembelajaran dapat disimpulkan | I29: =F29 -> fungsi kalender akademik dalam perencanaan pembelajaran | J29: Diskusi | K29: Pensil, kertas, penggaris | L29: Contoh kasus | M29: 10 | P29: Menerapkan | Q29: 3
E30: Menghitung | F30: Jumlah minggu efektif berdasarkan perpektif sekolah | G30: Jumlah minggu efektif berdasarkan perpektif sekolah dapat dihitung | I30: =F30 -> Jumlah minggu efektif berdasarkan perpektif sekolah | J30: Simulasi | K30: Personal komputer dan Microsoft office exell | L30: Contoh kasus | M30: 30 | P30: Menerapkan | Q30: 3
B31: 4 | C31: Mengembangkan | D31: program tahunan (PROTA) | E31: Menjelaskan | F31: pengertian PROTA | G31: pengertian PROTA dapat dijelaskan | I31: =F31 -> pengertian PROTA | J31: Ceramah | K31: Pensil, kertas, penggaris | L31: Lembar soal | M31: 10 | P31: Memahami | Q31: 2
E32: Mengenal | F32: karakteristik PROTA | G32: karakteristik PROTA dapat dikenal | I32: =F32 -> karakteristik PROTA | J32: Ceramah | K32: Pensil, kertas, penggaris | L32: Lembar soal | M32: 10 | P32: Mengingat | Q32: 1
E33: Membuat | F33: PROTA | G33: PROTA dapat dibuat | I33: =F33 -> PROTA | J33: Simulasi | K33: Personal komputer dan Microsoft office exell | L33: Contoh kasus | M33: 80 | P33: Menciptakan | Q33: 6
B34: 5 | C34: Mengembangkan | D34: program semester (PROMES) | E34: Menjelaskan | F34: pengertian PROMES | G34: Pengertian PROMES dapat dijelaskan | I34: =F34 -> pengertian PROMES | J34: Ceramah | K34: Pensil, kertas, penggaris | L34: Lembar soal | M34: 10 | P34: Memahami | Q34: 2
E35: Mengenal | F35: karakteristik PROMES | G35: Karakteristik PROMES dapat dikenal | I35: =F35 -> karakteristik PROMES | J35: Ceramah | K35: Pensil, kertas, penggaris | L35: Lembar soal | M35: 10 | P35: Mengingat | Q35: 1
E36: Mengembangkan | F36: konten pembelajaran dalam PROMES | G36: konten pembelajaran dalam PROMES dapat dikembangkan | I36: =F36 -> konten pembelajaran dalam PROMES | J36: Ceramah | K36: Pensil, kertas, penggaris dan alat hitung | L36: Lembar soal | M36: 10 | P36: Menganalisis | Q36: 4
E37: Membuat | F37: PROMES | G37: PROMES dapat dibuat | I37: =F37 -> PROMES | J37: Simulasi | K37: Personal komputer dan Microsoft office exell | L37: Contoh kasus | M37: 70 | N37: 100 | P37: Menciptakan | Q37: 6
B38: 6 | C38: Mengembangkan | D38: rencana pelaksanaan pembelajaran (RPP) | E38: Menjelaskan | F38: pengertian RPP | G38: Pengertian RPP dapat dijelaskan | I38: =F38 -> pengertian RPP | J38: Ceramah | K38: Pensil, kertas, penggaris | L38: Lembar soal | M38: 10 | P38: Memahami | Q38: 2
E39: Mengenal | F39: karakteristik RPP | G39: Karakteristik RPP dapat dikenal | I39: =F39 -> karakteristik RPP | J39: Ceramah | K39: Pensil, kertas, penggaris | L39: Lembar soal | M39: 10 | P39: Mengingat | Q39: 1
E40: Membuat | F40: RPP | G40: RPP dapat dibuat | I40: =F40 -> RPP | J40: Simulasi | K40: Personal komputer dan Microsoft office word | L40: Contoh kasus | M40: 80 | N40: 100 | P40: Menciptakan | Q40: 6
B41: 7 | C41: Menentukan | D41: alat, bahan dan informasi yang dibutuhkan siswa dalam pembelajaran | E41: Menjelaskan | F41: pengertian analisis kebutuhan | G41: Pengertian analisis kebutuhan dapat dijelaskan | I41: =F41 -> pengertian analisis kebutuhan | J41: Ceramah | K41: Pensil, kertas, penggaris | L41: Lembar soal | M41: 10 | P41: Memahami | Q41: 2
E42: Menerapkan | F42: analisis kebutuhan dalam pembelajaran menurut Mager | G42: Analisis kebutuhan dalam pembelajaran menurut Mager dapat diterapkan | I42: =F42 -> analisis kebutuhan dalam pembelajaran menurut Mager | J42: Ceramah | K42: Pensil, kertas, penggaris | L42: Lembar soal | M42: 30 | P42: Menerapkan | Q42: 3
...

Sheet Kontrak kuliah
B1: KONTRAK PERKULIAHAN
B2: SEMESTER GENAP 2018-2019
B4: Program Studi | E4: =RPS!E9 -> FPIPSKR/ Pendidikan Ekonomi
B5: Mata Kuliah | E5: =RPS!E10 -> Perencanaan Pembelajaran
B6: Kode Mata Kuliah | E6: =RPS!E11 -> 2216320548
B7: Dosen Pengampu | E7: David Firna Setiawan, S.Pd, M.Pd.
B8: Jumlah SKS | E8: =RPS!E13 -> 2
B9: Semester | E9: =RPS!E12 -> 5
B11: I. | C11: Deskripsi Mata Kuliah
C12: =RPS!E14 -> Interaksi antara siswa dengan guru, siswa dengan siswa dan siswa dengan lingkungan pembelajaran dipengaruhi oleh berbagai faktor. Kurangnya perhatian terhadap berbagai faktor tersebut akan membawa dampak pada penurunan efisiensi dan efektivitas sumberdaya sehingga tujuan pembelajaran tidak tercapai secara optimal. Salah satu cara yang dapat digunakan oleh guru (desainer instruksional) untuk mengatasi permasalahan tersebut adalah membuat desain instruksional atau perencanaan pembelajaran. Mata kuliah desain instruksional ini berisi pengetahuan mengenai (1) Melakukan pemeriksaan terhadap situasi pembelajaran yaitu, melakukan analisis terhadap kebutuhan, tugas dan siswa yang terlibat dalam pembelajaran, (2) Membuat perencanaan yang dibagi menjadi 4 proses yaitu, perencanaan, merancang dan menerapkan intervensi, (3) melakukan evaluasi yaitu menentukan dampak yang ditimbulkan oleh intervensi guru dalam pembelajaran (Brown & Green, 2006). Melalui tiga hal tersebut, mahasiswa diharapkan dapat memiliki kemampuan dalam membuat perencanaan pembelajaran sehingga tujuan pembelajaran dapat tercapai.
B13: II. | C13: Capaian Pembelajaran Mata Kuliah
B14: - | C14: =RPS!#REF! -> #REF!
B15: III. | C15: Jadwal Perkuliahan
C16: Semester | D16: Kelas | E16: Hari | F16: Jam
C17: V | D17: A
C18: V | D18: B
C19: V | D19: C
B21: Pertemuan ke | C21: Kompetensi dasar | E21: Materi | F21: Metode pembelajaran | G21: Tugas | I21: Penilaian | O21: Kriteria kompetensi
G22: Jenis tugas | H22: Bobot nilai | I22: 1. Pengetahuan | J22: Total | K22: 2. Sikap | L22: Total | M22: 3. Keterampilan | N22: Total | O22: Prosentase | P22: Keterangan
B23: =RPS!B23 -> 1 | C23: =RPS!C23 -> Mencermati | D23: =RPS!D23 -> kontrak kuliah | E23: =RPS!I23 -> kontrak kuliah | F23: =RPS!J23 -> Ceramah | G23: Terstruktur individu | I23: 1.1 Ulangan harian | J23: 5 | K23: 2.1 Kehadiran | L23: 20 | M23: 3.1 Keterampilan menggunakan alat, bahan | N23: 10 | O23: 0 % - 59,9% | P23: Tidak kompeten
B24: =RPS!B24 -> 2 | C24: =RPS!C24 -> Menerapkan | D24: =RPS!D24 -> model desain instruksional untuk mengatasi masalah kesenjangan status sosial ekonomi siswa | E24: =RPS!I24 -> pengertian desain instruksional | F24: =RPS!J25 -> Ceramah | G24: Terstruktur individu | H24: 0.05 | I24: 1.2 Ujian tengah semester (UTS) | J24: 15 | K24: 2.2 Partisipasi dalam pembelajaran | L24: 20 | M24: 3.2 Keterampilan menyampaikan informasi | N24: 10 | O24: 60% - 65,9% | P24: Kurang kompeten
B25: =RPS!B25 -> 0 | C25: =RPS!C25 -> 0 | D25: =RPS!D25 -> 0 | E25: =RPS!I25 -> 4 dimensi desain instruksional | F25: =RPS!J26 -> Penugasan | G25: Terstruktur individu | I25: 1.3 Ujian akhir semester (UAS) | J25: 20 | O25: 66% - 74,9% | P25: Cukup kompeten
B26: =RPS!B26 -> 0 | C26: =RPS!C26 -> 0 | D26: =RPS!D26 -> 0 | E26: =RPS!I26 -> model ADDIE untuk mengatasi masalah kesenjangan status sosial ekonomi siswa | F26: =RPS!J27 -> Ceramah | G26: Terstruktur individu | H26: 0.05 | I26: Total pengetahuan | J26: =SUM(J23:J25) -> 40 | K26: Total sikap | L26: =SUM(L23:L25) -> 40 | M26: Total keterampilan | N26: =SUM(N23:N24) -> 20 | O26: 75% - 84,9% | P26: Kompeten
B27: =RPS!B27 -> 3 | C27: =RPS!C27 -> Menghitung | D27: =RPS!D27 -> minggu efektif dalam kalender akademik | E27: =RPS!I27 -> pengertian kalender akademik | F27: =RPS!J28 -> Ceramah | G27: Terstruktur individu | O27: 85% - 100% | P27: Sangat kompeten
B28: =RPS!B28 -> 0 | C28: =RPS!C28 -> 0 | D28: =RPS!D28 -> 0 | E28: =RPS!I28 -> karakteristik kalender akademik | F28: =RPS!J29 -> Diskusi | G28: Terstruktur individu
B29: =RPS!B29 -> 0 | C29: =RPS!C29 -> 0 | D29: =RPS!D29 -> 0 | E29: =RPS!I29 -> fungsi kalender akademik dalam perencanaan pembelajaran | F29: =RPS!J30 -> Simulasi | G29: Terstruktur individu
B30: =RPS!B30 -> 0 | C30: =RPS!C30 -> 0 | D30: =RPS!D30 -> 0 | E30: =RPS!I30 -> Jumlah minggu efektif berdasarkan perpektif sekolah | F30: =RPS!J31 -> Ceramah | G30: Terstruktur individu
B31: =RPS!B31 -> 4 | C31: =RPS!C31 -> Mengembangkan | D31: =RPS!D31 -> program tahunan (PROTA) | E31: =RPS!I31 -> pengertian PROTA | F31: =RPS!J32 -> Ceramah | G31: Terstruktur individu | H31: 0.05
B32: =RPS!B32 -> 0 | C32: =RPS!C32 -> 0 | D32: =RPS!D32 -> 0 | E32: =RPS!I32 -> karakteristik PROTA | F32: =RPS!J33 -> Simulasi | G32: Terstruktur individu
B33: =RPS!B33 -> 0 | C33: =RPS!C33 -> 0 | D33: =RPS!D33 -> 0 | E33: =RPS!I33 -> PROTA | F33: =RPS!J34 -> Ceramah | G33: Terstruktur individu
B34: =RPS!B34 -> 5 | C34: =RPS!C34 -> Mengembangkan | D34: =RPS!D34 -> program semester (PROMES) | E34: =RPS!I34 -> pengertian PROMES | F34: =RPS!J35 -> Ceramah | G34: Terstruktur individu | H34: 0.05
B35: =RPS!B35 -> 0 | C35: =RPS!C35 -> 0 | D35: =RPS!D35 -> 0 | E35: =RPS!I35 -> karakteristik PROMES | F35: =RPS!J37 -> Simulasi | G35: Terstruktur individu
B36: =RPS!B37 -> 0 | C36: =RPS!C37 -> 0 | D36: =RPS!D37 -> 0 | E36: =RPS!I37 -> PROMES | F36: =RPS!J38 -> Ceramah | G36: Terstruktur individu
B37: =RPS!B38 -> 6 | C37: =RPS!C38 -> Mengembangkan | D37: =RPS!D38 -> rencana pelaksanaan pembelajaran (RPP) | E37: =RPS!I38 -> pengertian RPP | F37: =RPS!J39 -> Ceramah | G37: Terstruktur individu | H37: 0.05
B38: =RPS!B39 -> 0 | C38: =RPS!C39 -> 0 | D38: =RPS!D39 -> 0 | E38: =RPS!I39 -> karakteristik RPP | F38: =RPS!J40 -> Simulasi | G38: Terstruktur individu
B39: =RPS!B40 -> 0 | C39: =RPS!C40 -> 0 | D39: =RPS!D40 -> 0 | E39: =RPS!I40 -> RPP | F39: =RPS!J41 -> Ceramah | G39: Terstruktur individu
B40: =RPS!B41 -> 7 | C40: =RPS!C41 -> Menentukan | D40: =RPS!D41 -> alat, bahan dan informasi yang dibutuhkan siswa dalam pembelajaran | E40: =RPS!I41 -> pengertian analisis kebutuhan | F40: =RPS!J42 -> Ceramah | G40: Terstruktur individu | H40: 0.05
B41: =RPS!B42 -> 0 | C41: =RPS!C42 -> 0 | D41: =RPS!D42 -> 0 | E41: =RPS!I42 -> analisis kebutuhan dalam pembelajaran menurut Mager | F41: =RPS!J43 -> Ceramah | G41: Terstruktur individu
B42: =RPS!B43 -> 0 | C42: =RPS!C43 -> 0 | D42: =RPS!D43 -> 0 | E42: =RPS!I43 -> analisis kebutuhan dalam pembelajaran menurut Morison dkk | F42: =RPS!J44 -> Penugasan | G42: Terstruktur individu
B43: =RPS!B44 -> 0 | C43: =RPS!C44 -> 0 | D43: =RPS!D44 -> 0 | E43: =RPS!I44 -> kesesuaian alat, bahan dan informasi dengan tujuan pembelajaran | F43: =RPS!J45 -> Penugasan | G43: Terstruktur individu
...
