Workbook

Sheet Halaman Awal
K3: Kode Sheet | L3: Keterangan
K4: 1.1 | L4: Transaksi
K5: 2.1 | L5: Jurnal umum
K6: 3.1 | L6: Jurnal khusus
K7: 4.1 | L7: Buku besar harta
K8: 4.2 | L8: Buku besar utang
K9: 4.3 | L9: Buku besar modal
A10: KLIK GAMBAR BERIKUT UNTUK MENGISI | K10: 4.4 | L10: Buku besar pendapatan
A11: BUKU BESAR | K11: 4.5 | L11: Buku besar beban
K13: Nama mahasiswa | M13: : David Firna Setiawan
K14: Kelas | M14: : …………………..
K15: Semester | M15: : …………………..
K16: Waktu penyelesaian siklus | M16: : …………………..

Sheet 1.1
A3: Transaksi 1
A4: Dekorasi "SIDA"
A7: BUKTI KAS MASUK
A9: No. Bukti | B9: BKM-001
A10: Tanggal | B10: 43040
A11: Diterima dari | B11: Tn David
A12: Banyaknya uang | B12: Limapuluh juta
B13: 50000000
A14: Rincian pemasukan | B14: Setoran modal Tn David
A15: Jumlah barang | B15: Deskripsi barang/jasa | C15: Harga per unit | D15: Total harga
B16: Setoran modal Tn David | D16: =B13 -> 50000000
A18: Total kas masuk | D18: =SUM(D16:D17) -> 50000000
A20: Keterangan | B20: : .....................................................................................................................
A21: Transaksi 2
A22: Toko "HARUM"
A25: FAKTUR
A26: Nama cutomer | B26: : Dekorasi SIDA | C26: Tanggal | D26: : 2/11/2017
A27: Alamat | B27: : Pucakwangi | C27: Nomor | D27: : 001
C28: Keterangan | D28: : n/30 (JT tanggal 1 Agustus 2017)
A29: Jumlah barang | B29: Deskripsi barang/jasa | C29: Harga per unit | D29: Total harga
A30: 1 | B30: Peralatan dekorasi | C30: 7500000 | D30: =A30*C30 -> 7500000
A31: Uang muka | D31: =SUM(D30:D30) -> 7500000
A32: Total pembelian
A33: Pajak pertambahan nilai | C33: 0
A34: Asuransi | C34: 0
A35: Total hutang | C35: =D31 -> 7500000
C36: Bagian penjualan
C37: Andi
A39: Transaksi 3
A40: Toko "LARIS"
A43: NOTA KONTAN
A44: Nama cutomer | B44: : Dekorasi SIDA | C44: Tanggal | D44: : 3/11/2017
A45: Alamat | B45: : Pucakwangi | C45: Nomor | D45: : 001
A47: Jumlah barang | B47: Deskripsi barang/jasa | C47: Harga per unit | D47: Total harga
A48: 1 | B48: Perlengkapan dekor | C48: 1750000 | D48: =A48*C48 -> 1750000
A49: Total pembelian | D49: =SUM(D48:D48) -> 1750000
A50: Pajak pertambahan nilai | C50: 0
A51: Asuransi | C51: 0
A52: Total bayar | C52: =D49 -> 1750000
C53: Bagian penjualan
C54: Rendi
A55: Transaksi 4
A56: KWITANSI
A57: Telah diterima dari | B57: : Dekorasi SIDA | C57: Tanggal | D57: : 4/11/2017
A58: Alamat | B58: : Pucakwangi | C58: Nomor | D58: : 001
A59: Uang sejumlah | B59: : Tiga juta lima ratus ribu
A60: Digunakan untuk
A61: Deskripsi barang/jasa | C61: Jumlah bayar | D61: Total bayar
A62: Sewa kantor bulan Juli - Desember | C62: 3500000 | D62: =C62 -> 3500000
D63: Penerima uang
D65: Rudi
A67: Transaksi 5
A68: Dealer MAJU
A71: NOTA KONTAN
A72: Nama cutomer | B72: : Dekorasi SIDA | C72: Tanggal | D72: : 8/11/2017
A73: Alamat | B73: : Pucakwangi | C73: Nomor | D73: : 001
A75: Jumlah barang | B75: Deskripsi barang/jasa | C75: Harga per unit | D75: Total harga
A76: 1 | B76: Mobil Truk | C76: 90000000 | D76: =A76*C76 -> 90000000
A77: Total pembelian | D77: =SUM(D76:D76) -> 90000000
A78: Pajak pertambahan nilai | C78: 0
A79: Asuransi | C79: 0
A80: Total bayar | C80: 15000000
A82: Transaksi 6
A83: Dekorasi "SIDA"
A86: BUKTI KAS MASUK
A88: No. Bukti | B88: BKM-002
A89: Tanggal | B89: 43048
A90: Diterima dari | B90: Kasir
A91: Banyaknya uang | B91: Empat juta rupiah
B92: 4000000
A93: Rincian pemasukan | B93: Pendapatan Dekorasi dari tanggal 4/12/2017 – 9/12/2017
A94: Jumlah barang | B94: Deskripsi barang/jasa | C94: Harga per unit | D94: Total harga
B95: Pendapatan Dekorasi | D95: =B92 -> 4000000
A97: Total kas masuk | D97: =SUM(D95:D96) -> 4000000
A99: Keterangan | B99: : .....................................................................................................................
A100: Transaksi 7
A101: Toko "HARUM"
A104: FAKTUR
A105: Nama cutomer | B105: : Dekorasi SIDA | C105: Tanggal | D105: : 10/11/2017
A106: Alamat | B106: : Pucakwangi | C106: Nomor | D106: : 002
C107: Keterangan | D107: : n/10 (JT tanggal 19 Agustus 2017)
A108: Jumlah barang | B108: Deskripsi barang/jasa | C108: Harga per unit | D108: Total harga
A109: 1 | B109: Perlengkapan | C109: 1250000 | D109: =A109*C109 -> 1250000
A110: Uang muka | D110: =SUM(D109:D109) -> 1250000
A111: Total pembelian
A112: Pajak pertambahan nilai | C112: 0
A113: Asuransi | C113: 0
A114: Total hutang | C114: =D110 -> 1250000
C115: Bagian penjualan
C116: Andi
A117: Transaksi 8
A118: Dekorasi "SIDA"
A121: BUKTI KAS KELUAR
A123: No. Bukti | B123: BKK-001
A124: Tanggal | B124: 43054
A125: Digunakan untuk | B125: Pembayaran gaji pegawai
A126: Banyaknya uang | B126: Enam juta rupiah
B127: 6000000
A128: Rincian pengeluaran | B128: Beban gaji
A129: Jumlah barang | B129: Deskripsi barang/jasa | C129: Harga per unit | D129: Total harga
...

Sheet 2.1
A1: LEMBAR KERJA SISWA
A2: REFERENSI
A3: Nama Perusahaan | D3: : Salon sida
A4: Jurnal Umum (JU) Halaman | D4: : 1
A7: JURNAL UMUM
A9: Tanggal | B9: Nomor bukti | C9: Keterangan | D9: Ref | E9: D | F9: K
A11: 43072 | B11: 001 | C11: Peralatan | D11: √ | E11: ='1.1'!C52 -> 1750000
C12: Kas | F12: =E11 -> 1750000
A13: 43073 | B13: 002 | C13: Perlengkapan | D13: √ | E13: ='1.1'!#REF! -> #REF!
C14: Kas | F14: =E13 -> #REF!
A15: 43079 | B15: BKM-001 | C15: Kas | D15: √ | E15: ='1.1'!D97 -> 4000000
C16: Pendapatan salon | F16: =E15 -> 4000000
A17: 43081 | B17: 003 | C17: Peralatan | D17: √ | E17: ='1.1'!#REF! -> #REF!
C18: Kas | F18: =E17 -> #REF!
A19: 43089 | B19: BKM-002 | C19: Kas | D19: √ | E19: ='1.1'!D284 -> 22500000
C20: Pendapatan salon | F20: =E19 -> 22500000
A21: 43092 | B21: BKK-001 | C21: Beban listrik | D21: √ | E21: ='1.1'!D305 -> 6500000
C22: Kas | F22: =E21 -> 6500000
A23: 43092 | B23: BKK-002 | C23: Beban air | D23: √ | E23: ='1.1'!D325 -> 7500000
C24: Kas | F24: =E23 -> 7500000
A25: 43098 | B25: BKM-003 | C25: Kas | D25: √ | E25: ='1.1'!#REF! -> #REF!
C26: Pendapatan salon | F26: =E25 -> #REF!
A27: 43099 | B27: BKK-003 | C27: Beban gaji | D27: √ | E27: ='1.1'!#REF! -> #REF!
C28: Kas | F28: =E27 -> #REF!
E44: =SUM(E11:E43) -> #REF! | F44: =SUM(F11:F43) -> #REF!
A45: REFERENSI
A46: Nama Perusahaan | D46: : ................
A47: Jurnal Penyesuaian (JPe) Halaman | D47: : 1
A48: JURNAL PENYESUAIAN
A49: Tanggal | B49: Nomor Bukti | D49: Ref | E49: D | F49: K
A51: 43100 | B51: BM-001 | C51: Beban perlengkapan | D51: √ | E51: 75000
C52: Perlengkapan | F52: 75000
A55: REFERENSI
A56: Nama Perusahaan | D56: : Salon SIDA
A57: Jurnal Penyesuaian (JPen) Halaman | D57: : 1
A58: JURNAL PENUTUP
A59: Tanggal | D59: Ref | E59: D | F59: K

Sheet 3.1
A3: JURNAL PENERIMAAN KAS | J3: JURNAL PENGELUARAN KAS | S3: JURNAL KHUSUS PENJUALAN | AA3: JURNAL KHUSUS PEMBELIAN
F4: JK. Kas Masuk | H4: Hal : | O4: JK. Kas Keluar | Q4: Hal : | S4: Jpen. Hal : | AA4: JP. Hal :
A5: Tgl | B5: No Bukti | C5: Keterangan | D5: D | F5: K | J5: Tgl | K5: No Bukti | L5: Keterangan | M5: D | P5: K | S5: Tgl | T5: No. Faktur | U5: Akun yang di debit (Nama customer) | V5: D | W5: K | AA5: Tgl | AB5: No. Faktur | AC5: Akun yang di debit (Nama Suplayer) | AD5: D | AG5: K
D6: Kas | E6: Potongan | F6: Piutang | G6: Penjualan | H6: Serba serbi | M6: Utang | N6: Pembelian | O6: Serba serbi | P6: Kas | Q6: Potongan | V6: Piutang | W6: Perkiraan (Nama Akun) | X6: Ref | Y6: Nominal | AD6: Perkiraan (Nama Akun) | AE6: Ref | AF6: Nominal | AG6: Utang

Sheet 4.1
A3: BUKU BESAR
A4: Nama akun | B4: Kas | D4: Nomor akun | E4: 1-1100
A5: Tanggal | B5: Keterangan | C5: Ref | D5: Debit | E5: Kredit | F5: Saldo
F6: Debit | G6: Kredit
A7: 43069 | B7: Saldo awal | C7: Neraca | D7: 0
A8: ='2.1'!A11 -> 43072 | B8: Toko Edi | C8: JU-hal 1 | E8: ='2.1'!F12 -> 1750000 | G8: =E8 -> 1750000
A9: ='2.1'!A13 -> 43073 | B9: Toko Edi | C9: JU-hal 1 | E9: ='2.1'!F14 -> #REF! | G9: =G8+E9 -> #REF!
A10: ='2.1'!A15 -> 43079 | B10: Kasir | C10: JU-hal 1 | D10: ='2.1'!E15 -> 4000000 | F10: =D10-G9 -> #REF!
A11: 43081 | B11: Toko Edi | C11: JU-hal 1 | E11: ='2.1'!F18 -> #REF! | G11: =E11-F10 -> #REF!
A12: 43089 | B12: Kasir | C12: JU-hal 1 | D12: ='2.1'!E19 -> 22500000 | F12: =D12-G11 -> #REF!
A13: 43092 | B13: Kantor pos | C13: JU-hal 1 | E13: ='2.1'!F22 -> 6500000 | F13: =F12-E13 -> #REF!
A14: 43093 | B14: PDAM | C14: JU-hal 1 | E14: ='2.1'!F24 -> 7500000 | F14: =F13-E14 -> #REF!
A15: 43098 | B15: Kasir | C15: JU-hal 1 | D15: ='2.1'!E25 -> #REF! | F15: =F14+D15 -> #REF!
A16: 30/29/2017 | B16: Gaji pegawai | C16: JU-hal 1 | E16: ='2.1'!F28 -> #REF! | F16: =F15-E16 -> #REF!
A22: BUKU BESAR
A23: Nama akun | B23: Perlengkapan | D23: Nomor akun | E23: 1-1600
A24: Tanggal | B24: Keterangan | C24: Ref | D24: Debit | E24: Kredit | F24: Saldo
F25: Debit | G25: Kredit
A26: 43069 | B26: Saldo awal | C26: Neraca | D26: 0
A27: ='2.1'!A13 -> 43073 | B27: Toko Edi | C27: JU-hal 1 | D27: ='2.1'!E13 -> #REF! | F27: =D27 -> #REF!
A28: 43100 | B28: Beban perlengkapan | C28: JP-hal 1 | E28: ='2.1'!F52 -> 75000 | F28: =F27-E28 -> #REF!
A31: BUKU BESAR
A32: Nama akun | B32: Peralatan | D32: Nomor akun | E32: 2-2100
A33: Tanggal | B33: Keterangan | C33: Ref | D33: Debit | E33: Kredit | F33: Saldo
F34: Debit | G34: Kredit
A35: 43069 | B35: Saldo awal | C35: Neraca | D35: 0
A36: ='2.1'!A11 -> 43072 | B36: Toko Edi | C36: JU-hal 1 | D36: ='2.1'!E11 -> 1750000 | F36: =D36 -> 1750000
A37: 43081 | B37: Toko Edi | C37: JU-hal 1 | D37: ='2.1'!E17 -> #REF! | F37: =F36+D37 -> #REF!
A40: BUKU BESAR
A41: Nama akun | B41: Meja dan bilik komputer | D41: Nomor akun
A42: Tanggal | B42: Keterangan | C42: Ref | D42: Debit | E42: Kredit | F42: Saldo
F43: Debit | G43: Kredit
A47: BUKU BESAR
A48: Nama akun | B48: Printer | D48: Nomor akun | E48: 0.044444444
A49: Tanggal | B49: Keterangan | C49: Ref | D49: Debit | E49: Kredit | F49: Saldo
F50: Debit | G50: Kredit
C51: JU.hal 1 | D51: ='2.1'!E17 -> #REF! | F51: =D51 -> #REF!
A53: BUKU BESAR
A54: Nama akun | B54: Scaner | D54: Nomor akun | E54: 0.045138889
A55: Tanggal | B55: Keterangan | C55: Ref | D55: Debit | E55: Kredit | F55: Saldo
F56: Debit | G56: Kredit
D57: ='2.1'!E18 -> 0 | F57: =D57 -> 0
A59: BUKU BESAR
A60: Nama akun | B60: Almari etalase | D60: Nomor akun | E60: 0.045833333
A61: Tanggal | B61: Keterangan | C61: Ref | D61: Debit | E61: Kredit | F61: Saldo
F62: Debit | G62: Kredit
D63: ='2.1'!E19 -> 22500000 | F63: =D63 -> 22500000
A65: BUKU BESAR
A66: Nama akun | B66: Akses internet | D66: Nomor akun | E66: 0.046527778
A67: Tanggal | B67: Keterangan | C67: Ref | D67: Debit | E67: Kredit | F67: Saldo
F68: Debit | G68: Kredit
D69: ='2.1'!E20 -> 0 | F69: =D69 -> 0

Sheet 4.2
A3: BUKU BESAR
A4: Nama akun | B4: Hutang | D4: Nomor akun | E4: 2-1100
A5: Tanggal | B5: Keterangan | C5: Ref | D5: Debit | E5: Kredit | F5: Saldo
F6: Debit | G6: Kredit

Sheet 4.3
A3: BUKU BESAR
A4: Nama akun | B4: Modal | D4: Nomor akun | E4: 3-1100
A5: Tanggal | B5: Keterangan | C5: Ref | D5: Debit | E5: Kredit | F5: Saldo
F6: Debit | G6: Kredit

Sheet 4.4
A3: BUKU BESAR
A4: Nama akun | B4: Pendapatan salon | D4: Nomor akun | E4: 4-1100
A5: Tanggal | B5: Keterangan | C5: Ref | D5: Debit | E5: Kredit | F5: Saldo
F6: Debit | G6: Kredit
A7: 43434 | B7: Saldo awal | C7: Neraca | E7: 0
A8: ='2.1'!A15 -> 43079 | B8: Kasir | C8: JU-hal 1 | E8: ='2.1'!F16 -> 4000000 | G8: =E8 -> 4000000
A9: 43089 | B9: Kasir | C9: JU-hal 1 | E9: ='2.1'!E19 -> 22500000 | G9: =G8+E9 -> 26500000
A10: 43098 | B10: Kasir | C10: JU-hal 1 | E10: ='2.1'!F26 -> #REF! | G10: =G9+E10 -> #REF!

Sheet 4.5
A3: BUKU BESAR
A4: Nama akun | B4: Beban listrik | D4: Nomor akun | E4: 6-1100
A5: Tanggal | B5: Keterangan | C5: Ref | D5: Debit | E5: Kredit | F5: Saldo
F6: Debit | G6: Kredit
A7: 43069 | B7: Neraca | C7: Neraca | D7: 0
A8: 43092 | B8: Kantor pos | C8: JU-hal 1 | D8: ='2.1'!E21 -> 6500000 | F8: =D8 -> 6500000
A11: BUKU BESAR
A12: Nama akun | B12: Beban air | D12: Nomor akun | E12: 6-1200
A13: Tanggal | B13: Keterangan | C13: Ref | D13: Debit | E13: Kredit | F13: Saldo
F14: Debit | G14: Kredit
A15: 43069 | B15: Neraca | C15: Neraca | D15: 0
A16: 43093 | B16: PDAM | C16: JU-hal 1 | D16: ='2.1'!E23 -> 7500000 | F16: =D16 -> 7500000
A18: BUKU BESAR
A19: Nama akun | B19: Beban bunga | D19: Nomor akun | E19: 0.21041667
A20: Tanggal | B20: Keterangan | C20: Ref | D20: Debit | E20: Kredit | F20: Saldo
F21: Debit | G21: Kredit
A25: BUKU BESAR
A26: Nama akun | B26: Beban gaji | D26: Nomor akun | E26: 6-1700
A27: Tanggal | B27: Keterangan | C27: Ref | D27: Debit | E27: Kredit | F27: Saldo
F28: Debit | G28: Kredit
A29: 43069 | B29: Neraca | C29: Neraca | D29: 0
A30: 43099 | B30: Gaji bulan Desember | C30: JU-hal 1 | D30: ='2.1'!E27 -> #REF! | F30: =D30 -> #REF!
A32: BUKU BESAR
A33: Nama akun | B33: Beban lain-lain | D33: Nomor akun | E33: 0.21180556
A34: Tanggal | B34: Keterangan | C34: Ref | D34: Debit | E34: Kredit | F34: Saldo
F35: Debit | G35: Kredit
B36: Modifikasi garasi | D36: ='2.1'!E13 -> #REF! | F36: =D36 -> #REF!
A39: BUKU BESAR
A40: Nama akun | B40: Beban perlengkapan | D40: Nomor akun | E40: 6-1300
A41: Tanggal | B41: Keterangan | C41: Ref | D41: Debit | E41: Kredit | F41: Saldo
F42: Debit | G42: Kredit
A43: 43069 | B43: Saldo awal | C43: Neraca | D43: 0
A44: 43100 | B44: Beban perlengkapan | C44: JP-hal 1 | D44: ='2.1'!E51 -> 75000 | F44: =D44 -> 75000

Sheet 5.1
A1: Salon SIDA
A2: Kertas Kerja
A3: Periode 31 Desember 2017
A5: Nomor Akun | B5: Nama Akun | C5: Neraca saldo | E5: Penyesuaian | G5: Neraca saldo setelah penyesuaian | I5: Laporan laba rugi | K5: Neraca
C6: D | D6: K | E6: D | F6: K | G6: D | H6: K | I6: D | J6: K | K6: D | L6: K
C7: 1 | D7: 2 | E7: 3 | F7: 4 | G7: 5 | H7: 6 | I7: 7 | J7: 8 | K7: 11 | L7: 12
A8: ='4.1'!E4 -> 1-1100 | B8: ='4.1'!B4 -> Kas | C8: ='4.1'!F16 -> #REF! | G8: =C8 -> #REF! | H8: =D8 -> 0 | K8: =G8 -> #REF! | L8: =H8 -> 0
A9: ='4.1'!E23 -> 1-1600 | B9: ='4.1'!B23 -> Perlengkapan | C9: ='4.1'!F27 -> #REF! | F9: 75000 | G9: 25000 | H9: =D9 -> 0 | K9: =G9 -> 25000 | L9: =H9 -> 0
A10: ='4.1'!E32 -> 2-2100 | B10: ='4.1'!B32 -> Peralatan | C10: ='4.1'!F37 -> #REF! | G10: =C10 -> #REF! | H10: =D10 -> 0 | K10: =G10 -> #REF! | L10: =H10 -> 0
A11: ='4.2'!E4 -> 2-1100 | B11: ='4.2'!B4 -> Hutang | D11: 0 | G11: =C11 -> 0 | H11: =D11 -> 0 | K11: =G11 -> 0 | L11: =H11 -> 0
A12: ='4.3'!E4 -> 3-1100 | B12: ='4.3'!B4 -> Modal | D12: 0 | G12: =C12 -> 0 | H12: =D12 -> 0 | K12: =G12 -> 0 | L12: =H12 -> 0
A13: ='4.4'!E4 -> 4-1100 | B13: ='4.4'!B4 -> Pendapatan salon | D13: ='4.4'!G10 -> #REF! | G13: =C13 -> 0 | H13: =D13 -> #REF! | I13: =C13 -> 0 | J13: =D13 -> #REF!
A14: ='4.5'!E4 -> 6-1100 | B14: ='4.5'!B4 -> Beban listrik | C14: ='4.5'!F8 -> 6500000 | G14: =C14 -> 6500000 | H14: =D14 -> 0 | I14: =C14 -> 6500000 | J14: =D14 -> 0
A15: ='4.5'!E12 -> 6-1200 | B15: ='4.5'!B12 -> Beban air | C15: ='4.5'!F16 -> 7500000 | G15: =C15 -> 7500000 | H15: =D15 -> 0 | I15: =C15 -> 7500000 | J15: =D15 -> 0
A16: ='4.5'!E40 -> 6-1300 | B16: ='4.5'!B40 -> Beban perlengkapan | E16: ='4.5'!F44 -> 75000 | G16: =E16 -> 75000 | I16: =G16 -> 75000
A17: ='4.5'!E26 -> 6-1700 | B17: ='4.5'!B26 -> Beban gaji | C17: ='4.5'!F30 -> #REF! | G17: =C17 -> #REF! | H17: =D17 -> 0 | I17: =C17 -> #REF! | J17: =D17 -> 0
C18: =SUM(C8:C17) -> #REF! | D18: =SUM(D8:D17) -> #REF! | E18: =SUM(E8:E17) -> 75000 | F18: =SUM(F8:F17) -> 75000 | G18: =SUM(G8:G17) -> #REF! | H18: =SUM(H8:H17) -> #REF! | I18: =SUM(I8:I17) -> #REF! | J18: =SUM(J8:J17) -> #REF! | K18: =SUM(K8:K17) -> #REF!
B19: Laba/rugi | H19: =H18-G18 -> #REF! | I19: =J18-I18 -> #REF! | L19: =I19 -> #REF!
B20: Total | C20: =SUM(C8:C17) -> #REF! | D20: =SUM(D8:D17) -> #REF! | E20: =SUM(E8:E17) -> 75000 | F20: =SUM(F8:F17) -> 75000 | G20: =SUM(G8:G17) -> #REF! | H20: =SUM(H8:H17) -> #REF! | I20: =I18+I19 -> #REF! | J20: =J18+J19 -> #REF! | K20: =K18+K19 -> #REF! | L20: =L18+L19 -> #REF!
A31: Laba bersih | I31: =J30-I30 -> 0 | L31: =K32-L30 -> 0
I32: =I30+I31 -> 0 | J32: =J30 -> 0 | K32: =K30 -> 0 | L32: =L30+L31 -> 0

Sheet 6.1
A1: NERACA SALON SIDA
A2: Per 31 Desember 2017
A4: Nomor Akun | B4: Nama Akun | C4: Neraca saldo
C5: D | D5: K
C6: 1 | D6: 2
A7: ='5.1'!A8 -> 1-1100 | B7: ='5.1'!B8 -> Kas | C7: ='5.1'!K8 -> #REF! | D7: ='5.1'!L8 -> 0
A8: ='5.1'!A9 -> 1-1600 | B8: ='5.1'!B9 -> Perlengkapan | C8: ='5.1'!K9 -> 25000 | D8: ='5.1'!L9 -> 0
A9: ='5.1'!A10 -> 2-2100 | B9: ='5.1'!B10 -> Peralatan | C9: ='5.1'!K10 -> #REF! | D9: ='5.1'!L10 -> 0
A10: ='5.1'!A11 -> 2-1100 | B10: ='5.1'!B11 -> Hutang | C10: ='5.1'!K11 -> 0 | D10: ='5.1'!L11 -> 0
A11: ='5.1'!A12 -> 3-1100 | B11: ='5.1'!B12 -> Modal | C11: ='5.1'!K12 -> 0 | D11: ='5.1'!L12 -> 0
A12: 3-1300 | B12: Ikhtisar laba rugi | C12: ='5.1'!K13 -> 0 | D12: ='5.1'!L19 -> #REF!
C13: =SUM(C7:C12) -> #REF! | D13: =SUM(D7:D12) -> #REF!

Sheet 6.2
A1: LAPORAN LABA RUGI
A2: Per 31 Desember 2017
A4: Pendapatan
A5: ='5.1'!B13 -> Pendapatan salon | B5: ='5.1'!J13 -> #REF!
A7: Total pendapatan | C7: =SUM(B5:B6) -> #REF!
A9: Beban
A10: ='5.1'!B14 -> Beban listrik | B10: ='5.1'!I14 -> 6500000
A11: ='5.1'!B15 -> Beban air | B11: ='5.1'!I15 -> 7500000
A12: ='5.1'!B16 -> Beban perlengkapan | B12: ='5.1'!I16 -> 75000
A13: ='5.1'!B17 -> Beban gaji | B13: ='5.1'!I17 -> #REF!
A14: Total Beban | C14: =SUM(B10:B13) -> #REF!
A15: Laba/Rugi sebelum pajak | C15: =C7-C14 -> #REF!
A16: Pajak penghasilan | C16: 0
A17: Laba/Rugi setelah pajak | D17: =C15-C16 -> #REF!

Sheet 6.3
A1: LAPORAN PERUBAHAN MODAL
A2: Per 31 Desember 2017
A4: Modal awal | B4: 0
A5: Prive | B5: 0
C6: =B4-B5 -> 0
A7: Laba | C7: ='6.2'!D17 -> #REF!
A8: Modal Akhir | D8: =C6+C7 -> #REF!

Sheet 6.4
