Workbook

Sheet beban-reksi tumpuan-Mmax
B2: SOAL : | D2: P1 | E2: P2
G3: Wd (belum termasuk berat sendiri balok)
G4: Wl
B5: A | G5: B
B7: RA | G7: RB
C9: 2 | E9: 1 | F9: 1
B11: Data-data :
B12: L = | C12: =C9+E9+F9 -> 4 | D12: m
B13: P1 = | C13: 3 | D13: ton | F13: P1 dan P2 adalah beban mati terpusat
B14: P2= | C14: 4 | D14: ton
B15: Wd= | C15: 2 | D15: t/m' | E15: Wd dan Wl adalah dari beban mati dan beban hidup plat lantai
B16: Wl= | C16: 1 | D16: t/m'
B17: fc = | C17: 35 | D17: Mpa
B18: fy = | C18: 250 | D18: Mpa | F18: Bj Beton = | G18: 2400 | H18: kg/m3
B19: φ = | C19: 0.8 | G19: =G18/100 -> 24 | H19: KN/m3
B20: d' = | C20: 50 | D20: mm
B23: Hitung : | C23: 1. Momen ultimite max
C24: 2. Dimensi dan Penulangan balok
C25: 3. Gambar penulangan
B27: Penyelesaian
B28: 1. Dimensi Balok
B29: h = | C29: (1/8 s.d 1/16) L | F29: b = | G29: ( 1/2 s.d 2/3 ) h
B30: h = | C30: 0.45 | D30: m | F30: b = | G30: 0.2 | H30: m
B31: h = | C31: =C30*1000 -> 450 | D31: mm | F31: b = | G31: =G30*1000 -> 200 | H31: mm
B33: berat sendiri balok = | D33: b x h x Bj beton | L33: Pu1 | M33: Pu2
B34: Wbs balok = | D34: =G30*C30*G18 -> 216 | E34: kg/m' | O34: Wu
D35: =D34/1000 -> 0.216 | E35: ton/m'
J36: A | O36: B
B37: 2. Pembebanan Balok ( Wu )
C38: Wu = | D38: 1,2 Wd + 1,6 Wl + 1,2 Wbs | G38: Wu = | H38: =1.2*C15+1.6*C16+1.2*D35 -> 4.2592 | I38: ton/m | J38: RA | O38: RB
C39: Pu1= | D39: 1,2 P1 | G39: Pu1 = | H39: =1.2*C13 -> 3.6 | I39: ton
C40: Pu2= | D40: 1,2 P2 | G40: Pu2 = | H40: =1.2*C14 -> 4.8 | I40: ton | K40: 2 | M40: 1 | N40: 1
B42: 3. Reaksi Tumpuan | I42: Gambar Bidang gaya Lintang (Bidang D)
B43: a. | C43: Σ M B = 0
C44: RA . 4 -(Wu . 4 . 2) - (Pu1 . 2) - (Pu2 . 1) = 0 | H44: =D45 -> 11.5184
C45: RA = | D45: =(H38*C12*0.5*C12+H39*(E9+F9)+H40*F9)/C12 -> 11.5184 | E45: ton | K45: =D45-H38*C9 -> 3
H46: A | M46: B
C47: Σ M A = 0
C48: -RB . 4 +(Wu . 4 . 2) + (Pu1. 2) + (Pu2 . 3) = 0 | J48: =K45-H39 -> -0.6
C49: RB = | D49: =(H38*C12*0.5*C12+H39*C9+H40*(C9+E9))/C12 -> 13.9184 | E49: ton | K49: =J48-H38*E9 -> -4.8592
...

Sheet Penulangan
B2: ANALISA PENULANGAN BALOK
B4: Data :
B5: h = | C5: ='beban-reksi tumpuan-Mmax'!C31 -> 450 | D5: mm
B6: b = | C6: ='beban-reksi tumpuan-Mmax'!G31 -> 200 | D6: mm
B7: d' = | C7: ='beban-reksi tumpuan-Mmax'!C20 -> 50 | D7: mm
B8: d = h-d'= | C8: =C5-C7 -> 400 | D8: mm
B9: f = | C9: ='beban-reksi tumpuan-Mmax'!C19 -> 0.8
B10: fc = | C10: ='beban-reksi tumpuan-Mmax'!C17 -> 35 | D10: MPa
B11: fy= | C11: ='beban-reksi tumpuan-Mmax'!C18 -> 250 | D11: MPa
B12: rmin = | C12: ='beban-reksi tumpuan-Mmax'!D66 -> 0.0056 | F12: s= ( b - (2p+2 f skg + nf TP))/(n-1)
B13: r max= | C13: ='beban-reksi tumpuan-Mmax'!D79 -> 0.0342
B14: p = | C14: 25 | D14: mm (selimut beton) | F14: Syarat : | G14: rmin < r < rmax
B15: f sengkang= | C15: 8 | D15: mm | F15: rmin < | G15: r | H15: < rmax
F17: =C12 -> 0.0056 | G17: =G25 -> 0.025394605 | H17: =C13 -> 0.0342
B18: TABEL PENULANGAN
B20: BALOK | C20: Mu | D20: Mn= | E20: Rn = | F20: m= | G20: r= | H20: Tulangan Tarik | N20: Tulangan Tekan | T20: Gambar
D21: Mu/f | E21: Mn/(b.d^2) | F21: fy/(0,85.fc) | G21: 1/m (1- (1-(2mRn)/fy)^(1/2) | H21: As = r . b.d | I21: Dipakai Tul | K21: At= | L21: At > As | M21: Kontrol S = | N21: As' = | O21: Dipakai Tul | Q21: At'= | R21: At' > As' | S21: Kontrol S =
I22: n | J22: f | M22: s > = 25 mm | N22: 0,5 * As | O22: n | P22: f | S22: s > = 25 mm
C23: (N.mm) | D23: (N.mm) | E23: (N/mm^2) | H23: (mm^2) | I23: (bh) | K23: (mm^2) | L23: (+) | M23: (mm) | N23: (mm^2) | O23: (bh) | Q23: (mm^2) | R23: (+) | S23: (mm)
B25: Balok A-B | C25: ='beban-reksi tumpuan-Mmax'!D61 -> 145184000 | D25: =C25/C9 -> 181480000 | E25: =D25/(C6*C8^2) -> 5.67125 | F25: =C11/(0.85*C10) -> 8.4033613 | G25: =1/F25*(1-(1-(2*F25*E25)/C11)^(1/2)) -> 0.025394605 | H25: =G25*C6*C8 -> 2031.5684 | I25: 2 | J25: 25 | K25: =0.25*3.14*J25^2*I25+0.25*3.15*J26^2*I26 -> 2457.8125 | L25: =K25-H25 -> 426.24411 | M25: =($C$6-(2*$C$14+2*$C$15+I25*J25))/(I25-1) -> 84 | N25: =0.5*H25 -> 1015.7842 | O25: 3 | P25: 25 | Q25: =0.25*3.14*P25^2*O25+0.25*3.15*P26^2*O26 -> 1471.875 | R25: =Q25-N25 -> 456.09081 | S25: =($C$6-(2*$C$14+2*$C$15+O25*P25))/(O25-1) -> 29.5
B26: L= 4,00 m | I26: 3 | J26: 25 | M26: =($C$6-(2*$C$14+2*$C$15+I26*J26))/(I26-1) -> 29.5

Sheet perhitungan tulangan geser

Sheet perh tul balk induk
B2: Menghitung Reaksi tumpuan As A'(4-7) | F2: qe trapesium
B3: qu plat = | C3: 800 | D3: kg/m2
B4: plat d
B5: lx= | C5: 1.725 | D5: m
B6: ly= | C6: 4 | D6: m
B7: Bj beton = | C7: 2400 | D7: kg/m3 | G7: qt = | H7: =F14 -> 771.61875 | I7: kg/m'
B8: qe trap = | C8: =0.5*(C6/C5-0.5)*C3*C5^2/C6 -> 541.21875 | D8: kg/m'
B9: perkiraan balok anak | F9: 4 | I9: 7
B10: h= | C10: =1/10*C6 -> 0.4 | D10: m | G10: M4 | H10: M7
B11: b= | C11: =0.5*C10 -> 0.2 | D11: m | F11: V4 | I11: V7
B12: bs balok anak = | C12: =1.2*C10*C11*2400 -> 230.4 | D12: kg/m' | G12: L = 4 m
C13: 1,2 x h x b x Bj beton | J13: M4=M7= | K13: 1/12.qu.L^2
B14: q total balok anak= | C14: qe trap d + q bs blk anak= | F14: =C8+C12 -> 771.61875 | G14: kg/m' | K14: =1/12*F14*C6^2 -> 1028.825 | L14: kg.m
J15: reaksi tumpuan
J16: V4=V7= | K16: 0,5*q.L
K17: =0.5*F14*C6 -> 1543.2375 | L17: kg
B19: Analisa balok induk AS 4 (A-B)
B20: L = | C20: 3 | D20: m
B21: plat d | J21: qe segitiga
B22: lx= | C22: 1.725 | D22: m | E22: qe sgtg d= | F22: =0.25*C3*C22 -> 345 | G22: kg/m'
B23: plat b =
B24: lx= | C24: 3 | D24: m | E24: qe sgtg b= | F24: =0.25*C3*C24 -> 600 | G24: kg/m'
B25: bs balok (L= 3,00 m)
B26: h= | C26: 0.3 | D26: m | H26: =K17 -> 1543.2375 | I26: kg
B27: b= | C27: 0.2 | D27: m
B28: bs balk= | C28: 1,2 * h * b * bj beton | H28: =F22+F24+C29 -> 1117.8
C29: =1.2*C26*C27*2400 -> 172.8 | D29: kg/m | F29: =F24+C29 -> 772.8
B31: Mencari Mtumpuan (mengambil dari tabel momen primer
B32: MA total | C32: diambil yg terbesar
B33: Mb total | C33: ut. Penulangan tumpuan
F34: Ma total | I34: Mb total
B35: mencari M lap
B36: Bid D = 0
B37: Penulangan di lapangan
B40: (1,725-x) | C40: x | G40: =F29 -> 772.8
E41: A | J41: B
F43: Ma | I43: Mb
H45: =H28 -> 1117.8
E47: A | J47: B
I48: Mb
...

Sheet Sheet1
